BEGIN:VCALENDAR
VERSION:2.0
PRODID:icalendar-ruby
CALSCALE:GREGORIAN
BEGIN:VTIMEZONE
TZID:America/Chicago
BEGIN:DAYLIGHT
DTSTART:20260308T030000
TZOFFSETFROM:-0600
TZOFFSETTO:-0500
RRULE:FREQ=YEARLY;BYDAY=2SU;BYMONTH=3
TZNAME:CDT
END:DAYLIGHT
BEGIN:STANDARD
DTSTART:20261101T010000
TZOFFSETFROM:-0500
TZOFFSETTO:-0600
RRULE:FREQ=YEARLY;BYDAY=1SU;BYMONTH=11
TZNAME:CST
END:STANDARD
END:VTIMEZONE
BEGIN:VEVENT
DTSTAMP:20260420T025342Z
UID:05c149f5-cbd2-49ce-92ec-ff43cea86bb1
DTSTART:20260428T141500
DTEND:20260428T151500
DESCRIPTION:Middle School Band - SMS Spring 6th Concert
LOCATION:
SUMMARY:Band: SMS Spring 6th Concert (Middle School) (gobound.com)
END:VEVENT
BEGIN:VEVENT
DTSTAMP:20260420T025342Z
UID:9393fda7-51a5-498f-970c-5638a68d43e7
DTSTART:20260428T141500
DTEND:20260428T151500
DESCRIPTION:Middle School Chorus - SMS Spring 6th Grade Concert
LOCATION:
SUMMARY:Chorus: SMS Spring 6th Grade Concert (Middle School) (gobound.com)
END:VEVENT
BEGIN:VEVENT
DTSTAMP:20260420T025342Z
UID:d3513188-85cc-4220-9d26-ec2ee1fec40b
DTSTART:20260428T141500
DTEND:20260428T151500
DESCRIPTION:Middle School Orchestra - SMS Spring 6th Grade Concert
LOCATION:
SUMMARY:Orchestra: SMS Spring 6th Grade Concert (Middle School) (gobound.co
 m)
END:VEVENT
BEGIN:VEVENT
DTSTAMP:20260420T025342Z
UID:c492b76c-a847-491a-8a88-98efcb02ba69
DTSTART:20260428T190000
DTEND:20260428T200000
DESCRIPTION:Middle School Band - SMS Spring 7th & 8th Concert
LOCATION:
SUMMARY:Band: SMS Spring 7th & 8th Concert (Middle School) (gobound.com)
END:VEVENT
BEGIN:VEVENT
DTSTAMP:20260420T025342Z
UID:22d42bda-6b37-4ada-aa73-eae55a801659
DTSTART:20260428T190000
DTEND:20260428T200000
DESCRIPTION:Middle School Chorus - SMS Spring 7th & 8th Concert
LOCATION:
SUMMARY:Chorus: SMS Spring 7th & 8th Concert (Middle School) (gobound.com)
END:VEVENT
BEGIN:VEVENT
DTSTAMP:20260420T025342Z
UID:4e822f44-7503-4d9b-9144-a39f7e3c339b
DTSTART:20260428T190000
DTEND:20260428T200000
DESCRIPTION:Middle School Orchestra - SMS Spring 7th& 8th Concert
LOCATION:
SUMMARY:Orchestra: SMS Spring 7th& 8th Concert (Middle School) (gobound.com
 )
END:VEVENT
BEGIN:VEVENT
DTSTAMP:20260420T025342Z
UID:6f04f1f5-1a35-483f-8a34-e0396e79ace5
DTSTART:20260430T173000
DTEND:20260430T183000
DESCRIPTION:Middle School Band - HMS Spring Concert-6th
LOCATION:Holgate Middle School
SUMMARY:Band: HMS Spring Concert-6th  (Middle School) (gobound.com)
END:VEVENT
BEGIN:VEVENT
DTSTAMP:20260420T025342Z
UID:b3c42bf8-d245-4363-ac0b-67e213bb5e1f
DTSTART:20260430T173000
DTEND:20260430T183000
DESCRIPTION:Middle School Chorus - HMS Spring Concert-6th
LOCATION:Holgate Middle School
SUMMARY:Chorus: HMS Spring Concert-6th (Middle School) (gobound.com)
END:VEVENT
BEGIN:VEVENT
DTSTAMP:20260420T025342Z
UID:09b43bcd-5ff5-46c6-8c5c-78437ba3a066
DTSTART:20260430T173000
DTEND:20260430T203000
DESCRIPTION:
LOCATION:2200 N Dakota St\, Aberdeen\, SD 57401\, USA
SUMMARY:HMS Spring Concert
END:VEVENT
BEGIN:VEVENT
DTSTAMP:20260420T025342Z
UID:dededa67-9d30-4be1-81a5-2dc6c578c84e
DTSTART:20260430T173000
DTEND:20260430T183000
DESCRIPTION:Middle School Orchestra - HMS Spring Concert-6th
LOCATION:Holgate Middle School
SUMMARY:Orchestra: HMS Spring Concert-6th (Middle School) (gobound.com)
END:VEVENT
BEGIN:VEVENT
DTSTAMP:20260420T025342Z
UID:756a3230-31fc-4be5-91e5-a080961c0335
DTSTART:20260430T190000
DTEND:20260430T200000
DESCRIPTION:Middle School Band - HMS Spring Concert-7th & 8th
LOCATION:Holgate Middle School
SUMMARY:Band: HMS Spring Concert-7th & 8th (Middle School) (gobound.com)
END:VEVENT
BEGIN:VEVENT
DTSTAMP:20260420T025342Z
UID:617b23eb-a960-4c53-a826-88edc6199e7c
DTSTART:20260430T190000
DTEND:20260430T200000
DESCRIPTION:Middle School Chorus - HMS Spring Concert-7th & 8th
LOCATION:Holgate Middle School
SUMMARY:Chorus: HMS Spring Concert-7th & 8th (Middle School) (gobound.com)
END:VEVENT
BEGIN:VEVENT
DTSTAMP:20260420T025342Z
UID:5c005c96-6f6a-4166-a8ed-ec1361ca866b
DTSTART:20260430T190000
DTEND:20260430T200000
DESCRIPTION:Middle School Orchestra - HMS Spring Concert-7th & 8th
LOCATION:Holgate Middle School
SUMMARY:Orchestra: HMS Spring Concert-7th & 8th (Middle School) (gobound.co
 m)
END:VEVENT
BEGIN:VEVENT
DTSTAMP:20260420T025342Z
UID:c640f6d5-8fa4-4d78-bd4a-597e15b63211
DTSTART;VALUE=DATE:20260517
DTEND;VALUE=DATE:20260518
DESCRIPTION:
LOCATION:
SUMMARY:CHS Graduation  (District Calendar)
END:VEVENT
BEGIN:VEVENT
DTSTAMP:20260420T025342Z
UID:01a436be-ff8e-434b-9d37-e0b6a1a4fe33
DTSTART;VALUE=DATE:20260519
DTEND;VALUE=DATE:20260520
DESCRIPTION:
LOCATION:
SUMMARY:Last Day of School Half-Day AM ONLY\; PM Staff Development (Distric
 t Calendar)
END:VEVENT
BEGIN:VEVENT
DTSTAMP:20260420T025342Z
UID:ad4b242d-14b4-4a5f-843c-8c1c5c0775b7
DTSTART;VALUE=DATE:20260519
DTEND;VALUE=DATE:20260520
DESCRIPTION:
LOCATION:
SUMMARY:End Quarter 4 (District Calendar)
END:VEVENT
BEGIN:VEVENT
DTSTAMP:20260420T025342Z
UID:a4ee91f2-909f-4dda-9a5e-d5e6aae30c67
DTSTART;VALUE=DATE:20260525
DTEND;VALUE=DATE:20260526
DESCRIPTION:
LOCATION:
SUMMARY:Memorial Day  (District Calendar)
END:VEVENT
BEGIN:VEVENT
DTSTAMP:20260420T025342Z
UID:575c5a12-9be2-4d27-a02e-efecae63d8df
DTSTART;VALUE=DATE:20260810
DTEND;VALUE=DATE:20260811
DESCRIPTION:New Certified Staff
LOCATION:
SUMMARY:New Certified Staff  (District Calendar)
END:VEVENT
BEGIN:VEVENT
DTSTAMP:20260420T025342Z
UID:5505f8ff-3cee-455b-9316-1465a1e1e862
DTSTART;VALUE=DATE:20260811
DTEND;VALUE=DATE:20260812
DESCRIPTION:
LOCATION:
SUMMARY:All Certified Staff Development  (District Calendar)
END:VEVENT
BEGIN:VEVENT
DTSTAMP:20260420T025342Z
UID:1110811b-8e26-411f-bd72-e48bdc59d4a1
DTSTART;VALUE=DATE:20260812
DTEND;VALUE=DATE:20260813
DESCRIPTION:
LOCATION:
SUMMARY:All Certified Staff Development  (District Calendar)
END:VEVENT
BEGIN:VEVENT
DTSTAMP:20260420T025342Z
UID:c2647bd7-bc61-4193-ae2e-a814ba770118
DTSTART;VALUE=DATE:20260813
DTEND;VALUE=DATE:20260814
DESCRIPTION:
LOCATION:
SUMMARY:New Certified Staff  (District Calendar)
END:VEVENT
BEGIN:VEVENT
DTSTAMP:20260420T025342Z
UID:83fd5cfb-40fc-48af-9418-aca1cb208b6e
DTSTART;VALUE=DATE:20260817
DTEND;VALUE=DATE:20260818
DESCRIPTION:
LOCATION:
SUMMARY:All Certified Staff Development  (District Calendar)
END:VEVENT
BEGIN:VEVENT
DTSTAMP:20260420T025342Z
UID:e6c7e388-5c76-4445-be04-60c15d98c248
DTSTART;VALUE=DATE:20260818
DTEND;VALUE=DATE:20260819
DESCRIPTION:
LOCATION:
SUMMARY:Grades 10-12 School in Session PM (District Calendar)
END:VEVENT
BEGIN:VEVENT
DTSTAMP:20260420T025342Z
UID:f4fe9082-4a2e-4f36-87e5-04d919e0fba7
DTSTART;VALUE=DATE:20260818
DTEND;VALUE=DATE:20260819
DESCRIPTION:
LOCATION:
SUMMARY:Grades 1-9 School in Session AM &PM (District Calendar)
END:VEVENT
BEGIN:VEVENT
DTSTAMP:20260420T025342Z
UID:c6838fff-adca-4a91-88af-68fd8556778b
DTSTART;VALUE=DATE:20260907
DTEND;VALUE=DATE:20260908
DESCRIPTION:
LOCATION:
SUMMARY:Labor Day- No School Grades K-12  (District Calendar)
END:VEVENT
BEGIN:VEVENT
DTSTAMP:20260420T025342Z
UID:1962c38f-1982-4b2b-a368-396cc3d6a2f6
DTSTART;VALUE=DATE:20260924
DTEND;VALUE=DATE:20260925
DESCRIPTION:
LOCATION:
SUMMARY:CHS Evening Conferences  (District Calendar)
END:VEVENT
BEGIN:VEVENT
DTSTAMP:20260420T025342Z
UID:21e37327-7950-401c-a3aa-d799542efc91
DTSTART;VALUE=DATE:20261009
DTEND;VALUE=DATE:20261010
DESCRIPTION:
LOCATION:
SUMMARY:Staff Development- No School Grades K-12  (District Calendar)
END:VEVENT
BEGIN:VEVENT
DTSTAMP:20260420T025342Z
UID:47fc5189-fa31-4932-854f-4c70869983ad
DTSTART;VALUE=DATE:20261012
DTEND;VALUE=DATE:20261013
DESCRIPTION:
LOCATION:
SUMMARY:Native Americans' Day- No School Grades K-12  (District Calendar)
END:VEVENT
BEGIN:VEVENT
DTSTAMP:20260420T025342Z
UID:85bb3e31-042e-4f38-ac7e-9694ec4a5d6c
DTSTART;VALUE=DATE:20261016
DTEND;VALUE=DATE:20261017
DESCRIPTION:
LOCATION:
SUMMARY:End of Quarter 1  (District Calendar)
END:VEVENT
BEGIN:VEVENT
DTSTAMP:20260420T025342Z
UID:5aee44ac-0c98-4ba2-8d9a-a9a1c3f69dca
DTSTART;VALUE=DATE:20261022
DTEND;VALUE=DATE:20261023
DESCRIPTION:
LOCATION:
SUMMARY:Grades K-8 Evening Conferences  (District Calendar)
END:VEVENT
BEGIN:VEVENT
DTSTAMP:20260420T025342Z
UID:5267406b-2026-4893-871d-9ce21b64659e
DTSTART;VALUE=DATE:20261023
DTEND;VALUE=DATE:20261024
DESCRIPTION:
LOCATION:
SUMMARY:Grades K-8 Conferences- No School Grades K-8 (District Calendar)
END:VEVENT
BEGIN:VEVENT
DTSTAMP:20260420T025342Z
UID:3ecff097-2d7d-49ec-9ac9-c45206204a0b
DTSTART;VALUE=DATE:20261119
DTEND;VALUE=DATE:20261120
DESCRIPTION:
LOCATION:
SUMMARY:CHS Grades 9-12 Evening Conferences  (District Calendar)
END:VEVENT
BEGIN:VEVENT
DTSTAMP:20260420T025342Z
UID:f3b9cdad-b976-4b12-9b53-ceada6a3cc39
DTSTART;VALUE=DATE:20261125
DTEND;VALUE=DATE:20261126
DESCRIPTION:
LOCATION:
SUMMARY:Staff Development- No School Grades K-12 (District Calendar)
END:VEVENT
BEGIN:VEVENT
DTSTAMP:20260420T025342Z
UID:4e98c04a-cd68-4723-8997-b68517b8cb9c
DTSTART;VALUE=DATE:20261126
DTEND;VALUE=DATE:20261128
DESCRIPTION:
LOCATION:
SUMMARY:Thanksgiving- No School Grades K-12 (District Calendar)
END:VEVENT
BEGIN:VEVENT
DTSTAMP:20260420T025342Z
UID:229d5870-d0ff-488f-9ff3-1dbfbd4e11a7
DTSTART;VALUE=DATE:20261223
DTEND;VALUE=DATE:20261224
DESCRIPTION:
LOCATION:
SUMMARY:End of Quarter 2  (District Calendar)
END:VEVENT
BEGIN:VEVENT
DTSTAMP:20260420T025342Z
UID:c80174be-2bb8-4364-a174-04acf9e73333
DTSTART;VALUE=DATE:20261223
DTEND;VALUE=DATE:20261224
DESCRIPTION:
LOCATION:
SUMMARY:Winter Vacation begins at end of school day  (District Calendar)
END:VEVENT
BEGIN:VEVENT
DTSTAMP:20260420T025342Z
UID:eef956da-3a58-4875-b531-4c8290b1292d
DTSTART;VALUE=DATE:20270104
DTEND;VALUE=DATE:20270105
DESCRIPTION:
LOCATION:
SUMMARY:School Resumes  (District Calendar)
END:VEVENT
BEGIN:VEVENT
DTSTAMP:20260420T025342Z
UID:5e852e59-e018-438d-9b44-fcb9f17d9227
DTSTART;VALUE=DATE:20270118
DTEND;VALUE=DATE:20270119
DESCRIPTION:
LOCATION:
SUMMARY:Staff Development- No School Grades K-12 (District Calendar)
END:VEVENT
BEGIN:VEVENT
DTSTAMP:20260420T025342Z
UID:d279d4e5-4176-4022-b3d6-ab220d4b89e8
DTSTART;VALUE=DATE:20270204
DTEND;VALUE=DATE:20270205
DESCRIPTION:
LOCATION:
SUMMARY:CHS Grades 9-12 Evening Conferences  (District Calendar)
END:VEVENT
BEGIN:VEVENT
DTSTAMP:20260420T025342Z
UID:0cedf456-6e28-46cd-a971-d650d03907bb
DTSTART;VALUE=DATE:20270212
DTEND;VALUE=DATE:20270213
DESCRIPTION:
LOCATION:
SUMMARY:Staff Development- No School Grades K-12  (District Calendar)
END:VEVENT
BEGIN:VEVENT
DTSTAMP:20260420T025342Z
UID:6aec0f90-aa58-44a8-a348-c4fe442d94c9
DTSTART;VALUE=DATE:20270215
DTEND;VALUE=DATE:20270216
DESCRIPTION:
LOCATION:
SUMMARY:President's Day (Teacher Comp)- No School Grades K-12 (District Cal
 endar)
END:VEVENT
BEGIN:VEVENT
DTSTAMP:20260420T025342Z
UID:a0e71c4e-51ae-48ee-89f0-e4a92aac97b4
DTSTART;VALUE=DATE:20270312
DTEND;VALUE=DATE:20270313
DESCRIPTION:
LOCATION:
SUMMARY:End Quarter 3 (District Calendar)
END:VEVENT
BEGIN:VEVENT
DTSTAMP:20260420T025342Z
UID:7262b264-1f29-4345-af7c-56f9123cd819
DTSTART;VALUE=DATE:20270315
DTEND;VALUE=DATE:20270317
DESCRIPTION:
LOCATION:
SUMMARY:Staff Development- No School Grades K-12  (District Calendar)
END:VEVENT
BEGIN:VEVENT
DTSTAMP:20260420T025342Z
UID:ca443918-5a27-44f8-9a39-05f3c5d1822c
DTSTART;VALUE=DATE:20270317
DTEND;VALUE=DATE:20270320
DESCRIPTION:
LOCATION:
SUMMARY:Spring Break- No School Grades K-12 (District Calendar)
END:VEVENT
BEGIN:VEVENT
DTSTAMP:20260420T025342Z
UID:e8ad1865-4bc7-4791-965c-361e5cbe22fb
DTSTART;VALUE=DATE:20270323
DTEND;VALUE=DATE:20270324
DESCRIPTION:
LOCATION:
SUMMARY:Grades K-8 Evening Conferences  (District Calendar)
END:VEVENT
BEGIN:VEVENT
DTSTAMP:20260420T025342Z
UID:65ca10c9-a70e-44a5-b469-b4b74a929c78
DTSTART;VALUE=DATE:20270325
DTEND;VALUE=DATE:20270326
DESCRIPTION:
LOCATION:
SUMMARY:CHS Comp Day- No School Grades 9-12  (District Calendar)
END:VEVENT
BEGIN:VEVENT
DTSTAMP:20260420T025342Z
UID:7262bfb0-7e3d-4b84-9d68-05e8925a9e4b
DTSTART;VALUE=DATE:20270325
DTEND;VALUE=DATE:20270326
DESCRIPTION:
LOCATION:
SUMMARY:Grades K-8 Conferences- No School Grades K-8 (District Calendar)
END:VEVENT
BEGIN:VEVENT
DTSTAMP:20260420T025342Z
UID:37b77bdf-11f7-45ee-a80b-9225a96f2c9d
DTSTART;VALUE=DATE:20270326
DTEND;VALUE=DATE:20270327
DESCRIPTION:
LOCATION:
SUMMARY:Good Friday- No School Grades K-12 (District Calendar)
END:VEVENT
BEGIN:VEVENT
DTSTAMP:20260420T025342Z
UID:b20ab272-1508-477f-9d73-aed36775b91d
DTSTART;VALUE=DATE:20270329
DTEND;VALUE=DATE:20270330
DESCRIPTION:
LOCATION:
SUMMARY:Easter Monday- No School Grades K-12 (District Calendar)
END:VEVENT
END:VCALENDAR
