BEGIN:VCALENDAR
VERSION:2.0
PRODID:icalendar-ruby
CALSCALE:GREGORIAN
BEGIN:VTIMEZONE
TZID:America/New_York
BEGIN:DAYLIGHT
DTSTART:20260308T030000
TZOFFSETFROM:-0500
TZOFFSETTO:-0400
RRULE:FREQ=YEARLY;BYDAY=2SU;BYMONTH=3
TZNAME:EDT
END:DAYLIGHT
BEGIN:STANDARD
DTSTART:20261101T010000
TZOFFSETFROM:-0400
TZOFFSETTO:-0500
RRULE:FREQ=YEARLY;BYDAY=1SU;BYMONTH=11
TZNAME:EST
END:STANDARD
END:VTIMEZONE
BEGIN:VEVENT
DTSTAMP:20260424T161918Z
UID:bb2565b4-38eb-4765-8d11-4e92542b2d5e
DTSTART;VALUE=DATE:20260428
DTEND;VALUE=DATE:20260430
DESCRIPTION:
LOCATION:
SUMMARY:NYS Grades 3–8 Math Assessment
END:VEVENT
BEGIN:VEVENT
DTSTAMP:20260424T161918Z
UID:32874423-5d15-4ae6-afed-a134b9ed8467
DTSTART;VALUE=DATE:20260501
DTEND;VALUE=DATE:20260502
DESCRIPTION:
LOCATION:
SUMMARY:Quarter 3 Honor Roll Student Lunch
END:VEVENT
BEGIN:VEVENT
DTSTAMP:20260424T161918Z
UID:12278ed6-f99f-4caa-85e0-2c0d6cfb71dc
DTSTART;VALUE=DATE:20260508
DTEND;VALUE=DATE:20260509
DESCRIPTION:
LOCATION:
SUMMARY:Staff Development– Early Release (UPK-12)
END:VEVENT
BEGIN:VEVENT
DTSTAMP:20260424T161918Z
UID:e8872e1b-9767-4cce-b7c7-4fb572a3215d
DTSTART;VALUE=DATE:20260511
DTEND;VALUE=DATE:20260512
DESCRIPTION:
LOCATION:
SUMMARY:NYS Grade 5 & 8 Science Assessment
END:VEVENT
BEGIN:VEVENT
DTSTAMP:20260424T161918Z
UID:78f6f349-7c0b-4eed-b272-2ce390348911
DTSTART:20260512T180000
DTEND:20260512T200000
DESCRIPTION:
LOCATION:Tonawanda High School Library Media Center
SUMMARY:Board of Education Budget Hearing and Regular Meeting
END:VEVENT
BEGIN:VEVENT
DTSTAMP:20260424T161918Z
UID:f2dfb5e0-7c7f-48ff-ac87-89e7e1ddf1ca
DTSTART:20260515T070000
DTEND:20260515T080000
DESCRIPTION:
LOCATION:
SUMMARY:MS Yearly Honor Roll Breakfast
END:VEVENT
BEGIN:VEVENT
DTSTAMP:20260424T161918Z
UID:7a988a76-eba7-4f33-8bf0-28e672a48b14
DTSTART;VALUE=DATE:20260519
DTEND;VALUE=DATE:20260520
DESCRIPTION:<em>Certification of Results</em><br>(approx. 8:15 pm)
LOCATION:Wellness Gym
SUMMARY:Budget Vote/Election
END:VEVENT
BEGIN:VEVENT
DTSTAMP:20260424T161918Z
UID:3a978a36-db57-4209-b1d1-a3bb9f458df9
DTSTART:20260520T180000
DTEND:20260520T190000
DESCRIPTION:
LOCATION:
SUMMARY:HS Spring Concert
END:VEVENT
BEGIN:VEVENT
DTSTAMP:20260424T161918Z
UID:2ad1a69e-e3dd-46ce-8e78-d05803dfc2a9
DTSTART;VALUE=DATE:20260522
DTEND;VALUE=DATE:20260526
DESCRIPTION:
LOCATION:
SUMMARY:Memorial Day Recess
END:VEVENT
BEGIN:VEVENT
DTSTAMP:20260424T161918Z
UID:7e2f20e5-028b-42ac-af51-982c881d98bf
DTSTART:20260527T180000
DTEND:20260527T190000
DESCRIPTION:
LOCATION:
SUMMARY:MS Spring Concert
END:VEVENT
BEGIN:VEVENT
DTSTAMP:20260424T161918Z
UID:99baaf1d-bc9c-4ef3-846d-23dcec8c1580
DTSTART:20260528T180000
DTEND:20260528T190000
DESCRIPTION:
LOCATION:
SUMMARY:Grades 4-5 Spring Concert
END:VEVENT
BEGIN:VEVENT
DTSTAMP:20260424T161918Z
UID:68d14641-c6ed-461c-bfd1-22a7e7c7b49b
DTSTART:20260604T173000
DTEND:20260604T183000
DESCRIPTION:
LOCATION:
SUMMARY:HS Awards Night
END:VEVENT
BEGIN:VEVENT
DTSTAMP:20260424T161918Z
UID:d66f2cb6-2ec8-4a86-8c8a-79d4bd35e88d
DTSTART;VALUE=DATE:20260609
DTEND;VALUE=DATE:20260611
DESCRIPTION:
LOCATION:
SUMMARY:Regents Exam (MS in session\, HS exam only)
END:VEVENT
BEGIN:VEVENT
DTSTAMP:20260424T161918Z
UID:b35decad-90d9-4d75-b5ed-80b41e1353bd
DTSTART:20260609T180000
DTEND:20260609T193000
DESCRIPTION:
LOCATION:Tonawanda MS/HS Aud
SUMMARY:Board of Education Meeting/End of Year
END:VEVENT
BEGIN:VEVENT
DTSTAMP:20260424T161918Z
UID:ba0ff8f4-7020-4ecc-b27c-938c8b1de383
DTSTART:20260611T173000
DTEND:20260611T183000
DESCRIPTION:
LOCATION:
SUMMARY:Track Meet Grades 3-5
END:VEVENT
BEGIN:VEVENT
DTSTAMP:20260424T161918Z
UID:6030d814-deeb-4fff-a984-70c714a1492d
DTSTART;VALUE=DATE:20260612
DTEND;VALUE=DATE:20260613
DESCRIPTION:
LOCATION:
SUMMARY:Flag Day Celebration
END:VEVENT
BEGIN:VEVENT
DTSTAMP:20260424T161918Z
UID:88e1808e-871d-4392-9b34-511bc8a939e3
DTSTART;VALUE=DATE:20260616
DTEND;VALUE=DATE:20260617
DESCRIPTION:
LOCATION:
SUMMARY:Field Day Grades 3-5
END:VEVENT
BEGIN:VEVENT
DTSTAMP:20260424T161918Z
UID:e2cea9e7-c880-45a9-b6f7-303eb31e52f1
DTSTART;VALUE=DATE:20260617
DTEND;VALUE=DATE:20260618
DESCRIPTION:
LOCATION:
SUMMARY:Field Day Grades UPK-2
END:VEVENT
BEGIN:VEVENT
DTSTAMP:20260424T161918Z
UID:33458d24-8e67-4883-af86-70884c0d5c5a
DTSTART;VALUE=DATE:20260617
DTEND;VALUE=DATE:20260619
DESCRIPTION:
LOCATION:
SUMMARY:Regents Exam (MS in session\, HS exam only)
END:VEVENT
BEGIN:VEVENT
DTSTAMP:20260424T161918Z
UID:48ed25a2-638e-4a38-b99e-91c9ed105907
DTSTART;VALUE=DATE:20260618
DTEND;VALUE=DATE:20260619
DESCRIPTION:
LOCATION:
SUMMARY:Grade 5 Moving Up Celebration
END:VEVENT
BEGIN:VEVENT
DTSTAMP:20260424T161918Z
UID:a7a3969b-79e0-4285-870f-53c1fb925505
DTSTART;VALUE=DATE:20260618
DTEND;VALUE=DATE:20260619
DESCRIPTION:
LOCATION:
SUMMARY:MS Field Day
END:VEVENT
BEGIN:VEVENT
DTSTAMP:20260424T161918Z
UID:41ca405b-22b5-4d19-8807-588d8729cdc8
DTSTART;VALUE=DATE:20260619
DTEND;VALUE=DATE:20260620
DESCRIPTION:
LOCATION:
SUMMARY:Juneteenth – No School
END:VEVENT
BEGIN:VEVENT
DTSTAMP:20260424T161918Z
UID:8709e463-74b9-4feb-b34e-53e9538c0eb9
DTSTART;VALUE=DATE:20260622
DTEND;VALUE=DATE:20260626
DESCRIPTION:
LOCATION:
SUMMARY:MS Final Exams
END:VEVENT
BEGIN:VEVENT
DTSTAMP:20260424T161918Z
UID:7a7c16b7-442e-49b2-b30f-dcc10282b1b9
DTSTART;VALUE=DATE:20260622
DTEND;VALUE=DATE:20260626
DESCRIPTION:
LOCATION:
SUMMARY:Regents Exam (MS in session\, HS exam only)
END:VEVENT
BEGIN:VEVENT
DTSTAMP:20260424T161918Z
UID:685c4fd3-4cd3-4d9b-a264-1ae4a0a44a3b
DTSTART;VALUE=DATE:20260622
DTEND;VALUE=DATE:20260623
DESCRIPTION:
LOCATION:
SUMMARY:UPK Moving Up Celebration for BOTH AM/PM
END:VEVENT
BEGIN:VEVENT
DTSTAMP:20260424T161918Z
UID:e562848c-6c9a-4c86-900f-587cc7bc1038
DTSTART;VALUE=DATE:20260623
DTEND;VALUE=DATE:20260626
DESCRIPTION:
LOCATION:
SUMMARY:Early Release\, Gr. 6–8
END:VEVENT
BEGIN:VEVENT
DTSTAMP:20260424T161918Z
UID:0c272ccf-207d-477c-b04b-21eb3fcf87ca
DTSTART;VALUE=DATE:20260623
DTEND;VALUE=DATE:20260626
DESCRIPTION:
LOCATION:
SUMMARY:Early Release Gr. UPK-5\, M-W AM/T-Th PM Sessions Report
END:VEVENT
BEGIN:VEVENT
DTSTAMP:20260424T161918Z
UID:83ff4056-e9a0-40ee-b255-e28bb4cce911
DTSTART;VALUE=DATE:20260623
DTEND;VALUE=DATE:20260624
DESCRIPTION:
LOCATION:
SUMMARY:Kindergarten End-of-Year Celebration
END:VEVENT
BEGIN:VEVENT
DTSTAMP:20260424T161918Z
UID:86be4ebe-e90d-41bc-b959-095c31cf9157
DTSTART:20260623T170000
DTEND:20260623T190000
DESCRIPTION:
LOCATION:TBA
SUMMARY:Board Workshop (5:00 -7:00 p.m.)
END:VEVENT
BEGIN:VEVENT
DTSTAMP:20260424T161918Z
UID:c205be98-8d50-4298-b961-7cdc0d6f78b3
DTSTART:20260623T170000
DTEND:20260623T180000
DESCRIPTION:
LOCATION:
SUMMARY:MS Moving Up Day Ceremony | Dance
END:VEVENT
BEGIN:VEVENT
DTSTAMP:20260424T161918Z
UID:1c2b4b3c-4b67-46bc-ad53-dd72a08631c6
DTSTART;VALUE=DATE:20260625
DTEND;VALUE=DATE:20260626
DESCRIPTION:
LOCATION:
SUMMARY:Elementary Report Cards Sent Home
END:VEVENT
BEGIN:VEVENT
DTSTAMP:20260424T161918Z
UID:f6abdfe1-b125-42c2-8bb2-408e8c66aa7f
DTSTART;VALUE=DATE:20260625
DTEND;VALUE=DATE:20260626
DESCRIPTION:
LOCATION:
SUMMARY:Last Student Day | End of Fourth Marking Period
END:VEVENT
BEGIN:VEVENT
DTSTAMP:20260424T161918Z
UID:32e733fc-30d2-4a77-a99e-bf16eb3596ec
DTSTART:20260625T160000
DTEND:20260625T180000
DESCRIPTION:
LOCATION:
SUMMARY:HS Graduation
END:VEVENT
BEGIN:VEVENT
DTSTAMP:20260424T161918Z
UID:8fb9c96a-326e-4f48-ba48-98da6b34417c
DTSTART;VALUE=DATE:20260626
DTEND;VALUE=DATE:20260627
DESCRIPTION:
LOCATION:
SUMMARY:Rating | Closing Day – Last Teacher Day
END:VEVENT
END:VCALENDAR
