BEGIN:VCALENDAR
VERSION:2.0
PRODID:icalendar-ruby
CALSCALE:GREGORIAN
BEGIN:VTIMEZONE
TZID:America/Chicago
BEGIN:DAYLIGHT
DTSTART:20260308T030000
TZOFFSETFROM:-0600
TZOFFSETTO:-0500
RRULE:FREQ=YEARLY;BYDAY=2SU;BYMONTH=3
TZNAME:CDT
END:DAYLIGHT
BEGIN:STANDARD
DTSTART:20261101T010000
TZOFFSETFROM:-0500
TZOFFSETTO:-0600
RRULE:FREQ=YEARLY;BYDAY=1SU;BYMONTH=11
TZNAME:CST
END:STANDARD
END:VTIMEZONE
BEGIN:VEVENT
DTSTAMP:20260421T185151Z
UID:7df12f2c-579e-446e-958d-b11ac7b9c9b8
DTSTART:20260421T080000
DTEND:20260421T160000
DESCRIPTION:<p>Terrier Nation families\, STAAR testing is here! We ask for 
 your support in ensuring your child is <strong>present\, on time\, and rea
 dy to succeed</strong> on their testing day.</p><p>Please note: <strong>No
  early releases will be permitted on STAAR testing days</strong> to ensure
  a secure and focused testing environment for all students.</p><p>Let’s 
 continue to support our students as they give their very best—because at
  Travis\, we are <strong>ALL IN</strong> and <strong>Terrier Tough!</stron
 g> 🐾💛</p>
LOCATION:
SUMMARY:Science STAAR & EOY Exams
END:VEVENT
BEGIN:VEVENT
DTSTAMP:20260421T185151Z
UID:82e1602a-3904-4cda-a178-3727884bef6f
DTSTART:20260423T080000
DTEND:20260423T160000
DESCRIPTION:<p>Terrier Nation families\, STAAR testing is here! We ask for 
 your support in ensuring your child is <strong>present\, on time\, and rea
 dy to succeed</strong> on their testing day.</p><p>Please note: <strong>No
  early releases will be permitted on STAAR testing days</strong> to ensure
  a secure and focused testing environment for all students.</p><p>Let’s 
 continue to support our students as they give their very best—because at
  Travis\, we are <strong>ALL IN</strong> and <strong>Terrier Tough!</stron
 g> 🐾💛</p>
LOCATION:
SUMMARY:Social Studies STAAR & EOY Exams
END:VEVENT
BEGIN:VEVENT
DTSTAMP:20260421T185151Z
UID:1846a85c-daf2-41e4-836c-3a5a7516fa09
DTSTART:20260428T080000
DTEND:20260428T160000
DESCRIPTION:<p>Terrier Nation families\, STAAR testing is here! We ask for 
 your support in ensuring your child is <strong>present\, on time\, and rea
 dy to succeed</strong> on their testing day.</p><p>Please note: <strong>No
  early releases will be permitted on STAAR testing days</strong> to ensure
  a secure and focused testing environment for all students.</p><p>Let’s 
 continue to support our students as they give their very best—because at
  Travis\, we are <strong>ALL IN</strong> and <strong>Terrier Tough!</stron
 g> 🐾💛</p>
LOCATION:
SUMMARY:Math STAAR Exams
END:VEVENT
BEGIN:VEVENT
DTSTAMP:20260421T185151Z
UID:cd0eca0c-29b4-4505-bb74-ea074929e9f0
DTSTART:20260429T080000
DTEND:20260429T160000
DESCRIPTION:<p>Terrier Nation families\, STAAR testing is here! We ask for 
 your support in ensuring your child is <strong>present\, on time\, and rea
 dy to succeed</strong> on their testing day.</p><p>Please note: <strong>No
  early releases will be permitted on STAAR testing days</strong> to ensure
  a secure and focused testing environment for all students.</p><p>Let’s 
 continue to support our students as they give their very best—because at
  Travis\, we are <strong>ALL IN</strong> and <strong>Terrier Tough!</stron
 g> 🐾💛</p>
LOCATION:
SUMMARY:Algebra STAAR Exam
END:VEVENT
END:VCALENDAR
