BEGIN:VCALENDAR
VERSION:2.0
PRODID:icalendar-ruby
CALSCALE:GREGORIAN
BEGIN:VTIMEZONE
TZID:America/Chicago
BEGIN:DAYLIGHT
DTSTART:20260308T030000
TZOFFSETFROM:-0600
TZOFFSETTO:-0500
RRULE:FREQ=YEARLY;BYDAY=2SU;BYMONTH=3
TZNAME:CDT
END:DAYLIGHT
BEGIN:STANDARD
DTSTART:20261101T010000
TZOFFSETFROM:-0500
TZOFFSETTO:-0600
RRULE:FREQ=YEARLY;BYDAY=1SU;BYMONTH=11
TZNAME:CST
END:STANDARD
END:VTIMEZONE
BEGIN:VEVENT
DTSTAMP:20260424T163132Z
UID:95c25189-e84b-4d0e-a64e-f5c36bf094a5
DTSTART;VALUE=DATE:20260424
DTEND;VALUE=DATE:20260425
DESCRIPTION:
LOCATION:
SUMMARY:Golf Tourn.@ Champions
END:VEVENT
BEGIN:VEVENT
DTSTAMP:20260424T163132Z
UID:ab188b76-f87c-4812-872c-9c410bd8abb9
DTSTART;VALUE=DATE:20260424
DTEND;VALUE=DATE:20260425
DESCRIPTION:
LOCATION:
SUMMARY:Swim Meet @ Mission HS 5pm
END:VEVENT
BEGIN:VEVENT
DTSTAMP:20260424T163132Z
UID:6bd6eb4c-dc35-4658-be75-d35062567a5b
DTSTART;VALUE=DATE:20260425
DTEND;VALUE=DATE:20260426
DESCRIPTION:
LOCATION:
SUMMARY:Fine Arts Six Flags Fiesta Texas Trip
END:VEVENT
BEGIN:VEVENT
DTSTAMP:20260424T163132Z
UID:a52e06bd-6a73-4d7b-b534-34a54a27fc45
DTSTART;VALUE=DATE:20260428
DTEND;VALUE=DATE:20260429
DESCRIPTION:
LOCATION:
SUMMARY:STAAR - Math 6-8
END:VEVENT
END:VCALENDAR
