BEGIN:VCALENDAR
VERSION:2.0
PRODID:icalendar-ruby
CALSCALE:GREGORIAN
BEGIN:VTIMEZONE
TZID:America/Chicago
BEGIN:DAYLIGHT
DTSTART:20260308T030000
TZOFFSETFROM:-0600
TZOFFSETTO:-0500
RRULE:FREQ=YEARLY;BYDAY=2SU;BYMONTH=3
TZNAME:CDT
END:DAYLIGHT
BEGIN:STANDARD
DTSTART:20261101T010000
TZOFFSETFROM:-0500
TZOFFSETTO:-0600
RRULE:FREQ=YEARLY;BYDAY=1SU;BYMONTH=11
TZNAME:CST
END:STANDARD
END:VTIMEZONE
BEGIN:VEVENT
DTSTAMP:20260425T143105Z
UID:38365181-4bac-4292-b721-3b1d53417e2d
DTSTART;VALUE=DATE:20260428
DTEND;VALUE=DATE:20260429
DESCRIPTION:
LOCATION:
SUMMARY:6th & 8th Gr. Math STAAR exam
END:VEVENT
BEGIN:VEVENT
DTSTAMP:20260425T143105Z
UID:dfa56d00-5ea4-46f3-8536-e49b5c4e0351
DTSTART;VALUE=DATE:20260429
DTEND;VALUE=DATE:20260430
DESCRIPTION:
LOCATION:
SUMMARY:7th Gr. Math STAAR exam  & Alg I EOC
END:VEVENT
BEGIN:VEVENT
DTSTAMP:20260425T143105Z
UID:1f5e19f3-67c9-4e9d-9373-07dfbe8a1c4f
DTSTART:20260501T170000
DTEND:20260501T200000
DESCRIPTION:<p>Champion Lakes Golf Course</p>
LOCATION:2701 S Ware Rd\, McAllen\, TX 78503\, USA
SUMMARY:Golf Tournament
END:VEVENT
BEGIN:VEVENT
DTSTAMP:20260425T143105Z
UID:3f5bc72c-330d-45fc-95d5-eff734e7d901
DTSTART:20260507T161500
DTEND:20260507T161500
DESCRIPTION:<p>Champion Lakes Golf Course</p>
LOCATION:2701 S Ware Rd\, McAllen\, TX 78503\, USA
SUMMARY:Girls District Golf Tournament
END:VEVENT
BEGIN:VEVENT
DTSTAMP:20260425T143105Z
UID:d3578503-768f-498d-a65f-8a834c239cd6
DTSTART:20260508T161500
DTEND:20260508T191500
DESCRIPTION:<p>Champion Lakes Golf Course</p>
LOCATION:2701 S Ware Rd\, McAllen\, TX 78503\, USA
SUMMARY:Boys District Golf Tournament
END:VEVENT
BEGIN:VEVENT
DTSTAMP:20260425T143105Z
UID:7f1d0e0e-0d40-4771-a8f3-b54277194a40
DTSTART;VALUE=DATE:20260525
DTEND;VALUE=DATE:20260526
DESCRIPTION:<p>No school</p>
LOCATION:
SUMMARY:Memorial Day
END:VEVENT
BEGIN:VEVENT
DTSTAMP:20260425T143105Z
UID:fcfc2f6f-aa29-455e-957d-3aee36f3188b
DTSTART:20260602T080000
DTEND:20260602T130000
DESCRIPTION:<p>Students will be release at 1 p.m.</p>
LOCATION:
SUMMARY:Last day of school
END:VEVENT
BEGIN:VEVENT
DTSTAMP:20260425T143105Z
UID:baaa896d-aecb-4d82-b2cb-ebb9627b9c83
DTSTART:20260817T080000
DTEND:20260817T160000
DESCRIPTION:
LOCATION:
SUMMARY:First Day of School
END:VEVENT
BEGIN:VEVENT
DTSTAMP:20260425T143105Z
UID:5d1e9f99-0776-460a-8c52-435d729dfb6a
DTSTART;VALUE=DATE:20260907
DTEND;VALUE=DATE:20260908
DESCRIPTION:
LOCATION:
SUMMARY:No School
END:VEVENT
BEGIN:VEVENT
DTSTAMP:20260425T143105Z
UID:35382344-eb66-4b00-8d0a-b914a0fb7591
DTSTART:20261123T080000
DTEND:20261127T160000
DESCRIPTION:
LOCATION:
SUMMARY:No School
END:VEVENT
END:VCALENDAR
