BEGIN:VCALENDAR
VERSION:2.0
PRODID:icalendar-ruby
CALSCALE:GREGORIAN
BEGIN:VTIMEZONE
TZID:America/Chicago
BEGIN:DAYLIGHT
DTSTART:20260308T030000
TZOFFSETFROM:-0600
TZOFFSETTO:-0500
RRULE:FREQ=YEARLY;BYDAY=2SU;BYMONTH=3
TZNAME:CDT
END:DAYLIGHT
BEGIN:STANDARD
DTSTART:20261101T010000
TZOFFSETFROM:-0500
TZOFFSETTO:-0600
RRULE:FREQ=YEARLY;BYDAY=1SU;BYMONTH=11
TZNAME:CST
END:STANDARD
END:VTIMEZONE
BEGIN:VEVENT
DTSTAMP:20260424T010050Z
UID:afbaa96e-bb37-4f69-84fd-f8f5f90e4ccb
DTSTART;VALUE=DATE:20260427
DTEND;VALUE=DATE:20260429
DESCRIPTION:
LOCATION:3400 Crystal Falls Pkwy\, Leander\, TX 78641\, USA
SUMMARY:Boys State Golf @ Leander
END:VEVENT
BEGIN:VEVENT
DTSTAMP:20260424T010050Z
UID:449bf36f-a20c-4f04-89f1-1593d5997810
DTSTART:20260429T080000
DTEND:20260429T170000
DESCRIPTION:
LOCATION:Menard High School\, 221 E San Saba Ave\, Menard\, TX\, 76859
SUMMARY:Junior High District Tennis @ Menard 
END:VEVENT
BEGIN:VEVENT
DTSTAMP:20260424T010050Z
UID:e9ea0fbd-c837-4aa6-924e-32fd7bfa8574
DTSTART;VALUE=DATE:20260501
DTEND;VALUE=DATE:20260503
DESCRIPTION:
LOCATION:Abilene Christian University\, Abilene\, TX\, USA
SUMMARY:HS Track @ Abilene Christian University (Regionals)
END:VEVENT
BEGIN:VEVENT
DTSTAMP:20260424T010050Z
UID:2c0c40b6-ec78-4636-be08-9ddcfe4bd7c5
DTSTART;VALUE=DATE:20260504
DTEND;VALUE=DATE:20260506
DESCRIPTION:
LOCATION:3400 Crystal Falls Pkwy\, Leander\, TX 78641\, USA
SUMMARY:Girls State Golf @ Leander 
END:VEVENT
BEGIN:VEVENT
DTSTAMP:20260424T010050Z
UID:30572763-d445-407a-b9c6-c3006e7158e3
DTSTART:20260505T180000
DTEND:20260505T200000
DESCRIPTION:<html><head><meta http-equiv="Content-Type" content="text/html\
 ; charset=utf-8"><meta name="Generator" content="Microsoft Exchange Server
 "><!-- converted from text --><style><!-- .EmailQuote { margin-left: 1pt\;
  padding-left: 4pt\; border-left: #800000 2px solid\; } --></style></head>
 <body><font size="2"><span style="font-size:11pt\;"><div class="PlainText"
 >&nbsp\;</div></span></font></body></html>
LOCATION:Rochelle High School\, Rochelle\, Texas
SUMMARY:JH Awards 
END:VEVENT
BEGIN:VEVENT
DTSTAMP:20260424T010050Z
UID:ff2c7d89-166b-4c2a-9382-61605ec4bed0
DTSTART:20260507T090000
DTEND:20260507T090000
DESCRIPTION:
LOCATION:
SUMMARY:Letter Jacket Sizing
END:VEVENT
BEGIN:VEVENT
DTSTAMP:20260424T010050Z
UID:b35971ca-4254-44c1-8eb4-04c2637b1305
DTSTART:20260507T180000
DTEND:20260507T200000
DESCRIPTION:<html><head><meta http-equiv="Content-Type" content="text/html\
 ; charset=utf-8"><meta name="Generator" content="Microsoft Exchange Server
 "><!-- converted from text --><style><!-- .EmailQuote { margin-left: 1pt\;
  padding-left: 4pt\; border-left: #800000 2px solid\; } --></style></head>
 <body><font size="2"><span style="font-size:11pt\;"><div class="PlainText"
 >&nbsp\;</div></span></font></body></html>
LOCATION:Rochelle High School\, Rochelle\, Texas
SUMMARY:Elementary Awards and Talent Show 
END:VEVENT
BEGIN:VEVENT
DTSTAMP:20260424T010050Z
UID:d96a4701-1739-443d-9505-3542424b894a
DTSTART:20260511T180000
DTEND:20260511T200000
DESCRIPTION:
LOCATION:Rochelle ISD Cafeteria
SUMMARY:High School Awards Banquet 
END:VEVENT
BEGIN:VEVENT
DTSTAMP:20260424T010050Z
UID:b4b8773c-7655-4c72-88bd-c703156cf7bc
DTSTART:20260512T080000
DTEND:20260512T160000
DESCRIPTION:<html><head><meta http-equiv="Content-Type" content="text/html\
 ; charset=utf-8"><meta name="Generator" content="Microsoft Exchange Server
 "><!-- converted from text --><style><!-- .EmailQuote { margin-left: 1pt\;
  padding-left: 4pt\; border-left: #800000 2px solid\; } --></style></head>
 <body><font size="2"><span style="font-size:11pt\;"><div class="PlainText"
 >&nbsp\;</div></span></font></body></html>
LOCATION:Rochelle High School\, Rochelle\, Texas
SUMMARY:HS UIL Field Trip 
END:VEVENT
BEGIN:VEVENT
DTSTAMP:20260424T010050Z
UID:d39444f1-c0f6-456b-ac68-87b3e6aac426
DTSTART:20260513T080000
DTEND:20260513T161500
DESCRIPTION:<html><head><meta http-equiv="Content-Type" content="text/html\
 ; charset=utf-8"><meta name="Generator" content="Microsoft Exchange Server
 "><!-- converted from text --><style><!-- .EmailQuote { margin-left: 1pt\;
  padding-left: 4pt\; border-left: #800000 2px solid\; } --></style></head>
 <body><font size="2"><span style="font-size:11pt\;"><div class="PlainText"
 >&nbsp\;</div></span></font></body></html>
LOCATION:
SUMMARY:Elementary UIL Field Trip 
END:VEVENT
BEGIN:VEVENT
DTSTAMP:20260424T010050Z
UID:4fa14dac-c635-49b7-bb8c-264c53945522
DTSTART:20260513T190000
DTEND:20260513T210000
DESCRIPTION:<html><head><meta http-equiv="Content-Type" content="text/html\
 ; charset=utf-8"><meta name="ProgId" content="Word.Document"><meta name="G
 enerator" content="Microsoft Word 15"><meta name="Originator" content="Mic
 rosoft Word 15"><style><!--@font-face	{font-family:"Cambria Math"}@font-fa
 ce	{font-family:Calibri}p.MsoNormal\, li.MsoNormal\, div.MsoNormal	{margin
 :0in\;	margin-bottom:.0001pt\;	font-size:11.0pt\;	font-family:"Calibri"\,s
 ans-serif}a:link\, span.MsoHyperlink	{color:#0563C1\;	text-decoration:unde
 rline}a:visited\, span.MsoHyperlinkFollowed	{color:#954F72\;	text-decorati
 on:underline}span.EmailStyle17	{font-family:"Calibri"\,sans-serif\;	color:
 windowtext}.MsoChpDefault	{font-family:"Calibri"\,sans-serif}@page WordSec
 tion1	{margin:1.0in 1.0in 1.0in 1.0in}div.WordSection1	{}--></style></head
 ><body lang="EN-US" link="#0563C1" vlink="#954F72" style=""><div class="Wo
 rdSection1"><p class="MsoNormal">&nbsp\;</p></div></body></html>
LOCATION:
SUMMARY:Regular Rochelle ISD Board of Trustees Meeting
END:VEVENT
BEGIN:VEVENT
DTSTAMP:20260424T010050Z
UID:f77d4774-43ff-4f79-a138-0fcc784a8c1e
DTSTART:20260514T080000
DTEND:20260514T161500
DESCRIPTION:<html><head><meta http-equiv="Content-Type" content="text/html\
 ; charset=utf-8"><meta name="Generator" content="Microsoft Exchange Server
 "><!-- converted from text --><style><!-- .EmailQuote { margin-left: 1pt\;
  padding-left: 4pt\; border-left: #800000 2px solid\; } --></style></head>
 <body><font size="2"><span style="font-size:11pt\;"><div class="PlainText"
 >&nbsp\;</div></span></font></body></html>
LOCATION:
SUMMARY:JH UIL Field Trip
END:VEVENT
BEGIN:VEVENT
DTSTAMP:20260424T010050Z
UID:1e0a77c5-cf3c-4918-9114-e0424fbdbcaf
DTSTART:20260517T110000
DTEND:20260517T120000
DESCRIPTION:<html><head><meta http-equiv="Content-Type" content="text/html\
 ; charset=utf-8"></head><body><div class="elementToProof" style="font-fami
 ly:Aptos\,Aptos_EmbeddedFont\,Aptos_MSFontService\,Calibri\,Helvetica\,san
 s-serif\; font-size:12pt\; color:rgb(0\,0\,0)">Please arrive at 10:30AM to
  dress in cap and gown</div></body></html>
LOCATION:Rochelle Baptist Church\, 6102 SE 5th St\, Rochelle\, TX\, 76872
SUMMARY:2026 Senior Baccalaureate Service
END:VEVENT
BEGIN:VEVENT
DTSTAMP:20260424T010050Z
UID:fc792d78-693e-4000-a4dd-2e52ed442977
DTSTART;VALUE=DATE:20260518
DTEND;VALUE=DATE:20260519
DESCRIPTION:
LOCATION:Rochelle High School\, Rochelle\, Texas
SUMMARY:Senior Adulting Day
END:VEVENT
BEGIN:VEVENT
DTSTAMP:20260424T010050Z
UID:729a52b7-7969-49e0-8ee0-0c10567a34e6
DTSTART:20260519T150000
DTEND:20260519T160000
DESCRIPTION:
LOCATION:Rochelle ISD Cafeteria
SUMMARY:Kindergarten Graduation
END:VEVENT
BEGIN:VEVENT
DTSTAMP:20260424T010050Z
UID:2ccc827f-9042-427e-a688-355f87b6f00c
DTSTART:20260520T080000
DTEND:20260520T160000
DESCRIPTION:<html><head><meta http-equiv="Content-Type" content="text/html\
 ; charset=utf-8"><meta name="Generator" content="Microsoft Exchange Server
 "><!-- converted from text --><style><!-- .EmailQuote { margin-left: 1pt\;
  padding-left: 4pt\; border-left: #800000 2px solid\; } --></style></head>
 <body><font size="2"><span style="font-size:11pt\;"><div class="PlainText"
 >&nbsp\;</div></span></font></body></html>
LOCATION:
SUMMARY:State UIL Field Trip 
END:VEVENT
BEGIN:VEVENT
DTSTAMP:20260424T010050Z
UID:6a963f2c-c83c-4e08-b90a-783e713c2166
DTSTART;VALUE=DATE:20260521
DTEND;VALUE=DATE:20260522
DESCRIPTION:
LOCATION:Rochelle High School\, Rochelle\, Texas
SUMMARY:End 4th 9wks
END:VEVENT
BEGIN:VEVENT
DTSTAMP:20260424T010050Z
UID:c6093dad-ef3d-4287-8207-0eb315679b4d
DTSTART:20260521T075000
DTEND:20260521T162100
DESCRIPTION:<html><head><meta http-equiv="Content-Type" content="text/html\
 ; charset=utf-8"></head><body><div style="font-family:Aptos\,Aptos_Embedde
 dFont\,Aptos_MSFontService\,Calibri\,Helvetica\,sans-serif\; font-size:12p
 t\; color:rgb(0\,0\,0)"><br></div></body></html>
LOCATION:Rochelle ISD\, 5902 Lafayette Ave\, Rochelle\, TX\, 76872-3675
SUMMARY:Last day of school
END:VEVENT
BEGIN:VEVENT
DTSTAMP:20260424T010050Z
UID:3d408d02-cfb3-4571-8eb1-bf9481d96888
DTSTART:20260521T080000
DTEND:20260521T164500
DESCRIPTION:<html><head><meta http-equiv="Content-Type" content="text/html\
 ; charset=utf-8"><meta name="Generator" content="Microsoft Exchange Server
 "><!-- converted from text --><style><!-- .EmailQuote { margin-left: 1pt\;
  padding-left: 4pt\; border-left: #800000 2px solid\; } --></style></head>
 <body><font size="2"><span style="font-size:11pt\;"><div class="PlainText"
 >&nbsp\;</div></span></font></body></html>
LOCATION:
SUMMARY:Senior Field Trip
END:VEVENT
BEGIN:VEVENT
DTSTAMP:20260424T010050Z
UID:046122bd-c0de-4f92-8119-0503eab98a8e
DTSTART:20260521T090000
DTEND:20260521T120000
DESCRIPTION:
LOCATION:Rochelle High School\, Rochelle\, Texas
SUMMARY:Field Day 
END:VEVENT
BEGIN:VEVENT
DTSTAMP:20260424T010050Z
UID:4e53e209-80e7-4ab8-9ee1-8b514067c63b
DTSTART:20260521T190000
DTEND:20260521T200000
DESCRIPTION:<html><head><meta http-equiv="Content-Type" content="text/html\
 ; charset=utf-8"></head><body><div class="elementToProof" style="font-fami
 ly:Aptos\,Aptos_EmbeddedFont\,Aptos_MSFontService\,Calibri\,Helvetica\,san
 s-serif\; font-size:12pt\; color:rgb(0\,0\,0)">Graduation at Rochelle Horn
 et Stadium</div></body></html>
LOCATION:Rochelle High School\, Rochelle\, Texas
SUMMARY:8th Grade Rite of Passage
END:VEVENT
BEGIN:VEVENT
DTSTAMP:20260424T010050Z
UID:43eee978-7173-46f9-8bd4-91a0c56d19e1
DTSTART:20260523T100000
DTEND:20260523T113000
DESCRIPTION:<html><head><meta http-equiv="Content-Type" content="text/html\
 ; charset=utf-8"></head><body><div class="elementToProof" style="font-fami
 ly:Aptos\,Aptos_EmbeddedFont\,Aptos_MSFontService\,Calibri\,Helvetica\,san
 s-serif\; font-size:12pt\; color:rgb(0\,0\,0)">Graduation Ceremony at Roch
 elle Hornet Stadium</div></body></html>
LOCATION:Rochelle High School\, Rochelle\, Texas
SUMMARY:Rochelle High School Graduation Ceremony
END:VEVENT
BEGIN:VEVENT
DTSTAMP:20260424T010050Z
UID:f5607240-dd05-4d01-b5b3-8dc0072d6017
DTSTART:20260523T200000
DTEND:20260524T010000
DESCRIPTION:
LOCATION:Rochelle ISD New Gym
SUMMARY:Project Graduation
END:VEVENT
BEGIN:VEVENT
DTSTAMP:20260424T010050Z
UID:1dff5159-b1f1-4605-8e5e-5754b6c47034
DTSTART:20260610T190000
DTEND:20260610T210000
DESCRIPTION:<html><head><meta http-equiv="Content-Type" content="text/html\
 ; charset=utf-8"><meta name="ProgId" content="Word.Document"><meta name="G
 enerator" content="Microsoft Word 15"><meta name="Originator" content="Mic
 rosoft Word 15"><style><!--@font-face	{font-family:"Cambria Math"}@font-fa
 ce	{font-family:Calibri}p.MsoNormal\, li.MsoNormal\, div.MsoNormal	{margin
 :0in\;	margin-bottom:.0001pt\;	font-size:11.0pt\;	font-family:"Calibri"\,s
 ans-serif}a:link\, span.MsoHyperlink	{color:#0563C1\;	text-decoration:unde
 rline}a:visited\, span.MsoHyperlinkFollowed	{color:#954F72\;	text-decorati
 on:underline}span.EmailStyle17	{font-family:"Calibri"\,sans-serif\;	color:
 windowtext}.MsoChpDefault	{font-family:"Calibri"\,sans-serif}@page WordSec
 tion1	{margin:1.0in 1.0in 1.0in 1.0in}div.WordSection1	{}--></style></head
 ><body lang="EN-US" link="#0563C1" vlink="#954F72" style=""><div class="Wo
 rdSection1"><p class="MsoNormal">&nbsp\;</p></div></body></html>
LOCATION:
SUMMARY:Regular Rochelle ISD Board of Trustees Meeting
END:VEVENT
BEGIN:VEVENT
DTSTAMP:20260424T010050Z
UID:54cd4c8e-8e06-49ed-9452-09278fa2922d
DTSTART:20260708T190000
DTEND:20260708T210000
DESCRIPTION:<html><head><meta http-equiv="Content-Type" content="text/html\
 ; charset=utf-8"><meta name="ProgId" content="Word.Document"><meta name="G
 enerator" content="Microsoft Word 15"><meta name="Originator" content="Mic
 rosoft Word 15"><style><!--@font-face	{font-family:"Cambria Math"}@font-fa
 ce	{font-family:Calibri}p.MsoNormal\, li.MsoNormal\, div.MsoNormal	{margin
 :0in\;	margin-bottom:.0001pt\;	font-size:11.0pt\;	font-family:"Calibri"\,s
 ans-serif}a:link\, span.MsoHyperlink	{color:#0563C1\;	text-decoration:unde
 rline}a:visited\, span.MsoHyperlinkFollowed	{color:#954F72\;	text-decorati
 on:underline}span.EmailStyle17	{font-family:"Calibri"\,sans-serif\;	color:
 windowtext}.MsoChpDefault	{font-family:"Calibri"\,sans-serif}@page WordSec
 tion1	{margin:1.0in 1.0in 1.0in 1.0in}div.WordSection1	{}--></style></head
 ><body lang="EN-US" link="#0563C1" vlink="#954F72" style=""><div class="Wo
 rdSection1"><p class="MsoNormal">&nbsp\;</p></div></body></html>
LOCATION:
SUMMARY:Regular Rochelle ISD Board of Trustees Meeting
END:VEVENT
END:VCALENDAR
