BEGIN:VCALENDAR
VERSION:2.0
PRODID:icalendar-ruby
CALSCALE:GREGORIAN
BEGIN:VTIMEZONE
TZID:America/Detroit
BEGIN:DAYLIGHT
DTSTART:20260308T030000
TZOFFSETFROM:-0500
TZOFFSETTO:-0400
RRULE:FREQ=YEARLY;BYDAY=2SU;BYMONTH=3
TZNAME:EDT
END:DAYLIGHT
BEGIN:STANDARD
DTSTART:20261101T010000
TZOFFSETFROM:-0400
TZOFFSETTO:-0500
RRULE:FREQ=YEARLY;BYDAY=1SU;BYMONTH=11
TZNAME:EST
END:STANDARD
END:VTIMEZONE
BEGIN:VEVENT
DTSTAMP:20260425T012021Z
UID:15369696-f7b5-428f-a7df-5c195f82dee1
DTSTART:20260501T084500
DTEND:20260501T160000
DESCRIPTION:<p>Half Day of School</p>
LOCATION:5535 Keyes Dr\, Kalamazoo\, MI 49004\, USA
SUMMARY:1/2 Day of School
END:VEVENT
BEGIN:VEVENT
DTSTAMP:20260425T012021Z
UID:8afb2abc-3d96-449c-af1b-d99c670ed82d
DTSTART:20260515T090000
DTEND:20260515T153000
DESCRIPTION:<p>Annual Parchment School District Walk-A-Thon Fundraiser.</p>
LOCATION:5535 Keyes Dr\, Kalamazoo\, MI 49004\, USA
SUMMARY:Parchment North Walk-A-Thon
END:VEVENT
BEGIN:VEVENT
DTSTAMP:20260425T012021Z
UID:1fe5c542-d7fd-4f45-954a-e3d6ab5d674c
DTSTART:20260525T084500
DTEND:20260525T160000
DESCRIPTION:<p>No School - Memorial Day</p>
LOCATION:5535 Keyes Dr\, Kalamazoo\, MI 49004\, USA
SUMMARY:No School - Memorial Day
END:VEVENT
BEGIN:VEVENT
DTSTAMP:20260425T012021Z
UID:c00b07a7-cc40-4804-a7f8-597e49676718
DTSTART:20260604T084500
DTEND:20260604T121500
DESCRIPTION:<p>Last Day of School - Half Day</p>
LOCATION:5535 Keyes Dr\, Kalamazoo\, MI 49004\, USA
SUMMARY:Last Day of School - 1/2 Day
END:VEVENT
END:VCALENDAR
