BEGIN:VCALENDAR
VERSION:2.0
PRODID:icalendar-ruby
CALSCALE:GREGORIAN
BEGIN:VTIMEZONE
TZID:America/Chicago
BEGIN:DAYLIGHT
DTSTART:20260308T030000
TZOFFSETFROM:-0600
TZOFFSETTO:-0500
RRULE:FREQ=YEARLY;BYDAY=2SU;BYMONTH=3
TZNAME:CDT
END:DAYLIGHT
BEGIN:STANDARD
DTSTART:20261101T010000
TZOFFSETFROM:-0500
TZOFFSETTO:-0600
RRULE:FREQ=YEARLY;BYDAY=1SU;BYMONTH=11
TZNAME:CST
END:STANDARD
END:VTIMEZONE
BEGIN:VEVENT
DTSTAMP:20260421T161306Z
UID:db22519c-9f94-4624-85f0-f2e134535811
DTSTART;VALUE=DATE:20260421
DTEND;VALUE=DATE:20260422
DESCRIPTION:<p>Rain Date for WEAA</p>
LOCATION:300 W King St\, Fairfield\, IL 62837\, USA
SUMMARY:WEAA Rain Date
END:VEVENT
BEGIN:VEVENT
DTSTAMP:20260421T161306Z
UID:30c4240d-b5be-48fb-aa60-e9074a668a47
DTSTART:20260421T160000
DTEND:20260421T203000
DESCRIPTION:<p>Boys Track and Field at DuQuoin. Events start at 4:00 pm.</p
 >
LOCATION:DuQuoin HS
SUMMARY:Boys Track and Field
END:VEVENT
BEGIN:VEVENT
DTSTAMP:20260421T161306Z
UID:7a9d2a91-60c3-45d4-ba50-93e75c8d7a78
DTSTART:20260421T163000
DTEND:20260421T203000
DESCRIPTION:<p>Varsity Baseball and Softball 4:30pm at Flora IL. JV innings
  for Girls following varsity game.</p>
LOCATION:Flora\, IL 62839\, USA
SUMMARY:Varsity Baseball/Varsity Softball
END:VEVENT
BEGIN:VEVENT
DTSTAMP:20260421T161306Z
UID:5124d891-704c-441d-a81c-575c07811263
DTSTART:20260422T160000
DTEND:20260422T180000
DESCRIPTION:<p>Boys tennis vs Marion</p>
LOCATION:Lakeside Park\, Fairfield\, IL 62837\, USA
SUMMARY:Boys Tennis
END:VEVENT
BEGIN:VEVENT
DTSTAMP:20260421T161306Z
UID:298fe213-d571-4f73-95f8-7408777ef20b
DTSTART:20260422T160000
DTEND:20260422T203000
DESCRIPTION:<p>Girls Track and Field vs Lady Bulldogs at Carmi White Co. Ev
 ents start at 4:00 pm</p>
LOCATION:Carmi White County
SUMMARY:Girls Track and Field
END:VEVENT
BEGIN:VEVENT
DTSTAMP:20260421T161306Z
UID:f07a64d5-89c4-4cd2-8bf7-ac69003b3f1b
DTSTART:20260422T163000
DTEND:20260422T200000
DESCRIPTION:<p>Boys baseball vs Flora HS</p>
LOCATION:Veterans Field Fairfield IL
SUMMARY:Boys Varsity Baseball
END:VEVENT
BEGIN:VEVENT
DTSTAMP:20260421T161306Z
UID:48a29ea8-b3c3-481c-8ffb-38ebe21a2d5a
DTSTART:20260422T163000
DTEND:20260422T203000
DESCRIPTION:<p>Girls Softball vs Flora at Southwest Park. JV innings to fol
 low after Varsity game.</p>
LOCATION:Southwest park
SUMMARY:Girls Softball
END:VEVENT
BEGIN:VEVENT
DTSTAMP:20260421T161306Z
UID:3fd806d6-0cef-494d-9edd-bfd2d1d7d791
DTSTART;VALUE=DATE:20260423
DTEND;VALUE=DATE:20260424
DESCRIPTION:<p>Seniors will leave April 23 for Washington DC. Time TBD. The
 y will return on April 28th and then will return to school on April 29th. 
 </p><p></p>
LOCATION:Fairfield Community High School
SUMMARY:Seniors to Washington DC
END:VEVENT
BEGIN:VEVENT
DTSTAMP:20260421T161306Z
UID:a9ca4382-e609-46ca-adaf-d1b2177439ce
DTSTART:20260423T160000
DTEND:20260423T200000
DESCRIPTION:<p>Boys Tennis vs Mr. Vernon HS. Matches start at 4:00 pm-Cance
 led</p>
LOCATION:Mount Vernon\, IL
SUMMARY:Boys Tennis-Canceled
END:VEVENT
BEGIN:VEVENT
DTSTAMP:20260421T161306Z
UID:afc348d4-5407-46c7-adf6-20f8f15493b0
DTSTART:20260423T160000
DTEND:20260423T203000
DESCRIPTION:<p>Center Street Junior High Track Meet at the Train Yard. Even
 ts start at 4:00 pm</p>
LOCATION:Fairfield Community High School\, Train Yard
SUMMARY:Center Street Track Meet
END:VEVENT
BEGIN:VEVENT
DTSTAMP:20260421T161306Z
UID:ca63eae7-b64e-4e72-be4b-602d579e8805
DTSTART;VALUE=DATE:20260424
DTEND;VALUE=DATE:20260425
DESCRIPTION:<p>Seniors will leave April 23 for Washington DC. Time TBD. The
 y will return on April 28th and then will return to school on April 29th. 
 </p><p></p>
LOCATION:Fairfield Community High School
SUMMARY:Seniors to Washington DC
END:VEVENT
BEGIN:VEVENT
DTSTAMP:20260421T161306Z
UID:e739bbff-bbb3-4485-bf3c-ce55a61fa9a8
DTSTART:20260424T163000
DTEND:20260424T210000
DESCRIPTION:<p>Boys Varsity Baseball vs Toledo-Cumberland HS. Game time 4:3
 0 pm</p>
LOCATION:Toledo-Cumberland HS
SUMMARY:Boys Varsity Baseball
END:VEVENT
BEGIN:VEVENT
DTSTAMP:20260421T161306Z
UID:fe8a71c1-32fc-48bc-b9f6-51bc80df911b
DTSTART;VALUE=DATE:20260425
DTEND;VALUE=DATE:20260426
DESCRIPTION:<p>Seniors will leave April 23 for Washington DC. Time TBD. The
 y will return on April 28th and then will return to school on April 29th. 
 </p><p></p>
LOCATION:Fairfield Community High School
SUMMARY:Seniors to Washington DC
END:VEVENT
BEGIN:VEVENT
DTSTAMP:20260421T161306Z
UID:6603aff0-80d4-44e4-b74b-5ad6781f6e95
DTSTART:20260425T090000
DTEND:20260425T210000
DESCRIPTION:<p>Mules Basketball 3 on 3 Tournament</p>
LOCATION:Fairfield Community High School
SUMMARY:Mules Basketball 3 on 3
END:VEVENT
BEGIN:VEVENT
DTSTAMP:20260421T161306Z
UID:ac456f4f-e265-462a-a92e-41e9296e367b
DTSTART:20260425T100000
DTEND:20260425T180000
DESCRIPTION:<p>Boys JV vs Red Hill Tournament. Game time 10am</p>
LOCATION:Red Hill High School
SUMMARY:JV Baseball 
END:VEVENT
BEGIN:VEVENT
DTSTAMP:20260421T161306Z
UID:eb7f3c22-75db-479f-ae65-ce7656ddfe8b
DTSTART:20260425T110000
DTEND:20260425T170000
DESCRIPTION:<p>Girl Varsity softball vs Harrisburg HS-2 games</p>
LOCATION:Harrisburg IL
SUMMARY:Girls Varsity Softball
END:VEVENT
BEGIN:VEVENT
DTSTAMP:20260421T161306Z
UID:9729085f-ca6e-46bd-8e67-9cda50a37369
DTSTART;VALUE=DATE:20260426
DTEND;VALUE=DATE:20260427
DESCRIPTION:<p>Seniors will leave April 23 for Washington DC. Time TBD. The
 y will return on April 28th and then will return to school on April 29th. 
 </p><p></p>
LOCATION:Fairfield Community High School
SUMMARY:Seniors to Washington DC
END:VEVENT
BEGIN:VEVENT
DTSTAMP:20260421T161306Z
UID:caf1680b-7485-4144-998f-dfb8135af201
DTSTART;VALUE=DATE:20260427
DTEND;VALUE=DATE:20260428
DESCRIPTION:<p>Seniors will leave April 23 for Washington DC. Time TBD. The
 y will return on April 28th and then will return to school on April 29th. 
 </p><p></p>
LOCATION:Fairfield Community High School
SUMMARY:Seniors to Washington DC
END:VEVENT
BEGIN:VEVENT
DTSTAMP:20260421T161306Z
UID:8d2f1816-ea86-4df9-9add-039e4eff8e90
DTSTART:20260427T163000
DTEND:20260427T200000
DESCRIPTION:<p>JV Baseball vs Carmi White County at Veterans Field. Game ti
 me 4:30 pm</p>
LOCATION:Fairfield\, IL 62837\, USA
SUMMARY:Boys JV Baseball 
END:VEVENT
BEGIN:VEVENT
DTSTAMP:20260421T161306Z
UID:e09993b4-2119-4c5d-9893-4b89dcdd6964
DTSTART:20260427T163000
DTEND:20260427T203000
DESCRIPTION:<p>Girls Varsity Softball vs Gallatin Co. Game time 4:30 pm</p>
LOCATION:Southwest Park\, Fairfield IL
SUMMARY:Varsity Softball
END:VEVENT
BEGIN:VEVENT
DTSTAMP:20260421T161306Z
UID:29440d74-696a-4101-9175-54cdf0395c76
DTSTART;VALUE=DATE:20260428
DTEND;VALUE=DATE:20260429
DESCRIPTION:<p>Seniors will leave April 23 for Washington DC. Time TBD. The
 y will return on April 28th and then will return to school on April 29th. 
 </p><p></p>
LOCATION:Fairfield Community High School
SUMMARY:Seniors to Washington DC
END:VEVENT
BEGIN:VEVENT
DTSTAMP:20260421T161306Z
UID:b0570c13-b2e2-4b29-8e30-e4a4b0a25bcd
DTSTART:20260428T160000
DTEND:20260428T200000
DESCRIPTION:<p>Boys Tennis vs Salem HS at Lakeside Courts. Meets starts at 
 4:00pm</p>
LOCATION:Lakeside Courts\, Fairfield\, IL
SUMMARY:Boys Tennis
END:VEVENT
BEGIN:VEVENT
DTSTAMP:20260421T161306Z
UID:27e3005a-09fb-4981-8ac7-533c2a247e7a
DTSTART:20260428T160000
DTEND:20260428T210000
DESCRIPTION:<p>Girls Track and Field vs Lady Indian Invite at DuQuoin. Even
 ts start at 4:00 pm</p>
LOCATION:DuQuoin HS
SUMMARY:Girls Track and Field
END:VEVENT
BEGIN:VEVENT
DTSTAMP:20260421T161306Z
UID:ce7b86c5-1be3-4cda-bae6-5669fbaba7e0
DTSTART:20260428T163000
DTEND:20260428T203000
DESCRIPTION:<p>Boys Varsity Baseball vs Carmi-White Co. Game time 4:30 pm</
 p>
LOCATION:Veterans Field\, Fairfield\, IL
SUMMARY:Boys Baseball
END:VEVENT
BEGIN:VEVENT
DTSTAMP:20260421T161306Z
UID:1e2445cb-53cd-4c44-8d74-6e7ce4ffb011
DTSTART:20260428T163000
DTEND:20260428T210000
DESCRIPTION:<p>Varsity Softball vs Carmi-White County. Game time 4:30 pm</p
 >
LOCATION:Southwest Park\, Fairfield\, IL 
SUMMARY:Varsity Softball-Senior Recognition
END:VEVENT
BEGIN:VEVENT
DTSTAMP:20260421T161306Z
UID:4e095a0c-b834-4382-9397-c4653c8acaca
DTSTART:20260429T160000
DTEND:20260429T200000
DESCRIPTION:<p>Boys Tennis vs Robinson HS at Lakeside Courts-Matches start 
 at 4 pm</p>
LOCATION:Lakeside park
SUMMARY:Boys Tennis
END:VEVENT
BEGIN:VEVENT
DTSTAMP:20260421T161306Z
UID:fbd1ebd2-a210-4f98-9bb2-dd95f3f18207
DTSTART:20260429T160000
DTEND:20260429T203000
DESCRIPTION:<p>Boys Track and Field at Carmi White County. Events start at 
 4:00 pm</p>
LOCATION:800 W Main St\, Carmi\, IL 62821\, USA
SUMMARY:Boys Track and Field
END:VEVENT
BEGIN:VEVENT
DTSTAMP:20260421T161306Z
UID:26bedca6-41b2-4cca-98c6-4081337f396d
DTSTART:20260430T160000
DTEND:20260430T203000
DESCRIPTION:<p>Girls Track and Field in the Lady Mule Invite at the Train Y
 ard. Events start at 4:00 pm</p>
LOCATION:300 W King St\, Fairfield\, IL 62837\, USA
SUMMARY:Girls Track and  Field-Senior Recognition
END:VEVENT
BEGIN:VEVENT
DTSTAMP:20260421T161306Z
UID:f896b76a-bd03-4e2c-98e0-249c6a2e2f11
DTSTART:20260430T163000
DTEND:20260430T203000
DESCRIPTION:<p>Girls Softball at Carmi White Co. HS . Game time 4:30 pm</p>
LOCATION:800 W Main St\, Carmi\, IL 62821\, USA
SUMMARY:Girls Softball
END:VEVENT
BEGIN:VEVENT
DTSTAMP:20260421T161306Z
UID:5a1704f1-57fb-48dd-b59b-35ababd62242
DTSTART:20260430T163000
DTEND:20260430T203000
DESCRIPTION:<p>Boys Varsity Baseball vs Carmi White County at Carmi. Game t
 ime 4:30 pm</p>
LOCATION:800 W Main St\, Carmi\, IL 62821\, USA
SUMMARY:Varsity Baseball
END:VEVENT
BEGIN:VEVENT
DTSTAMP:20260421T161306Z
UID:c540bdf2-0ad9-4a0e-ba43-77c453156116
DTSTART:20260501T043000
DTEND:20260501T203000
DESCRIPTION:<p>Varsity Baseball vs Hamilton County High School.</p>
LOCATION:Hamilton County\, IL\, USA
SUMMARY:Varsity Baseball
END:VEVENT
BEGIN:VEVENT
DTSTAMP:20260421T161306Z
UID:dcd8b037-70ad-4534-ab0c-fe324ae3b08b
DTSTART:20260501T073000
DTEND:20260501T163000
DESCRIPTION:<p>Plant Sale</p>
LOCATION:Fairfield Green House
SUMMARY:FFA Plant Sale
END:VEVENT
BEGIN:VEVENT
DTSTAMP:20260421T161306Z
UID:0255c623-65ed-4833-b429-243fc7555475
DTSTART:20260501T080000
DTEND:20260503T190000
DESCRIPTION:<p>Show Choir will be going to Chicago.</p>
LOCATION:Chicago
SUMMARY:Show Choir to Chicago
END:VEVENT
BEGIN:VEVENT
DTSTAMP:20260421T161306Z
UID:4525bf08-7399-4e73-b0e4-b536e5cd6e03
DTSTART;VALUE=DATE:20260502
DTEND;VALUE=DATE:20260503
DESCRIPTION:
LOCATION:
SUMMARY:Show Choir to Chicago
END:VEVENT
BEGIN:VEVENT
DTSTAMP:20260421T161306Z
UID:e38aa5a2-050e-4a8a-9685-89f362ccca53
DTSTART:20260502T110000
DTEND:20260502T170000
DESCRIPTION:<p>Girls Varsity Softball at Hamilton County. Game time is 11:0
 0 am</p>
LOCATION:Hamilton County\, IL\, USA
SUMMARY:Girls Varsity Softball
END:VEVENT
BEGIN:VEVENT
DTSTAMP:20260421T161306Z
UID:8a4e1300-61b5-4348-a29b-ec2d3e241228
DTSTART:20260504T100000
DTEND:20260504T180000
DESCRIPTION:<p>Junior High Track SIJHSAA at the Train Yard. Events will sta
 rt at 10:00 am</p>
LOCATION:Fairfield Community High School
SUMMARY:SIJHSAA Jr high Track
END:VEVENT
BEGIN:VEVENT
DTSTAMP:20260421T161306Z
UID:2e3680d1-0efd-425a-99a8-89c4472f1517
DTSTART:20260504T160000
DTEND:20260504T203000
DESCRIPTION:<p>Varsity Boys Track and Field at Mount Carmel. Events start a
 t 4:00 pm</p>
LOCATION:201 N Pear St\, Mt Carmel\, IL 62863\, USA
SUMMARY:Boys Track and Field
END:VEVENT
BEGIN:VEVENT
DTSTAMP:20260421T161306Z
UID:9fb2d49c-cb13-4a9d-838b-2684b4bda65e
DTSTART:20260504T163000
DTEND:20260504T203000
DESCRIPTION:<p>Girls Track and Field vs Lady Eagle Invite at Newton. Events
  start at 4:30pm</p><p></p>
LOCATION:Newton High School
SUMMARY:Girls Track and Field
END:VEVENT
BEGIN:VEVENT
DTSTAMP:20260421T161306Z
UID:dae31820-b4c4-4a32-9053-0167544300d8
DTSTART:20260504T163000
DTEND:20260504T203000
DESCRIPTION:<p>Varsity Baseball vs Harrisburg at Veterans Field. Game time 
 4:30 pm</p>
LOCATION:Veterans Field\, Fairfield IL
SUMMARY:Varsity Baseball
END:VEVENT
BEGIN:VEVENT
DTSTAMP:20260421T161306Z
UID:30e5ad00-670f-4911-9d00-c371af30fd34
DTSTART:20260505T043000
DTEND:20260505T203000
DESCRIPTION:<p>Girls Softball vs Eldorado. Game starts at 4:30 pm</p>
LOCATION:Eldorado\, IL 62930\, USA
SUMMARY:Varsity Softball
END:VEVENT
BEGIN:VEVENT
DTSTAMP:20260421T161306Z
UID:04c6048e-3434-4608-a39a-bc29fc4c1761
DTSTART:20260505T163000
DTEND:20260505T203000
DESCRIPTION:<p>Boys Varsity Baseball at Eldorado. Game starts at 4:30 pm</p
 >
LOCATION:Eldorado\, IL 62930\, USA
SUMMARY:Varsity Baseball
END:VEVENT
BEGIN:VEVENT
DTSTAMP:20260421T161306Z
UID:3c889d4a-f5f6-4161-a4f1-c9a79864f0ba
DTSTART:20260506T153000
DTEND:20260506T203000
DESCRIPTION:<p>Girls Track and Field vs BDC Championship Meet. Events start
  at 3:30 pm</p>
LOCATION:Carmi White County
SUMMARY:Girls Track and Field
END:VEVENT
BEGIN:VEVENT
DTSTAMP:20260421T161306Z
UID:0ec74480-12ec-4533-b593-dd540083c6b0
DTSTART:20260506T160000
DTEND:20260506T200000
DESCRIPTION:<p>Boys tennis at Carbondale. Matches will start at 4:00 pm</p>
LOCATION:Carbondale\, IL\, USA
SUMMARY:Boys Tennis
END:VEVENT
BEGIN:VEVENT
DTSTAMP:20260421T161306Z
UID:bd9720d9-3a05-40e8-925e-551180cde59c
DTSTART:20260506T163000
DTEND:20260506T203000
DESCRIPTION:<p>Girls Softball at West Frankfort Community HS</p>
LOCATION:West Frankfort HS
SUMMARY:Girls Softball 
END:VEVENT
BEGIN:VEVENT
DTSTAMP:20260421T161306Z
UID:a4dff16e-bc03-45b0-b99a-a5a624746972
DTSTART:20260507T063000
DTEND:20260507T143000
DESCRIPTION:<p>Sportsman Club vs IHSA Sectional bass fishing. Start time is
  6:30 am</p>
LOCATION:
SUMMARY:Sportsman Club
END:VEVENT
BEGIN:VEVENT
DTSTAMP:20260421T161306Z
UID:ffcbb976-f229-4287-b8a1-911fa5efd2ce
DTSTART:20260507T160000
DTEND:20260507T200000
DESCRIPTION:<p>Boys tennis at Mt. Carmel. Matches will start at 4:00 pm</p>
LOCATION:Mt Carmel IL
SUMMARY:Boys Tennis
END:VEVENT
BEGIN:VEVENT
DTSTAMP:20260421T161306Z
UID:545a0dd5-612c-46ee-b547-601b5a95e778
DTSTART:20260507T163000
DTEND:20260507T200000
DESCRIPTION:<p>Girls softball vs Eldorado HS at Southwest Park. Game starts
  at 4:30 pm</p>
LOCATION:Fairfield\, IL 62837\, USA
SUMMARY:Girls Softball
END:VEVENT
BEGIN:VEVENT
DTSTAMP:20260421T161306Z
UID:4ade5a4e-2b45-409d-8f15-6555d6f7b2e7
DTSTART:20260507T163000
DTEND:20260507T200000
DESCRIPTION:<p>Boys Varsity Baseball vs Eldorado at Veterans Field. Game wi
 ll start 4:30 pm</p>
LOCATION:Fairfield\, IL 62837\, USA
SUMMARY:Varsity Baseball-Senior Recognition
END:VEVENT
BEGIN:VEVENT
DTSTAMP:20260421T161306Z
UID:cd0d0e6a-1fe8-470c-b2f1-7de693073ef0
DTSTART:20260508T083000
DTEND:20260508T150000
DESCRIPTION:<p>FCHS' annual awards day will be help on May 8th in the East 
 gym. Seniors will be recognized and then caps and gowns will be issued aft
 er the program is over. </p><p></p>
LOCATION:300 W King St\, Fairfield\, IL 62837\, USA
SUMMARY:Awards Day
END:VEVENT
BEGIN:VEVENT
DTSTAMP:20260421T161306Z
UID:3b4b584c-2cd4-455d-bfab-20c47aff9a3c
DTSTART:20260508T150000
DTEND:20260508T200000
DESCRIPTION:<p>Boys Track and Field at the DuQuoin Classic. Events start at
  3:00 pm</p>
LOCATION:Du Quoin\, IL 62832\, USA
SUMMARY:Boys Track and Field
END:VEVENT
BEGIN:VEVENT
DTSTAMP:20260421T161306Z
UID:fd7fbb6e-eaff-44cd-aeb6-67c91863a4cb
DTSTART:20260509T090000
DTEND:20260509T150000
DESCRIPTION:<p>Girls Softball at the Robinson Tourney. Games will start at 
 9:00 am</p>
LOCATION:Robinson\, IL 62454\, USA
SUMMARY:Girls Softball
END:VEVENT
BEGIN:VEVENT
DTSTAMP:20260421T161306Z
UID:24d6eaed-f4cc-4546-b1fd-475bb245d152
DTSTART:20260511T160000
DTEND:20260511T200000
DESCRIPTION:<p>Boys track and field hosting the Rick Book Invitational. Eve
 nts starting 4:00pm</p>
LOCATION:300 W King St\, Fairfield\, IL 62837\, USA
SUMMARY:Boys Track and Field-Senior Recognition
END:VEVENT
BEGIN:VEVENT
DTSTAMP:20260421T161306Z
UID:e54395b8-a3fc-4af2-8dff-faaee886845f
DTSTART:20260512T100000
DTEND:20260512T150000
DESCRIPTION:<p>WEAA Junior High Track at the Train Yard. 10:00 am</p>
LOCATION:Fairfield Community High School
SUMMARY:WEAA Junior High Track
END:VEVENT
BEGIN:VEVENT
DTSTAMP:20260421T161306Z
UID:f9bfe127-022a-46f6-a582-b0a9b73fae7c
DTSTART:20260512T160000
DTEND:20260512T200000
DESCRIPTION:<p>Boys Tennis vs Carmi White County at Lakeside Courts. Matche
 s will start at 4:00 pm</p>
LOCATION:Lakeside courts
SUMMARY:Boys Tennis
END:VEVENT
BEGIN:VEVENT
DTSTAMP:20260421T161306Z
UID:6328400c-5b2d-4938-973e-84dce9e7e45f
DTSTART:20260512T163000
DTEND:20260512T203000
DESCRIPTION:<p>Boys Baseball at NCOE. Game time 4:30 pm</p>
LOCATION:NCOE
SUMMARY:Boys Baseball
END:VEVENT
BEGIN:VEVENT
DTSTAMP:20260421T161306Z
UID:ab8b423e-013e-45ef-84c7-f99b01a7757a
DTSTART:20260512T163000
DTEND:20260512T203000
DESCRIPTION:<p>Girls Softball at NCOE. Game time 4:30 pm</p>
LOCATION:NCOE
SUMMARY:Girls Softball
END:VEVENT
BEGIN:VEVENT
DTSTAMP:20260421T161306Z
UID:8315e025-952e-40cb-a29d-484782402c9c
DTSTART:20260513T150000
DTEND:20260513T203000
DESCRIPTION:<p>Girls Track and Field vs IHSA Sectional. Events start at 3pm
 </p>
LOCATION:Du Quoin\, IL 62832\, USA
SUMMARY:Girls Track and Field
END:VEVENT
BEGIN:VEVENT
DTSTAMP:20260421T161306Z
UID:8f997b78-8538-49cb-8e80-031ec09140fe
DTSTART:20260513T160000
DTEND:20260513T200000
DESCRIPTION:<p>Boys tennis vs Herrin.</p>
LOCATION:Lakeside Courts
SUMMARY:Boys Tennis-Senior Recognition
END:VEVENT
BEGIN:VEVENT
DTSTAMP:20260421T161306Z
UID:ad5a5645-38d1-4253-b347-6b2ec0c9720d
DTSTART:20260513T163000
DTEND:20260513T203000
DESCRIPTION:<p>Boys JV baseball. Innings will be played after the Varsity g
 ame is finished. </p>
LOCATION:Centralia\, IL 62801\, USA
SUMMARY:Boys JV Baseball
END:VEVENT
BEGIN:VEVENT
DTSTAMP:20260421T161306Z
UID:7405380a-ad85-4d24-ae8d-5c8cf5e464cc
DTSTART:20260513T163000
DTEND:20260513T203000
DESCRIPTION:<p>Boys Varsity Baseball at Centralia. Game time 4:30 pm</p>
LOCATION:Centralia\, IL 62801\, USA
SUMMARY:Boys Varsity Baseball
END:VEVENT
BEGIN:VEVENT
DTSTAMP:20260421T161306Z
UID:2c94a982-6354-4522-b083-7b4dcae24b8e
DTSTART;VALUE=DATE:20260514
DTEND;VALUE=DATE:20260515
DESCRIPTION:<p>IHSA Regional Bass Fishing\, time and Location to be determi
 ned.</p>
LOCATION:TBA
SUMMARY:Sportsman Club
END:VEVENT
BEGIN:VEVENT
DTSTAMP:20260421T161306Z
UID:35651f80-5842-430b-8861-211e0cc63375
DTSTART:20260514T150000
DTEND:20260514T200000
DESCRIPTION:<p>Girls IHSA Sectional Track and Field at DuQuoin. </p>
LOCATION:DuQuoin\, IL
SUMMARY:Girls Track
END:VEVENT
BEGIN:VEVENT
DTSTAMP:20260421T161306Z
UID:566caa48-58d8-4e0e-9706-19cbf6bbfaf7
DTSTART:20260514T153000
DTEND:20260514T200000
DESCRIPTION:<p>Boys Track and Field at BDC Championship meet. Events start 
 at 3:30pm</p>
LOCATION:Christopher\, IL\, USA
SUMMARY:Boys Track and  Field
END:VEVENT
BEGIN:VEVENT
DTSTAMP:20260421T161306Z
UID:e5a99740-7b2d-473a-9b47-3dd7537b8621
DTSTART:20260515T163000
DTEND:20260515T203000
DESCRIPTION:<p>Boys Varsity Baseball vs Mt. Vernon HS. Game time 4:30 pm</p
 >
LOCATION:Mt Vernon\, IL 62864\, USA
SUMMARY:Boys Varsity baseball
END:VEVENT
BEGIN:VEVENT
DTSTAMP:20260421T161306Z
UID:4f1fa85e-8d3c-4ff2-8b16-f0a797421073
DTSTART:20260515T163000
DTEND:20260515T203000
DESCRIPTION:<p>Girls Softball vs Harrisburg. Game time 4:30 pm</p>
LOCATION:Harrisburg\, IL 62946\, USA
SUMMARY:Girls Softball
END:VEVENT
BEGIN:VEVENT
DTSTAMP:20260421T161306Z
UID:1f7ea795-f747-4505-b988-b1cbbc6e9abc
DTSTART:20260515T183000
DTEND:20260515T203000
DESCRIPTION:<p>JV Baseball at Mt Vernon after the Varsity game. </p>
LOCATION:Mt Vernon\, IL 62864\, USA
SUMMARY:JV Baseball
END:VEVENT
BEGIN:VEVENT
DTSTAMP:20260421T161306Z
UID:b4cd820a-085c-43e6-8a7f-486a768cf683
DTSTART;VALUE=DATE:20260518
DTEND;VALUE=DATE:20260519
DESCRIPTION:<p>Girls Softball at IHSA Regional. Time and location TBA</p>
LOCATION:
SUMMARY:Girls Softball
END:VEVENT
BEGIN:VEVENT
DTSTAMP:20260421T161306Z
UID:47fb6ebb-5aea-4244-9939-2f31854836e1
DTSTART:20260518T160000
DTEND:20260518T200000
DESCRIPTION:<p>Boys Tennis vs Carmi-White County.</p>
LOCATION:Lakeside Courts
SUMMARY:Boys Tennis
END:VEVENT
BEGIN:VEVENT
DTSTAMP:20260421T161306Z
UID:c5596a24-f433-4aa7-a41e-70e07c701807
DTSTART:20260520T160000
DTEND:20260520T203000
DESCRIPTION:<p>Boys Track at the IHSA Sectional\, to be held at the Train Y
 ard. Field Events will start at 4:00 pm</p>
LOCATION:Fairfield Community High School District 225\, IL\, USA
SUMMARY:Boys Track
END:VEVENT
BEGIN:VEVENT
DTSTAMP:20260421T161306Z
UID:4af4e767-6cc2-43f3-9c2b-f7196ddcedba
DTSTART:20260520T163000
DTEND:20260520T203000
DESCRIPTION:<p>Boys Baseball vs Red Hill at Veterans Field. Game time 4:30p
 m</p>
LOCATION:Fairfield\, IL 62837\, USA
SUMMARY:Boys Varsity Baseball
END:VEVENT
BEGIN:VEVENT
DTSTAMP:20260421T161306Z
UID:19ff5f45-1fdb-45a1-b40c-b7e2ff03c343
DTSTART:20260520T183000
DTEND:20260520T203000
DESCRIPTION:<p>Boys JV Baseball vs Red Hill. After Varsity Baseball at Vete
 rans Field in Fairfield. </p>
LOCATION:Fairfield\, IL 62837\, USA
SUMMARY:JV Baseball
END:VEVENT
BEGIN:VEVENT
DTSTAMP:20260421T161306Z
UID:8535bee2-32a3-4ba4-a254-1df39fa66fc2
DTSTART;VALUE=DATE:20260521
DTEND;VALUE=DATE:20260522
DESCRIPTION:<p>IHSA Sectional Bass Fishing. Time and Location to be determi
 ned. </p>
LOCATION:TBA
SUMMARY:Sportsman Club
END:VEVENT
BEGIN:VEVENT
DTSTAMP:20260421T161306Z
UID:b8fa31cf-8b25-477b-9caf-c23c9eaeca04
DTSTART:20260521T100000
DTEND:20260521T190000
DESCRIPTION:<p>Girls Track and Field IHSA State. Prelims. Events start at 1
 0:00 am</p>
LOCATION:Eastern Illinois University
SUMMARY:Girls Track and Field 
END:VEVENT
BEGIN:VEVENT
DTSTAMP:20260421T161306Z
UID:9b07935e-fc3e-4534-8052-6bf676690ed4
DTSTART:20260521T150000
DTEND:20260521T200000
DESCRIPTION:<p>Boys Track and Field at IHSA Sectional. Events start at 3:00
  pm</p>
LOCATION:310 S Elm St\, Bluford\, IL 62814\, USA
SUMMARY:Boys Track and  Field
END:VEVENT
BEGIN:VEVENT
DTSTAMP:20260421T161306Z
UID:33a33cfc-3e3f-4745-9346-f53b2e509eb0
DTSTART:20260521T163000
DTEND:20260521T183000
DESCRIPTION:<p>Boys Varsity Baseball at Nashville HS. Game time will start 
 at 4:30 pm</p>
LOCATION:Nashville IL
SUMMARY:Boys Varsity Baseball
END:VEVENT
BEGIN:VEVENT
DTSTAMP:20260421T161306Z
UID:48dd7159-37b4-419f-aa8f-f32e499daf04
DTSTART:20260521T180000
DTEND:20260521T200000
DESCRIPTION:<p>FCHS Board Meeting in the study hall on the second floor</p>
LOCATION:300 W King St\, Fairfield\, IL 62837\, USA
SUMMARY:FCHS Board Meeting
END:VEVENT
BEGIN:VEVENT
DTSTAMP:20260421T161306Z
UID:9483cfa7-bec2-441b-abc4-900a7b98399b
DTSTART:20260521T183000
DTEND:20260521T203000
DESCRIPTION:<p>Boys JV Baseball at Nashville IL Innings to be played after 
 Varsity game. </p>
LOCATION:Nashville IL
SUMMARY:Boys JV Baseball
END:VEVENT
BEGIN:VEVENT
DTSTAMP:20260421T161306Z
UID:68959795-f96a-48f5-9d6a-b9ff2ef5f0a2
DTSTART:20260522T130000
DTEND:20260522T180000
DESCRIPTION:<p>Boys Tennis IHSA Sectional. Matches will start at 1pm. Locat
 ion TBA</p>
LOCATION:
SUMMARY:Boys Tennis
END:VEVENT
BEGIN:VEVENT
DTSTAMP:20260421T161306Z
UID:dab3b90b-6a11-41ea-b2ce-3f94ae41a0fa
DTSTART:20260523T100000
DTEND:20260523T200000
DESCRIPTION:<p>Girls Track and Field IHSA State Finals.</p>
LOCATION:600 Lincoln Ave\, Charleston\, IL 61920\, USA
SUMMARY:Girls Track and Field
END:VEVENT
BEGIN:VEVENT
DTSTAMP:20260421T161306Z
UID:4a359cf7-07b1-4aac-9d11-25a8554c7d25
DTSTART;VALUE=DATE:20260525
DTEND;VALUE=DATE:20260526
DESCRIPTION:<p>Boys Varsity Baseball IHSA Regional. Time and Location TBA</
 p>
LOCATION:
SUMMARY:Boys Varsity Baseball 
END:VEVENT
BEGIN:VEVENT
DTSTAMP:20260421T161306Z
UID:beb3c5a9-6232-4f96-a067-066ce6671c7d
DTSTART:20260528T080000
DTEND:20260528T090000
DESCRIPTION:<p>Boys Track and Field Prelims. IHSA state at Eastern Illinois
  University. Events start at 10 am.</p>
LOCATION:Eastern Illinois University
SUMMARY:Boys Track and Field
END:VEVENT
BEGIN:VEVENT
DTSTAMP:20260421T161306Z
UID:a354f335-572a-4d00-928a-aa242d768420
DTSTART:20260530T100000
DTEND:20260530T180000
DESCRIPTION:<p>Boys Track and Field IHSA State Finals. Events start at 10am
 </p>
LOCATION:Eastern Illinois University
SUMMARY:Boys Track andField
END:VEVENT
BEGIN:VEVENT
DTSTAMP:20260421T161306Z
UID:f3652d73-85c5-48c9-afca-2d26fd32de43
DTSTART:20260622T180000
DTEND:20260622T200000
DESCRIPTION:<p>FCHS Board meeting in the study hall on the second floor. </
 p>
LOCATION:300 W King St\, Fairfield\, IL 62837\, USA
SUMMARY:FCHS Board Meeting
END:VEVENT
BEGIN:VEVENT
DTSTAMP:20260421T161306Z
UID:3b229fee-155b-4440-92b4-f01120652995
DTSTART;VALUE=DATE:20270306
DTEND;VALUE=DATE:20270307
DESCRIPTION:<p>State Solo and Ensemble Contest time and location to be anno
 unced.</p>
LOCATION:TBA
SUMMARY:Solo and Ensemble State Contest
END:VEVENT
BEGIN:VEVENT
DTSTAMP:20260421T161306Z
UID:6a153159-fa1f-43dc-b466-aa88fcf3699d
DTSTART;VALUE=DATE:20270416
DTEND;VALUE=DATE:20270417
DESCRIPTION:<p>State Music Organizational contest April 16 and17 location a
 nd time tba</p>
LOCATION:TBA
SUMMARY:Organizational Contest for Music
END:VEVENT
BEGIN:VEVENT
DTSTAMP:20260421T161306Z
UID:cec1a702-e851-4343-8de7-ed56a6b6a9e0
DTSTART;VALUE=DATE:20280304
DTEND;VALUE=DATE:20280305
DESCRIPTION:<p>State Solo and Ensemble Contest March 4. Time and location t
 o be announced</p>
LOCATION:TBA
SUMMARY:Solo and Ensemble State Contest
END:VEVENT
BEGIN:VEVENT
DTSTAMP:20260421T161306Z
UID:8105386f-ba13-4b72-9787-ff50e2377a43
DTSTART;VALUE=DATE:20280407
DTEND;VALUE=DATE:20280408
DESCRIPTION:<p>State Music Organization Contest April 7 and 8 location and 
 time tba</p>
LOCATION:TBA
SUMMARY:State Organizational Music Contest
END:VEVENT
BEGIN:VEVENT
DTSTAMP:20260421T161306Z
UID:f27e7ab3-6f74-4e3e-9c07-091e1099def1
DTSTART;VALUE=DATE:20280408
DTEND;VALUE=DATE:20280409
DESCRIPTION:<p>State Organizational Contests  April 7 and 8\, time and loca
 tion to be announced.</p>
LOCATION:TBA
SUMMARY:State Organizational Music Contest
END:VEVENT
BEGIN:VEVENT
DTSTAMP:20260421T161306Z
UID:5634316b-80e4-4f33-91c6-6a3b2b64fe03
DTSTART;VALUE=DATE:20290303
DTEND;VALUE=DATE:20290304
DESCRIPTION:<p>State Solo and Ensemble Contest\, time and location tba</p>
LOCATION:TBA
SUMMARY:State Solo and Ensemble Contest
END:VEVENT
BEGIN:VEVENT
DTSTAMP:20260421T161306Z
UID:b187de55-c6b4-441d-b62a-c0e891fc721a
DTSTART;VALUE=DATE:20290413
DTEND;VALUE=DATE:20290414
DESCRIPTION:<p>State Organizational Music Contest  April 13 and 14 location
  and time TBA</p>
LOCATION:TBA
SUMMARY:State Organizational Music Contest
END:VEVENT
BEGIN:VEVENT
DTSTAMP:20260421T161306Z
UID:db02cd7d-24d3-45fb-83d6-3481d0c01a83
DTSTART;VALUE=DATE:20290414
DTEND;VALUE=DATE:20290415
DESCRIPTION:<p>State Music Organizational Contest April 13 and 14  time and
  location tba</p>
LOCATION:TBA
SUMMARY:State Organizational Music Contest
END:VEVENT
END:VCALENDAR
