BEGIN:VCALENDAR
VERSION:2.0
PRODID:icalendar-ruby
CALSCALE:GREGORIAN
BEGIN:VTIMEZONE
TZID:America/New_York
BEGIN:DAYLIGHT
DTSTART:20260308T030000
TZOFFSETFROM:-0500
TZOFFSETTO:-0400
RRULE:FREQ=YEARLY;BYDAY=2SU;BYMONTH=3
TZNAME:EDT
END:DAYLIGHT
BEGIN:STANDARD
DTSTART:20261101T010000
TZOFFSETFROM:-0400
TZOFFSETTO:-0500
RRULE:FREQ=YEARLY;BYDAY=1SU;BYMONTH=11
TZNAME:EST
END:STANDARD
END:VTIMEZONE
BEGIN:VEVENT
DTSTAMP:20260425T230020Z
UID:b2775d43-845a-4409-8037-89e3c4a77e7b
DTSTART;VALUE=DATE:20260525
DTEND;VALUE=DATE:20260526
DESCRIPTION:
LOCATION:
SUMMARY:Memorial Day - No School 
END:VEVENT
BEGIN:VEVENT
DTSTAMP:20260425T230020Z
UID:39943da6-c746-4505-9ba2-7455fcd8628c
DTSTART;VALUE=DATE:20260619
DTEND;VALUE=DATE:20260620
DESCRIPTION:
LOCATION:
SUMMARY:Schools Closed in Observance of Juneteenth
END:VEVENT
BEGIN:VEVENT
DTSTAMP:20260425T230020Z
UID:5c83c083-2409-4bdf-a9d0-08aeaa7ece50
DTSTART;VALUE=DATE:20260623
DTEND;VALUE=DATE:20260624
DESCRIPTION:
LOCATION:
SUMMARY:Kindergarten Screening 
END:VEVENT
BEGIN:VEVENT
DTSTAMP:20260425T230020Z
UID:1e3300e0-d5bc-452e-a871-790e88601fad
DTSTART;VALUE=DATE:20260624
DTEND;VALUE=DATE:20260625
DESCRIPTION:
LOCATION:
SUMMARY:Kindergarten Screening 
END:VEVENT
BEGIN:VEVENT
DTSTAMP:20260425T230020Z
UID:247325c4-300d-43f5-915a-978fb31aad8d
DTSTART;VALUE=DATE:20260625
DTEND;VALUE=DATE:20260626
DESCRIPTION:
LOCATION:
SUMMARY:Kindergarten Screening 
END:VEVENT
BEGIN:VEVENT
DTSTAMP:20260425T230020Z
UID:3ddd1868-8099-4b9a-a6a3-67c16536de94
DTSTART;VALUE=DATE:20260625
DTEND;VALUE=DATE:20260626
DESCRIPTION:
LOCATION:
SUMMARY:Last Day of School - Early Release for Students
END:VEVENT
BEGIN:VEVENT
DTSTAMP:20260425T230020Z
UID:a5c32a30-2738-49d3-a136-941a6a11fd11
DTSTART;VALUE=DATE:20260901
DTEND;VALUE=DATE:20260902
DESCRIPTION:
LOCATION:
SUMMARY:Teachers Return / Professional Development 
END:VEVENT
BEGIN:VEVENT
DTSTAMP:20260425T230020Z
UID:8b9377f1-7806-4bfe-985d-59369caa4af4
DTSTART;VALUE=DATE:20260902
DTEND;VALUE=DATE:20260903
DESCRIPTION:
LOCATION:
SUMMARY:1st Day of School Grades 1-12
END:VEVENT
BEGIN:VEVENT
DTSTAMP:20260425T230020Z
UID:f65fc851-56b1-42a2-8e83-707febfac3d6
DTSTART;VALUE=DATE:20260902
DTEND;VALUE=DATE:20260903
DESCRIPTION:
LOCATION:
SUMMARY:Kindergarten Orientation 
END:VEVENT
BEGIN:VEVENT
DTSTAMP:20260425T230020Z
UID:9dc702ae-6239-4c7a-acbf-c692a053ca60
DTSTART;VALUE=DATE:20260903
DTEND;VALUE=DATE:20260904
DESCRIPTION:
LOCATION:
SUMMARY:Kindergarten Classes Begin 
END:VEVENT
BEGIN:VEVENT
DTSTAMP:20260425T230020Z
UID:21a5a553-c229-47dc-85a6-812d0c71a23f
DTSTART;VALUE=DATE:20260923
DTEND;VALUE=DATE:20260924
DESCRIPTION:
LOCATION:
SUMMARY:Professional Development / Early Release for Students
END:VEVENT
BEGIN:VEVENT
DTSTAMP:20260425T230020Z
UID:072212b4-6b04-4163-9440-fc7ef13908a8
DTSTART;VALUE=DATE:20261012
DTEND;VALUE=DATE:20261013
DESCRIPTION:
LOCATION:
SUMMARY:No School - Columbus Day Observance 
END:VEVENT
BEGIN:VEVENT
DTSTAMP:20260425T230020Z
UID:8f0d822b-b3fa-44b5-9d74-1e4bc5d3a818
DTSTART;VALUE=DATE:20261014
DTEND;VALUE=DATE:20261015
DESCRIPTION:
LOCATION:
SUMMARY:Professional Development / Early Release for Students
END:VEVENT
BEGIN:VEVENT
DTSTAMP:20260425T230020Z
UID:067bc3de-bc0c-42f1-a32b-0f0ca02f9688
DTSTART;VALUE=DATE:20261103
DTEND;VALUE=DATE:20261104
DESCRIPTION:
LOCATION:
SUMMARY:Professional Development - NO SCHOOL for Students 
END:VEVENT
BEGIN:VEVENT
DTSTAMP:20260425T230020Z
UID:f5f15a1a-e63a-49fd-b3af-0bb6fef0f539
DTSTART;VALUE=DATE:20261111
DTEND;VALUE=DATE:20261112
DESCRIPTION:
LOCATION:
SUMMARY:No School - Veteran's Day Observance
END:VEVENT
BEGIN:VEVENT
DTSTAMP:20260425T230020Z
UID:7e22f555-8ec3-4c27-9365-292743c8d9c0
DTSTART;VALUE=DATE:20261125
DTEND;VALUE=DATE:20261126
DESCRIPTION:
LOCATION:
SUMMARY:Early Release Day 
END:VEVENT
BEGIN:VEVENT
DTSTAMP:20260425T230020Z
UID:333d5740-ca77-453a-9013-34bef7d37fe9
DTSTART;VALUE=DATE:20261126
DTEND;VALUE=DATE:20261128
DESCRIPTION:
LOCATION:
SUMMARY:Schools Closed - Thanksgiving Break 
END:VEVENT
BEGIN:VEVENT
DTSTAMP:20260425T230020Z
UID:03347e6a-e553-40ea-9eb5-c7ad0f7c9c56
DTSTART;VALUE=DATE:20261223
DTEND;VALUE=DATE:20261224
DESCRIPTION:
LOCATION:
SUMMARY:Early Release Day 
END:VEVENT
BEGIN:VEVENT
DTSTAMP:20260425T230020Z
UID:2329bc0b-2c44-4c41-8a57-51938725e0b7
DTSTART;VALUE=DATE:20261224
DTEND;VALUE=DATE:20261226
DESCRIPTION:
LOCATION:
SUMMARY:Schools Closed - Christmas Break 
END:VEVENT
BEGIN:VEVENT
DTSTAMP:20260425T230020Z
UID:ff8dcecc-5ba7-4122-b1c5-b0f171052153
DTSTART;VALUE=DATE:20261228
DTEND;VALUE=DATE:20270102
DESCRIPTION:
LOCATION:
SUMMARY:Schools Closed - Christmas Break 
END:VEVENT
BEGIN:VEVENT
DTSTAMP:20260425T230020Z
UID:b65b3a81-2146-4ede-8062-084485db2efd
DTSTART;VALUE=DATE:20270113
DTEND;VALUE=DATE:20270114
DESCRIPTION:
LOCATION:
SUMMARY:Professional Development / Early Release for Students
END:VEVENT
BEGIN:VEVENT
DTSTAMP:20260425T230020Z
UID:85929cac-c2db-44c2-a64b-65905dc965ba
DTSTART;VALUE=DATE:20270118
DTEND;VALUE=DATE:20270119
DESCRIPTION:
LOCATION:
SUMMARY:Schools Closed - Martine Luther King\, Jr. Day Observance
END:VEVENT
BEGIN:VEVENT
DTSTAMP:20260425T230020Z
UID:5daf6511-71f5-4c13-bb06-29213f631a13
DTSTART;VALUE=DATE:20270215
DTEND;VALUE=DATE:20270220
DESCRIPTION:
LOCATION:
SUMMARY:Schools Closed - Mid Winter Vacation Week 
END:VEVENT
BEGIN:VEVENT
DTSTAMP:20260425T230020Z
UID:37fd2774-b1c2-45de-a816-20484a124644
DTSTART;VALUE=DATE:20270310
DTEND;VALUE=DATE:20270311
DESCRIPTION:
LOCATION:
SUMMARY:Professional Development / Early Release for Students
END:VEVENT
BEGIN:VEVENT
DTSTAMP:20260425T230020Z
UID:70df4890-ddc7-427e-ba54-43ed46088974
DTSTART;VALUE=DATE:20270326
DTEND;VALUE=DATE:20270327
DESCRIPTION:
LOCATION:
SUMMARY:Schools Closed - Good Friday Observance
END:VEVENT
BEGIN:VEVENT
DTSTAMP:20260425T230020Z
UID:9f4c97c9-e195-47d9-801d-7ed0484f3425
DTSTART;VALUE=DATE:20270419
DTEND;VALUE=DATE:20270424
DESCRIPTION:
LOCATION:
SUMMARY:Schools Closed - Spring Vacation Week 
END:VEVENT
BEGIN:VEVENT
DTSTAMP:20260425T230020Z
UID:9957e871-13d9-46dd-a214-ba589a151c20
DTSTART;VALUE=DATE:20270531
DTEND;VALUE=DATE:20270601
DESCRIPTION:
LOCATION:
SUMMARY:No School - Memorial Day Observance
END:VEVENT
BEGIN:VEVENT
DTSTAMP:20260425T230020Z
UID:4b51a5fd-81c8-4c2b-81a4-96268a61b67c
DTSTART;VALUE=DATE:20270614
DTEND;VALUE=DATE:20270617
DESCRIPTION:
LOCATION:
SUMMARY:Kindergarten Screening
END:VEVENT
BEGIN:VEVENT
DTSTAMP:20260425T230020Z
UID:4f9453f8-3044-42f5-94ac-5d359d45690d
DTSTART;VALUE=DATE:20270616
DTEND;VALUE=DATE:20270617
DESCRIPTION:
LOCATION:
SUMMARY:Last Day of School - Early Release
END:VEVENT
BEGIN:VEVENT
DTSTAMP:20260425T230020Z
UID:d992d80f-407e-4845-b01f-c33a7171e72d
DTSTART;VALUE=DATE:20270617
DTEND;VALUE=DATE:20270619
DESCRIPTION:
LOCATION:
SUMMARY:Schools Closed - Juneteenth Observance
END:VEVENT
END:VCALENDAR
