BEGIN:VCALENDAR
VERSION:2.0
PRODID:icalendar-ruby
CALSCALE:GREGORIAN
BEGIN:VTIMEZONE
TZID:America/Chicago
BEGIN:DAYLIGHT
DTSTART:20260308T030000
TZOFFSETFROM:-0600
TZOFFSETTO:-0500
RRULE:FREQ=YEARLY;BYDAY=2SU;BYMONTH=3
TZNAME:CDT
END:DAYLIGHT
BEGIN:STANDARD
DTSTART:20261101T010000
TZOFFSETFROM:-0500
TZOFFSETTO:-0600
RRULE:FREQ=YEARLY;BYDAY=1SU;BYMONTH=11
TZNAME:CST
END:STANDARD
END:VTIMEZONE
BEGIN:VEVENT
DTSTAMP:20260419T184535Z
UID:5a366b19-42b1-44ef-861e-b1578038b7c8
DTSTART;VALUE=DATE:20260420
DTEND;VALUE=DATE:20260422
DESCRIPTION:
LOCATION:TBD
SUMMARY:Regional Tennis Meet
END:VEVENT
BEGIN:VEVENT
DTSTAMP:20260419T184535Z
UID:43722f08-a30a-433f-a7df-6ce67ece6b25
DTSTART;VALUE=DATE:20260421
DTEND;VALUE=DATE:20260422
DESCRIPTION:
LOCATION:
SUMMARY:4TH GRADE MATH STAAR
END:VEVENT
BEGIN:VEVENT
DTSTAMP:20260419T184535Z
UID:2b9b49f9-7f2b-4bbf-a9fa-596c12b5de56
DTSTART;VALUE=DATE:20260421
DTEND;VALUE=DATE:20260422
DESCRIPTION:
LOCATION:
SUMMARY:8th Math STAAR
END:VEVENT
BEGIN:VEVENT
DTSTAMP:20260419T184535Z
UID:3d2c62c6-b85f-4b75-91e4-0c4559589957
DTSTART;VALUE=DATE:20260421
DTEND;VALUE=DATE:20260422
DESCRIPTION:
LOCATION:
SUMMARY:PK FIELD TRIP
END:VEVENT
BEGIN:VEVENT
DTSTAMP:20260419T184535Z
UID:90b75743-04df-49bf-a77f-b9fd13d02db6
DTSTART:20260421T180000
DTEND:20260421T190000
DESCRIPTION:
LOCATION:RIVERCREST
SUMMARY:REBEL BASEBALL
END:VEVENT
BEGIN:VEVENT
DTSTAMP:20260419T184535Z
UID:6b2dd26f-968a-474a-8e40-8d5d81cdea17
DTSTART;VALUE=DATE:20260422
DTEND;VALUE=DATE:20260423
DESCRIPTION:
LOCATION:
SUMMARY:5TH GRADE MATH STAAR
END:VEVENT
BEGIN:VEVENT
DTSTAMP:20260419T184535Z
UID:503c85e3-f95b-490c-9d49-4d4ecd3e8f02
DTSTART;VALUE=DATE:20260422
DTEND;VALUE=DATE:20260423
DESCRIPTION:
LOCATION:
SUMMARY:7th Math STAAR
END:VEVENT
BEGIN:VEVENT
DTSTAMP:20260419T184535Z
UID:8de6a652-da88-4e1f-97c6-367d65f33a4a
DTSTART;VALUE=DATE:20260422
DTEND;VALUE=DATE:20260423
DESCRIPTION:
LOCATION:
SUMMARY:ALGEBRA 1 EOC
END:VEVENT
BEGIN:VEVENT
DTSTAMP:20260419T184535Z
UID:790099e0-f3bc-4722-9295-3bc48952b509
DTSTART;VALUE=DATE:20260422
DTEND;VALUE=DATE:20260423
DESCRIPTION:
LOCATION:
SUMMARY:National Administrative Prof. Day 
END:VEVENT
BEGIN:VEVENT
DTSTAMP:20260419T184535Z
UID:fdfd8255-1607-41c3-8143-81d9f85e4094
DTSTART;VALUE=DATE:20260422
DTEND;VALUE=DATE:20260423
DESCRIPTION:
LOCATION:New Boston High School\, 1 W Lion Dr\, New Boston\, TX 75570\, USA
SUMMARY:Special Olympics -JH/ HS
END:VEVENT
BEGIN:VEVENT
DTSTAMP:20260419T184535Z
UID:c547276b-4987-4734-b9be-155b96c25e4b
DTSTART;VALUE=DATE:20260423
DTEND;VALUE=DATE:20260424
DESCRIPTION:
LOCATION:
SUMMARY:3RD GRADE MATH STAAR
END:VEVENT
BEGIN:VEVENT
DTSTAMP:20260419T184535Z
UID:24df7aba-3d9b-4ebf-806f-0eb094202bbb
DTSTART;VALUE=DATE:20260423
DTEND;VALUE=DATE:20260424
DESCRIPTION:
LOCATION:
SUMMARY:6th Math STAAR
END:VEVENT
BEGIN:VEVENT
DTSTAMP:20260419T184535Z
UID:1470b214-5da1-456c-b26c-76ea739128e8
DTSTART:20260423T133000
DTEND:20260423T143000
DESCRIPTION:
LOCATION:
SUMMARY:ONE ACT PLAY @ REGIONALS
END:VEVENT
BEGIN:VEVENT
DTSTAMP:20260419T184535Z
UID:a001e5c9-a9df-4a4f-928c-d58dda9280c5
DTSTART:20260423T160000
DTEND:20260423T173000
DESCRIPTION:
LOCATION:
SUMMARY:DRUM MAJOR AUDITIONS
END:VEVENT
BEGIN:VEVENT
DTSTAMP:20260419T184535Z
UID:9f1d1c30-e2db-4184-9930-14c1af374541
DTSTART:20260423T170000
DTEND:20260423T180000
DESCRIPTION:
LOCATION:
SUMMARY:JR. HIGH SOFTBALL @ COMMERCE
END:VEVENT
BEGIN:VEVENT
DTSTAMP:20260419T184535Z
UID:dc06ca3e-525c-49ca-9029-098fae7cc703
DTSTART;VALUE=DATE:20260424
DTEND;VALUE=DATE:20260426
DESCRIPTION:
LOCATION:
SUMMARY:High School Regional UIL
END:VEVENT
BEGIN:VEVENT
DTSTAMP:20260419T184535Z
UID:f86686c3-5214-424f-8605-e976467bf484
DTSTART:20260424T163000
DTEND:20260424T173000
DESCRIPTION:
LOCATION:HARTS BLUFF 
SUMMARY:REBEL BASEBALL
END:VEVENT
BEGIN:VEVENT
DTSTAMP:20260419T184535Z
UID:28c5e2ac-071d-40a8-a92f-e3fa14cef8f2
DTSTART:20260427T160000
DTEND:20260427T170000
DESCRIPTION:
LOCATION:
SUMMARY:JR. HIGH SOFTBALL @ DETROIT
END:VEVENT
BEGIN:VEVENT
DTSTAMP:20260419T184535Z
UID:bf285d11-321e-4af1-ba96-6aae09c0a3df
DTSTART;VALUE=DATE:20260428
DTEND;VALUE=DATE:20260429
DESCRIPTION:
LOCATION:
SUMMARY:National School Bus Driver Day
END:VEVENT
BEGIN:VEVENT
DTSTAMP:20260419T184535Z
UID:ea24510d-d9c8-4c6b-82be-6eda5000cfff
DTSTART;VALUE=DATE:20260430
DTEND;VALUE=DATE:20260501
DESCRIPTION:
LOCATION:
SUMMARY:RHS Decision Day
END:VEVENT
BEGIN:VEVENT
DTSTAMP:20260419T184535Z
UID:f13b9c20-36b4-4e87-82b8-cf246b044eeb
DTSTART:20260430T180000
DTEND:20260430T193000
DESCRIPTION:
LOCATION:
SUMMARY:HIGH SCHOOL BAND SPRING CONCERT & RING CEREMONY
END:VEVENT
BEGIN:VEVENT
DTSTAMP:20260419T184535Z
UID:37610a24-7b96-49ce-8f18-353b8e8100dc
DTSTART;VALUE=DATE:20260501
DTEND;VALUE=DATE:20260502
DESCRIPTION:
LOCATION:
SUMMARY:National School Lunch Hero Day
END:VEVENT
BEGIN:VEVENT
DTSTAMP:20260419T184535Z
UID:821faf64-7181-4d24-8b00-a38652acb569
DTSTART;VALUE=DATE:20260501
DTEND;VALUE=DATE:20260502
DESCRIPTION:
LOCATION:
SUMMARY:National School Principals' Day
END:VEVENT
BEGIN:VEVENT
DTSTAMP:20260419T184535Z
UID:119943f0-cffd-4707-967d-a3d611f16325
DTSTART;VALUE=DATE:20260501
DTEND;VALUE=DATE:20260502
DESCRIPTION:
LOCATION:
SUMMARY:NO SCHOOL - STAFF DEVELOPMENT
END:VEVENT
BEGIN:VEVENT
DTSTAMP:20260419T184535Z
UID:f5bc208c-1ec7-4ac5-aa35-39f17a650a19
DTSTART;VALUE=DATE:20260501
DTEND;VALUE=DATE:20260502
DESCRIPTION:
LOCATION:Murchison Performing Arts Center\, 2100 N Interstate 35\, Denton\,
  TX 76201\, USA
SUMMARY:PEAK MUSIC FESTIVAL - HS SYMPHONIC BAND 
END:VEVENT
BEGIN:VEVENT
DTSTAMP:20260419T184535Z
UID:c2b3ab77-c5d0-428a-a047-5f5f1d047f97
DTSTART;VALUE=DATE:20260504
DTEND;VALUE=DATE:20260505
DESCRIPTION:
LOCATION:
SUMMARY:3RD & 4TH GRADE FIELD TRIPS 
END:VEVENT
BEGIN:VEVENT
DTSTAMP:20260419T184535Z
UID:02436c42-7cb0-44fb-b81f-6a59e9b4d47b
DTSTART;VALUE=DATE:20260504
DTEND;VALUE=DATE:20260506
DESCRIPTION:
LOCATION:Lions Municipal Golf Course
SUMMARY:Girls State Golf
END:VEVENT
BEGIN:VEVENT
DTSTAMP:20260419T184535Z
UID:6b6fa8fe-b08a-4951-ad53-1e3f3d802915
DTSTART;VALUE=DATE:20260504
DTEND;VALUE=DATE:20260509
DESCRIPTION:
LOCATION:
SUMMARY:Teacher Appreciation Week 
END:VEVENT
BEGIN:VEVENT
DTSTAMP:20260419T184535Z
UID:479cd8bc-25b1-4816-b614-1d403e1106c7
DTSTART;VALUE=DATE:20260505
DTEND;VALUE=DATE:20260506
DESCRIPTION:
LOCATION:
SUMMARY:RES FIELD DAY 
END:VEVENT
BEGIN:VEVENT
DTSTAMP:20260419T184535Z
UID:b29b7a84-76ce-4c0d-87d4-6b70cc07c06d
DTSTART:20260505T180000
DTEND:20260505T190000
DESCRIPTION:
LOCATION:
SUMMARY:JUNIOR HIGH BAND SPRING CONCERT & AWARDS
END:VEVENT
BEGIN:VEVENT
DTSTAMP:20260419T184535Z
UID:44cc3c16-ec2b-41ac-863b-1337c0104377
DTSTART;VALUE=DATE:20260506
DTEND;VALUE=DATE:20260507
DESCRIPTION:
LOCATION:
SUMMARY:National School Nurse Day
END:VEVENT
BEGIN:VEVENT
DTSTAMP:20260419T184535Z
UID:0ebc05a8-2b6c-4a02-b4b3-6e311633078e
DTSTART;VALUE=DATE:20260507
DTEND;VALUE=DATE:20260508
DESCRIPTION:
LOCATION:
SUMMARY:RES LIBRARY BOOKS DUE 
END:VEVENT
BEGIN:VEVENT
DTSTAMP:20260419T184535Z
UID:de23781b-813f-4ff5-b282-cc9e298886f9
DTSTART:20260507T080000
DTEND:20260508T000000
DESCRIPTION:
LOCATION:TBD
SUMMARY:State Tennis Meet 
END:VEVENT
BEGIN:VEVENT
DTSTAMP:20260419T184535Z
UID:3795e278-1b93-4d65-9fe5-ad87ece706bf
DTSTART:20260507T130000
DTEND:20260507T140000
DESCRIPTION:
LOCATION:
SUMMARY:EARLY RELEASE DAY
END:VEVENT
BEGIN:VEVENT
DTSTAMP:20260419T184535Z
UID:3ba52d49-b350-4ad1-8a07-b18039d6e6fc
DTSTART:20260507T133000
DTEND:20260507T153000
DESCRIPTION:
LOCATION:
SUMMARY:PK & KINDERGARTEN REGISTRATION (ONLINE)
END:VEVENT
BEGIN:VEVENT
DTSTAMP:20260419T184535Z
UID:4b67e639-1883-41b9-b2fd-c2ab12ec2b2f
DTSTART;VALUE=DATE:20260508
DTEND;VALUE=DATE:20260509
DESCRIPTION:
LOCATION:
SUMMARY:NO SCHOOL - WEATHER DAY
END:VEVENT
BEGIN:VEVENT
DTSTAMP:20260419T184535Z
UID:4efd28ff-167f-4461-8680-ad6c28fa773b
DTSTART;VALUE=DATE:20260508
DTEND;VALUE=DATE:20260509
DESCRIPTION:
LOCATION:Canton High School\, 1110 TX-243\, Canton\, TX 75103\, USA
SUMMARY:SOUNDPOST MUSIC FESTIVAL - BEGINNING BAND / JUNIOR HIGH BAND
END:VEVENT
BEGIN:VEVENT
DTSTAMP:20260419T184535Z
UID:7b358018-9666-4734-a219-3756f6cbe1ab
DTSTART;VALUE=DATE:20260510
DTEND;VALUE=DATE:20260511
DESCRIPTION:
LOCATION:
SUMMARY:Mother's Day
END:VEVENT
BEGIN:VEVENT
DTSTAMP:20260419T184535Z
UID:b52f009d-0032-4cdd-b098-85821b235dd2
DTSTART:20260511T083000
DTEND:20260511T093000
DESCRIPTION:
LOCATION:
SUMMARY:Senior Walk
END:VEVENT
BEGIN:VEVENT
DTSTAMP:20260419T184535Z
UID:92f62a21-b490-46c2-adec-c4898c3d78b4
DTSTART:20260511T180000
DTEND:20260511T190000
DESCRIPTION:
LOCATION:
SUMMARY:SPORTS BANQUET
END:VEVENT
BEGIN:VEVENT
DTSTAMP:20260419T184535Z
UID:7672b56e-167f-4457-99ea-415de15d5d4a
DTSTART;VALUE=DATE:20260512
DTEND;VALUE=DATE:20260513
DESCRIPTION:
LOCATION:
SUMMARY:5th Grade 
END:VEVENT
BEGIN:VEVENT
DTSTAMP:20260419T184535Z
UID:932da926-1026-4220-ab8b-89f7fee6cee8
DTSTART:20260512T180000
DTEND:20260512T190000
DESCRIPTION:
LOCATION:
SUMMARY:NHS Induction
END:VEVENT
BEGIN:VEVENT
DTSTAMP:20260419T184535Z
UID:0211e2a4-5d3d-4746-8621-6df81c4b92b0
DTSTART;VALUE=DATE:20260513
DTEND;VALUE=DATE:20260514
DESCRIPTION:
LOCATION:
SUMMARY:RES GT FIELD TRIP
END:VEVENT
BEGIN:VEVENT
DTSTAMP:20260419T184535Z
UID:7e784a8f-4c55-49f5-a3f6-f02f3c23c89c
DTSTART:20260515T100000
DTEND:20260515T120000
DESCRIPTION:
LOCATION:
SUMMARY:Senior Awards Assembly
END:VEVENT
BEGIN:VEVENT
DTSTAMP:20260419T184535Z
UID:ee8112b0-6b1d-4e62-94c3-433ae981838f
DTSTART;VALUE=DATE:20260516
DTEND;VALUE=DATE:20260517
DESCRIPTION:
LOCATION:
SUMMARY:PROM @ THE ROSEWOOD IN MT. VERNON 
END:VEVENT
BEGIN:VEVENT
DTSTAMP:20260419T184535Z
UID:dad05154-e75c-4d0b-9781-0933f1bfc153
DTSTART;VALUE=DATE:20260518
DTEND;VALUE=DATE:20260519
DESCRIPTION:
LOCATION:
SUMMARY:National Speech Pathologists' Day
END:VEVENT
BEGIN:VEVENT
DTSTAMP:20260419T184535Z
UID:74d1f1e7-e8df-4525-98a2-59793f789f05
DTSTART;VALUE=DATE:20260519
DTEND;VALUE=DATE:20260520
DESCRIPTION:
LOCATION:
SUMMARY:RES END OF YEAR AWARDS 
END:VEVENT
BEGIN:VEVENT
DTSTAMP:20260419T184535Z
UID:732aba3e-7f57-46fe-a9a8-aecd1de39652
DTSTART:20260519T180000
DTEND:20260519T190000
DESCRIPTION:
LOCATION:
SUMMARY:RJH END OF YEAR AWARDS
END:VEVENT
BEGIN:VEVENT
DTSTAMP:20260419T184535Z
UID:f702fc80-e200-43e2-83bd-bc40a83c3abf
DTSTART;VALUE=DATE:20260520
DTEND;VALUE=DATE:20260521
DESCRIPTION:
LOCATION:
SUMMARY:EARLY RELEASE
END:VEVENT
BEGIN:VEVENT
DTSTAMP:20260419T184535Z
UID:d46dd898-11f2-4cd9-96bd-acfbbb57cca2
DTSTART;VALUE=DATE:20260521
DTEND;VALUE=DATE:20260522
DESCRIPTION:
LOCATION:
SUMMARY:EARLY RELEASE 
END:VEVENT
BEGIN:VEVENT
DTSTAMP:20260419T184535Z
UID:ede98ff1-51cb-4d48-89cf-cd96842cbae6
DTSTART;VALUE=DATE:20260521
DTEND;VALUE=DATE:20260522
DESCRIPTION:
LOCATION:
SUMMARY:LAST DAY OF SCHOOL 
END:VEVENT
BEGIN:VEVENT
DTSTAMP:20260419T184535Z
UID:26d7836f-5e59-4ea8-a9b9-9973e835566c
DTSTART;VALUE=DATE:20260522
DTEND;VALUE=DATE:20260523
DESCRIPTION:
LOCATION:
SUMMARY:GRADUATION 
END:VEVENT
BEGIN:VEVENT
DTSTAMP:20260419T184535Z
UID:a4ef15b5-2472-4a7b-b42a-1cb58185795b
DTSTART;VALUE=DATE:20260522
DTEND;VALUE=DATE:20260523
DESCRIPTION:
LOCATION:
SUMMARY:TEACHER WORKDAY 
END:VEVENT
BEGIN:VEVENT
DTSTAMP:20260419T184535Z
UID:b7550acd-585d-4b11-911d-7dab3510d49b
DTSTART;VALUE=DATE:20260525
DTEND;VALUE=DATE:20260526
DESCRIPTION:
LOCATION:
SUMMARY:Memorial Day
END:VEVENT
BEGIN:VEVENT
DTSTAMP:20260419T184535Z
UID:4d15203a-3baf-4aa0-8ebb-e3a02946f122
DTSTART:20260720T120000
DTEND:20260721T000000
DESCRIPTION:
LOCATION:McKinney ISD District-wide Stadium\, 4201 S Hardin Blvd\, McKinney
 \, TX 75070\, USA
SUMMARY:BAND CAMP KICKOFF - DCI MCKINNEY
END:VEVENT
BEGIN:VEVENT
DTSTAMP:20260419T184535Z
UID:36729b41-b255-4b10-a8ec-efd7bd5a2a9e
DTSTART;VALUE=DATE:20260907
DTEND;VALUE=DATE:20260908
DESCRIPTION:
LOCATION:
SUMMARY:Labor Day
END:VEVENT
BEGIN:VEVENT
DTSTAMP:20260419T184535Z
UID:56bcb0fa-ed7a-4c5a-8536-29019325b32f
DTSTART;VALUE=DATE:20260930
DTEND;VALUE=DATE:20261004
DESCRIPTION:
LOCATION:
SUMMARY:Red River County Fair
END:VEVENT
BEGIN:VEVENT
DTSTAMP:20260419T184535Z
UID:0391954e-169c-4654-9025-c29f7d199ed5
DTSTART;VALUE=DATE:20260930
DTEND;VALUE=DATE:20261004
DESCRIPTION:Ag Mech &amp\; Rabbits - Thurs @ 8:00\nHeifers- 3:00\nChickens 
 - Fri @8:00\n\nSale - Sat @ 5:00
LOCATION:
SUMMARY:Titus County Fair
END:VEVENT
BEGIN:VEVENT
DTSTAMP:20260419T184535Z
UID:c98339b4-506c-4dbb-95e7-d4afc7c1369b
DTSTART;VALUE=DATE:20261013
DTEND;VALUE=DATE:20261014
DESCRIPTION:
LOCATION:Sam Parker Field\, 2801 Old Paris Rd\, Mt Pleasant\, TX 75455\, US
 A
SUMMARY:UIL REGION 4 MARCHING CONTEST
END:VEVENT
BEGIN:VEVENT
DTSTAMP:20260419T184535Z
UID:9d40f671-4c7d-4331-94e6-f250117ee194
DTSTART;VALUE=DATE:20261031
DTEND;VALUE=DATE:20261101
DESCRIPTION:
LOCATION:Mineola High School Yellowjacket Stadium\, 1040 W State Loop 564 #
 1026\, Mineola\, TX 75773\, USA
SUMMARY:UIL AREA C MARCHING CONTEST
END:VEVENT
BEGIN:VEVENT
DTSTAMP:20260419T184535Z
UID:0bbc5ee1-53ad-4388-9a49-ae323c8964a9
DTSTART;VALUE=DATE:20261101
DTEND;VALUE=DATE:20261102
DESCRIPTION:
LOCATION:
SUMMARY:Daylight Saving Time ends
END:VEVENT
BEGIN:VEVENT
DTSTAMP:20260419T184535Z
UID:d979058d-ae57-4f23-ac6b-65ce91360c87
DTSTART;VALUE=DATE:20261110
DTEND;VALUE=DATE:20261111
DESCRIPTION:
LOCATION:
SUMMARY:2A STATE MBC PRELIMS/FINALS
END:VEVENT
BEGIN:VEVENT
DTSTAMP:20260419T184535Z
UID:97f83edd-3c9b-4f54-8f47-fc15782ef6eb
DTSTART;VALUE=DATE:20261126
DTEND;VALUE=DATE:20261127
DESCRIPTION:
LOCATION:
SUMMARY:Thanksgiving Day
END:VEVENT
BEGIN:VEVENT
DTSTAMP:20260419T184535Z
UID:59494090-c513-4cce-aa77-58e60f51b7fb
DTSTART;VALUE=DATE:20261228
DTEND;VALUE=DATE:20261231
DESCRIPTION:
LOCATION:
SUMMARY:Holiday Classic Boys Varsity Tournament 
END:VEVENT
END:VCALENDAR
