BEGIN:VCALENDAR
VERSION:2.0
PRODID:icalendar-ruby
CALSCALE:GREGORIAN
BEGIN:VTIMEZONE
TZID:America/New_York
BEGIN:DAYLIGHT
DTSTART:20260308T030000
TZOFFSETFROM:-0500
TZOFFSETTO:-0400
RRULE:FREQ=YEARLY;BYDAY=2SU;BYMONTH=3
TZNAME:EDT
END:DAYLIGHT
BEGIN:STANDARD
DTSTART:20261101T010000
TZOFFSETFROM:-0400
TZOFFSETTO:-0500
RRULE:FREQ=YEARLY;BYDAY=1SU;BYMONTH=11
TZNAME:EST
END:STANDARD
END:VTIMEZONE
BEGIN:VEVENT
DTSTAMP:20260425T171723Z
UID:24f0866a-f275-4c80-87ce-797646c26a50
DTSTART:20260428T130000
DTEND:20260428T143000
DESCRIPTION:
LOCATION:
SUMMARY:Spring Arts Festival - DBO Students 
END:VEVENT
BEGIN:VEVENT
DTSTAMP:20260425T171723Z
UID:1f5df0ab-1154-4b15-ad43-e4d75e2873de
DTSTART:20260428T190000
DTEND:20260428T203000
DESCRIPTION:
LOCATION:
SUMMARY:Spring Arts Festival - DBO Parents 
END:VEVENT
BEGIN:VEVENT
DTSTAMP:20260425T171723Z
UID:32ce26a0-7213-4262-8b4f-45648df9c455
DTSTART;VALUE=DATE:20260501
DTEND;VALUE=DATE:20260502
DESCRIPTION:
LOCATION:
SUMMARY:DBO - Monthly Recognition Assembly 
END:VEVENT
BEGIN:VEVENT
DTSTAMP:20260425T171723Z
UID:65f15ef7-77a8-47a1-a430-abf101559b9c
DTSTART:20260508T183000
DTEND:20260508T193000
DESCRIPTION:
LOCATION:
SUMMARY:PTA Candy Bar Bingo 
END:VEVENT
BEGIN:VEVENT
DTSTAMP:20260425T171723Z
UID:4d7477d1-2da3-457f-b2a6-c147951c9fb5
DTSTART;VALUE=DATE:20260518
DTEND;VALUE=DATE:20260523
DESCRIPTION:
LOCATION:
SUMMARY:Teacher Appreciation Week 
END:VEVENT
BEGIN:VEVENT
DTSTAMP:20260425T171723Z
UID:457a49c2-149d-45cb-854d-f57bf0c0836c
DTSTART:20260519T190000
DTEND:20260519T200000
DESCRIPTION:
LOCATION:
SUMMARY:PTA Meeting
END:VEVENT
BEGIN:VEVENT
DTSTAMP:20260425T171723Z
UID:fca42219-8cb6-47e4-b632-bb413edbcb75
DTSTART;VALUE=DATE:20260525
DTEND;VALUE=DATE:20260526
DESCRIPTION:
LOCATION:
SUMMARY:Memorial Day- District Closed 
END:VEVENT
BEGIN:VEVENT
DTSTAMP:20260425T171723Z
UID:ef194a54-1418-41ba-a14f-aa925b5a57c3
DTSTART:20260527T180000
DTEND:20260527T190000
DESCRIPTION:
LOCATION:
SUMMARY:LEAD Celebration Ceremony - DBO Gym 
END:VEVENT
BEGIN:VEVENT
DTSTAMP:20260425T171723Z
UID:8ebceeb0-eee9-4c89-a77e-1c0d13b86d02
DTSTART;VALUE=DATE:20260529
DTEND;VALUE=DATE:20260530
DESCRIPTION:
LOCATION:
SUMMARY:DBO Field Day 
END:VEVENT
BEGIN:VEVENT
DTSTAMP:20260425T171723Z
UID:7e4b7d53-fa29-44b4-b6fc-959efd914d56
DTSTART;VALUE=DATE:20260601
DTEND;VALUE=DATE:20260602
DESCRIPTION:
LOCATION:
SUMMARY:DBO - Monthly Recognition Assembly 
END:VEVENT
BEGIN:VEVENT
DTSTAMP:20260425T171723Z
UID:9e9536db-a176-4c19-bdfc-d8449ff88443
DTSTART;VALUE=DATE:20260603
DTEND;VALUE=DATE:20260604
DESCRIPTION:
LOCATION:
SUMMARY:Early Dismissal/Staff In Service 
END:VEVENT
BEGIN:VEVENT
DTSTAMP:20260425T171723Z
UID:3364543b-88af-4f85-ab62-894bdf435421
DTSTART;VALUE=DATE:20260609
DTEND;VALUE=DATE:20260610
DESCRIPTION:
LOCATION:
SUMMARY:5th Grade LEAD DAY 
END:VEVENT
BEGIN:VEVENT
DTSTAMP:20260425T171723Z
UID:4d729fa0-66a2-40cd-a925-f7eb01b1143c
DTSTART;VALUE=DATE:20260618
DTEND;VALUE=DATE:20260619
DESCRIPTION:
LOCATION:
SUMMARY:T3 ends
END:VEVENT
END:VCALENDAR
