BEGIN:VCALENDAR
VERSION:2.0
PRODID:icalendar-ruby
CALSCALE:GREGORIAN
BEGIN:VTIMEZONE
TZID:America/Los_Angeles
BEGIN:DAYLIGHT
DTSTART:20260308T030000
TZOFFSETFROM:-0800
TZOFFSETTO:-0700
RRULE:FREQ=YEARLY;BYDAY=2SU;BYMONTH=3
TZNAME:PDT
END:DAYLIGHT
BEGIN:STANDARD
DTSTART:20261101T010000
TZOFFSETFROM:-0700
TZOFFSETTO:-0800
RRULE:FREQ=YEARLY;BYDAY=1SU;BYMONTH=11
TZNAME:PST
END:STANDARD
END:VTIMEZONE
BEGIN:VEVENT
DTSTAMP:20260425T161449Z
UID:590fa484-7c2e-4190-8f65-c2b7f37573bb
DTSTART;VALUE=DATE:20260525
DTEND;VALUE=DATE:20260526
DESCRIPTION:
LOCATION:
SUMMARY:No School - Memorial Day
END:VEVENT
BEGIN:VEVENT
DTSTAMP:20260425T161449Z
UID:d6ef8fe9-84af-4285-ae89-60d06dc2b9ba
DTSTART;VALUE=DATE:20260529
DTEND;VALUE=DATE:20260530
DESCRIPTION:
LOCATION:
SUMMARY:No School/Snow Make-up Day #2
END:VEVENT
BEGIN:VEVENT
DTSTAMP:20260425T161449Z
UID:8b372505-916a-4a6f-96c6-c737e4c7a7b1
DTSTART;VALUE=DATE:20260612
DTEND;VALUE=DATE:20260613
DESCRIPTION:
LOCATION:
SUMMARY:RHS Graduation
END:VEVENT
BEGIN:VEVENT
DTSTAMP:20260425T161449Z
UID:28b5dc74-2ee8-4ab9-98ab-b987c25ac924
DTSTART:20260616T075500
DTEND:20260616T130000
DESCRIPTION:
LOCATION:
SUMMARY:Early Release for Grades 9-12 (Finals Schedule)
END:VEVENT
BEGIN:VEVENT
DTSTAMP:20260425T161449Z
UID:d05ef23d-f625-48d8-854b-ef88e11e1e42
DTSTART;VALUE=DATE:20260617
DTEND;VALUE=DATE:20260618
DESCRIPTION:<p><strong>Early Release Times:</strong></p><p>URES/SRES (K-4th
 )\, 12:35 p.m.\; SRIS (grades 5-6)\, 11:30 a.m.\; RHS (grades 9-12)\, 1 p.
 m.</p><p>Meals served on all school days\, including early release days.</
 p>
LOCATION:
SUMMARY:Last Day of School - Early Release for All Grades
END:VEVENT
BEGIN:VEVENT
DTSTAMP:20260425T161449Z
UID:096565b0-d993-4c65-9262-cf96eb92d315
DTSTART:20260617T075500
DTEND:20260617T130000
DESCRIPTION:
LOCATION:
SUMMARY:Early Release for Grades 9-12 (Finals Schedule)
END:VEVENT
BEGIN:VEVENT
DTSTAMP:20260425T161449Z
UID:bdbdfc81-7f1a-49b1-a631-47a9ef905c5f
DTSTART;VALUE=DATE:20260618
DTEND;VALUE=DATE:20260619
DESCRIPTION:
LOCATION:
SUMMARY:No School/Snow Make-up Day #3
END:VEVENT
BEGIN:VEVENT
DTSTAMP:20260425T161449Z
UID:406d1957-ecca-4202-bcfd-b686b203e984
DTSTART;VALUE=DATE:20260619
DTEND;VALUE=DATE:20260620
DESCRIPTION:
LOCATION:
SUMMARY:No School - Juneteenth Emancipation Day
END:VEVENT
BEGIN:VEVENT
DTSTAMP:20260425T161449Z
UID:0e362c2e-2db5-4133-a25d-5a4e3eec2849
DTSTART;VALUE=DATE:20260703
DTEND;VALUE=DATE:20260704
DESCRIPTION:
LOCATION:
SUMMARY:School and District Offices Closed for Independence Day
END:VEVENT
END:VCALENDAR
