BEGIN:VCALENDAR
VERSION:2.0
PRODID:icalendar-ruby
CALSCALE:GREGORIAN
BEGIN:VTIMEZONE
TZID:America/New_York
BEGIN:DAYLIGHT
DTSTART:20260308T030000
TZOFFSETFROM:-0500
TZOFFSETTO:-0400
RRULE:FREQ=YEARLY;BYDAY=2SU;BYMONTH=3
TZNAME:EDT
END:DAYLIGHT
BEGIN:STANDARD
DTSTART:20261101T010000
TZOFFSETFROM:-0400
TZOFFSETTO:-0500
RRULE:FREQ=YEARLY;BYDAY=1SU;BYMONTH=11
TZNAME:EST
END:STANDARD
END:VTIMEZONE
BEGIN:VEVENT
DTSTAMP:20260421T162921Z
UID:f335e31d-33a2-4240-a867-667c191dbd27
DTSTART;VALUE=DATE:20260421
DTEND;VALUE=DATE:20260422
DESCRIPTION:
LOCATION:
SUMMARY:Third Marking Period Reports Cards Available
END:VEVENT
BEGIN:VEVENT
DTSTAMP:20260421T162921Z
UID:90e41dee-bcc1-452b-81d8-9de3c14aa460
DTSTART:20260421T190000
DTEND:20260421T200000
DESCRIPTION:<p><strong>Attention Sophomore &amp\; Junior Students\, Ed Zamo
 ra is hosting\, “The Sophomore/Junior HS College Aid Prep Process".</str
 ong></p><p><strong>This is a Virtual presentation to talk about the financ
 ial prep process.</strong></p><p>When: Apr 21\, 2026&nbsp\; at 7:00 PM Eas
 tern Time (US and Canada)</p><ul><li><p>What Sophomore and Junior parents 
 should know and be doing now&nbsp\;</p></li><li><p>The impact of Test Opti
 onal/Blind going forward on the Financial Aid process&nbsp\;</p></li><li><
 p>The Federal and State changes to College Financial Aid&nbsp\;</p></li><l
 i><p>Scholarships Available before Senior year in High School&nbsp\;</p></
 li><li><p>The impact of divorce and remarriage on Financial Aid Opportunit
 y&nbsp\;</p></li><li><p>How to handle Rising College Cost&nbsp\;</p></li><
 li><p>How to evaluate colleges on the out of pocket cost</p></li></ul><p><
 strong>You are invited to register for a Zoom webinar!</strong></p><p>Regi
 ster in advance for this webinar:</p><p><a target="_blank" rel="noopener n
 oreferrer nofollow" href="https://us02web.zoom.us/webinar/register/WN_TEIA
 l71kQeK6RVoOPjSrQw">https://us02web.zoom.us/webinar/register/WN_TEIAl71kQe
 K6RVoOPjSrQw</a></p>
LOCATION:
SUMMARY:Sophomore/Junior HS College Aid Prep Presentation (Virtual)
END:VEVENT
BEGIN:VEVENT
DTSTAMP:20260421T162921Z
UID:ba475478-842d-4de0-9bd9-d17da5606c54
DTSTART;VALUE=DATE:20260423
DTEND;VALUE=DATE:20260424
DESCRIPTION:
LOCATION:
SUMMARY:Take Your Child to Work Day
END:VEVENT
BEGIN:VEVENT
DTSTAMP:20260421T162921Z
UID:0c9f4e34-2002-4acc-a880-7d89225742bc
DTSTART:20260423T190000
DTEND:20260423T200000
DESCRIPTION:<p><strong>Attention Seniors: Ed Zamora will be hosting our spr
 ing "Senior College Prep Program"</strong></p><p>When: Apr 23\, 2026&nbsp\
 ;</p><p>When: Virtual- 7:00 PM Eastern Time (US and Canada)</p><ul><li><p>
 Getting Ready for Freshman year of College&nbsp\;</p></li><li><p>Properly 
 reading the award letters&nbsp\;</p></li><li><p>Understanding the appeal p
 rocess&nbsp\;</p></li><li><p>The Federal and Private loans available and h
 ow they work&nbsp\;</p></li><li><p>Master Promissory Notes &amp\; Entrance
  Interview Paperwork&nbsp\;</p></li><li><p>Continuing scholarship opportun
 ities&nbsp\;</p></li><li><p>Dealing with waitlist and rejection&nbsp\;</p>
 </li><li><p>FERPA and the HIPPA forms</p></li></ul><p><strong>You are invi
 ted to register for a Zoom webinar!</strong></p><p>Register in advance for
  this webinar:</p><p><a target="_blank" rel="noopener noreferrer nofollow"
  href="https://us02web.zoom.us/webinar/register/WN_cwD1G5YLTbqeQrgQJ74B-QG
 5YLTbqeQrgQJ74B-Q">https://us02web.zoom.us/webinar/register/WN_cwD1G5YLTbq
 eQrgQJ74B-QG5YLTbqeQrgQJ74B-Q</a></p>
LOCATION:
SUMMARY:Senior Financial Aid Presentation
END:VEVENT
BEGIN:VEVENT
DTSTAMP:20260421T162921Z
UID:978b8b85-9108-447d-a8fc-2b386f385e73
DTSTART;VALUE=DATE:20260424
DTEND;VALUE=DATE:20260425
DESCRIPTION:
LOCATION:
SUMMARY:Single Session Students
END:VEVENT
BEGIN:VEVENT
DTSTAMP:20260421T162921Z
UID:b583636d-934e-4c0c-adb0-72cc55b0ff42
DTSTART:20260425T180000
DTEND:20260425T210000
DESCRIPTION:
LOCATION:
SUMMARY:Dessert & Jazz
END:VEVENT
BEGIN:VEVENT
DTSTAMP:20260421T162921Z
UID:836f0571-25f7-42dd-aa24-1096a4206bb6
DTSTART:20260430T130000
DTEND:20260430T190000
DESCRIPTION:
LOCATION:
SUMMARY:Red Cross Blood Drive
END:VEVENT
BEGIN:VEVENT
DTSTAMP:20260421T162921Z
UID:70454869-31d2-4607-af71-8916ff9a4bf4
DTSTART:20260501T141500
DTEND:20260501T150000
DESCRIPTION:
LOCATION:Media Center
SUMMARY:Division II & III National Signing Day
END:VEVENT
BEGIN:VEVENT
DTSTAMP:20260421T162921Z
UID:3fde0c7d-85ad-4ae7-85f8-cfe2143c53ed
DTSTART:20260503T090000
DTEND:20260503T130000
DESCRIPTION:
LOCATION:Madison High School
SUMMARY:MEF 5K Race
END:VEVENT
BEGIN:VEVENT
DTSTAMP:20260421T162921Z
UID:4caecdfd-6fca-46b4-b161-100a94f44a55
DTSTART;VALUE=DATE:20260504
DTEND;VALUE=DATE:20260509
DESCRIPTION:
LOCATION:
SUMMARY:Week #1 - AP Exams
END:VEVENT
BEGIN:VEVENT
DTSTAMP:20260421T162921Z
UID:75b3f547-e6d2-4ff9-b93c-52a7ce2ead72
DTSTART;VALUE=DATE:20260511
DTEND;VALUE=DATE:20260516
DESCRIPTION:
LOCATION:
SUMMARY:Week #2 - AP Exams
END:VEVENT
BEGIN:VEVENT
DTSTAMP:20260421T162921Z
UID:dd7ac21a-7bdd-40b2-aa8f-aefee26d4fe5
DTSTART;VALUE=DATE:20260518
DTEND;VALUE=DATE:20260523
DESCRIPTION:
LOCATION:
SUMMARY:AP Late Make Up Testing
END:VEVENT
BEGIN:VEVENT
DTSTAMP:20260421T162921Z
UID:8a1d669d-5c01-4141-b437-1f382368e1df
DTSTART:20260520T190000
DTEND:20260520T203000
DESCRIPTION:
LOCATION:Auditorium
SUMMARY:Spring Chorus/Orchestra Concert
END:VEVENT
BEGIN:VEVENT
DTSTAMP:20260421T162921Z
UID:e9340631-d86b-433d-9021-4a04facf2e63
DTSTART;VALUE=DATE:20260521
DTEND;VALUE=DATE:20260522
DESCRIPTION:
LOCATION:
SUMMARY:Day of Service & Senior Meeting
END:VEVENT
BEGIN:VEVENT
DTSTAMP:20260421T162921Z
UID:3d5e3207-1d54-4094-8dbe-607dc27fa277
DTSTART;VALUE=DATE:20260525
DTEND;VALUE=DATE:20260526
DESCRIPTION:
LOCATION:
SUMMARY:School Closed - Memorial Day
END:VEVENT
BEGIN:VEVENT
DTSTAMP:20260421T162921Z
UID:fc01b4e4-2516-4aef-9975-39f5297a18ad
DTSTART:20260528T190000
DTEND:20260528T210000
DESCRIPTION:
LOCATION:Auditorium
SUMMARY:Spring Band Concert
END:VEVENT
BEGIN:VEVENT
DTSTAMP:20260421T162921Z
UID:13e8427e-a69b-40fb-8073-91099611e466
DTSTART:20260602T180000
DTEND:20260602T200000
DESCRIPTION:
LOCATION:St. Elizabeth University
SUMMARY:District Art Show
END:VEVENT
BEGIN:VEVENT
DTSTAMP:20260421T162921Z
UID:d1c91317-1a30-4268-87e4-02826992bbd3
DTSTART:20260604T183000
DTEND:20260604T200000
DESCRIPTION:
LOCATION:Auditorium
SUMMARY:Class of 2026 Awards Night
END:VEVENT
BEGIN:VEVENT
DTSTAMP:20260421T162921Z
UID:d361ae2d-94bb-4e86-9009-cee0317a4870
DTSTART:20260608T183000
DTEND:20260608T200000
DESCRIPTION:
LOCATION:Front Lawn
SUMMARY:Baccalaureate & Yearbook Distribution
END:VEVENT
BEGIN:VEVENT
DTSTAMP:20260421T162921Z
UID:254cb275-65a5-408c-9ead-18db3e739777
DTSTART:20260611T141500
DTEND:20260611T150000
DESCRIPTION:
LOCATION:Auditorium
SUMMARY:Undergraduate Awards
END:VEVENT
BEGIN:VEVENT
DTSTAMP:20260421T162921Z
UID:6752c933-c2bb-4509-a9ff-b4776cce2885
DTSTART:20260612T130000
DTEND:20260612T143000
DESCRIPTION:
LOCATION:Auditorium & Main Gymnasium
SUMMARY:8th Grade Moving Up Day & Activity Fair
END:VEVENT
BEGIN:VEVENT
DTSTAMP:20260421T162921Z
UID:af33196b-8787-4bdf-bb67-5a2dc1ffe21e
DTSTART:20260616T180000
DTEND:20260616T220000
DESCRIPTION:
LOCATION:Valley Regency\, Clifton\, NJ
SUMMARY:Senior Prom
END:VEVENT
BEGIN:VEVENT
DTSTAMP:20260421T162921Z
UID:c95a4028-65f6-4406-b53d-b1d8bb1da2d3
DTSTART:20260617T090000
DTEND:20260617T110000
DESCRIPTION:
LOCATION:Football Field
SUMMARY:Graduation Practice
END:VEVENT
BEGIN:VEVENT
DTSTAMP:20260421T162921Z
UID:7846c482-8cb7-46fc-a0b9-9e91dda76258
DTSTART:20260617T130000
DTEND:20260617T160000
DESCRIPTION:
LOCATION:Madison Community Pool
SUMMARY:Senior Barbecue
END:VEVENT
BEGIN:VEVENT
DTSTAMP:20260421T162921Z
UID:9875eccc-e983-49b4-b6b3-459055884b0a
DTSTART;VALUE=DATE:20260618
DTEND;VALUE=DATE:20260619
DESCRIPTION:
LOCATION:
SUMMARY:End of 4th Marking Period
END:VEVENT
BEGIN:VEVENT
DTSTAMP:20260421T162921Z
UID:55555913-26fb-43bb-8aeb-0a722355bb21
DTSTART:20260618T090000
DTEND:20260618T110000
DESCRIPTION:
LOCATION:Auditorium
SUMMARY:Graduation Practice
END:VEVENT
BEGIN:VEVENT
DTSTAMP:20260421T162921Z
UID:bfdf9609-503a-48eb-a5ee-572681383ae4
DTSTART:20260618T183000
DTEND:20260618T200000
DESCRIPTION:
LOCATION:Football Field
SUMMARY:Graduation
END:VEVENT
BEGIN:VEVENT
DTSTAMP:20260421T162921Z
UID:fad34de4-97fc-46b2-8e55-4d5a4dff592b
DTSTART;VALUE=DATE:20260622
DTEND;VALUE=DATE:20260623
DESCRIPTION:
LOCATION:
SUMMARY:4th Marking Period Report Cards Available
END:VEVENT
END:VCALENDAR
