BEGIN:VCALENDAR
VERSION:2.0
PRODID:icalendar-ruby
CALSCALE:GREGORIAN
BEGIN:VTIMEZONE
TZID:America/New_York
BEGIN:DAYLIGHT
DTSTART:20260308T030000
TZOFFSETFROM:-0500
TZOFFSETTO:-0400
RRULE:FREQ=YEARLY;BYDAY=2SU;BYMONTH=3
TZNAME:EDT
END:DAYLIGHT
BEGIN:STANDARD
DTSTART:20261101T010000
TZOFFSETFROM:-0400
TZOFFSETTO:-0500
RRULE:FREQ=YEARLY;BYDAY=1SU;BYMONTH=11
TZNAME:EST
END:STANDARD
END:VTIMEZONE
BEGIN:VEVENT
DTSTAMP:20260420T141643Z
UID:50139592-5fc9-4fe9-b680-fef3b1486cb7
DTSTART:20260420T170000
DTEND:20260420T180000
DESCRIPTION:
LOCATION:Central Office
SUMMARY:School Board Meeting
END:VEVENT
BEGIN:VEVENT
DTSTAMP:20260420T141643Z
UID:8f59ede4-d2f2-42c1-ba85-dd47d8ad2f40
DTSTART:20260518T170000
DTEND:20260518T180000
DESCRIPTION:
LOCATION:Central Office
SUMMARY:School Board Meeting
END:VEVENT
END:VCALENDAR
