BEGIN:VCALENDAR
VERSION:2.0
PRODID:icalendar-ruby
CALSCALE:GREGORIAN
BEGIN:VTIMEZONE
TZID:America/Denver
BEGIN:DAYLIGHT
DTSTART:20260308T030000
TZOFFSETFROM:-0700
TZOFFSETTO:-0600
RRULE:FREQ=YEARLY;BYDAY=2SU;BYMONTH=3
TZNAME:MDT
END:DAYLIGHT
BEGIN:STANDARD
DTSTART:20261101T010000
TZOFFSETFROM:-0600
TZOFFSETTO:-0700
RRULE:FREQ=YEARLY;BYDAY=1SU;BYMONTH=11
TZNAME:MST
END:STANDARD
END:VTIMEZONE
BEGIN:VEVENT
DTSTAMP:20260419T230336Z
UID:8b7a7f6f-5f54-4501-b309-f5b77f8a1705
DTSTART:20260420T070000
DTEND:20260420T090000
DESCRIPTION:
LOCATION:235 Holt Ave\, Kaycee\, WY 82639\, USA
SUMMARY:WHF BLOOD DRAW - ELEMENTARY LIBRARY 7:00 - 09:00AM
END:VEVENT
BEGIN:VEVENT
DTSTAMP:20260419T230336Z
UID:85ced220-4700-4dd6-b914-1331e6d798ab
DTSTART:20260420T153000
DTEND:20260420T163000
DESCRIPTION:
LOCATION:
SUMMARY:WYTOPP assembly
END:VEVENT
BEGIN:VEVENT
DTSTAMP:20260419T230336Z
UID:20b0e73a-4a65-4540-a63d-83b89f1ac3dc
DTSTART;VALUE=DATE:20260421
DTEND;VALUE=DATE:20260424
DESCRIPTION:
LOCATION:
SUMMARY:WYTOPP testing
END:VEVENT
BEGIN:VEVENT
DTSTAMP:20260419T230336Z
UID:0f63eef4-4512-4673-8c62-66041bc1ae2d
DTSTART;VALUE=DATE:20260422
DTEND;VALUE=DATE:20260423
DESCRIPTION:
LOCATION:
SUMMARY:ACT test
END:VEVENT
BEGIN:VEVENT
DTSTAMP:20260419T230336Z
UID:46ca23ef-b228-45a0-b696-74e62d8a42f2
DTSTART:20260422T090000
DTEND:20260422T110000
DESCRIPTION:
LOCATION:
SUMMARY:Author presentation 3-5 @9:00  K-2 @ 10:00
END:VEVENT
BEGIN:VEVENT
DTSTAMP:20260419T230336Z
UID:6089e4b1-49f6-4c17-b8da-8e19a19fe0e8
DTSTART;VALUE=DATE:20260423
DTEND;VALUE=DATE:20260424
DESCRIPTION:
LOCATION:
SUMMARY:FFA WORK AUCTION  TBA
END:VEVENT
BEGIN:VEVENT
DTSTAMP:20260419T230336Z
UID:3602510a-2a21-4b04-a4e6-62763a5c0536
DTSTART;VALUE=DATE:20260424
DTEND;VALUE=DATE:20260425
DESCRIPTION:
LOCATION:235 Holt Ave\, Kaycee\, WY 82639\, USA
SUMMARY:MS / HS TRACK INVITE - KAYCEE
END:VEVENT
BEGIN:VEVENT
DTSTAMP:20260419T230336Z
UID:3f544de0-97a6-473c-a9d3-af1c9a43159f
DTSTART:20260424T080000
DTEND:20260424T111500
DESCRIPTION:
LOCATION:101 Klondike Dr\, Buffalo\, WY 82834\, USA
SUMMARY:KCS SWIM LESSONS - 8:00AM-11:15AM
END:VEVENT
BEGIN:VEVENT
DTSTAMP:20260419T230336Z
UID:648031ad-8f27-490e-942e-9e2609ae9a24
DTSTART;VALUE=DATE:20260425
DTEND;VALUE=DATE:20260426
DESCRIPTION:
LOCATION:930 S Elm St\, Casper\, WY 82601\, USA
SUMMARY:MS TRACK @ CASPER NCHS
END:VEVENT
BEGIN:VEVENT
DTSTAMP:20260419T230336Z
UID:e3001434-f19e-4965-a27f-0a2281b24848
DTSTART;VALUE=DATE:20260429
DTEND;VALUE=DATE:20260501
DESCRIPTION:<p></p>
LOCATION:1 Events Dr\, Casper\, WY 82601\, USA\, Kaycee School-KS School Ca
 lendar
SUMMARY:KCS ART SYMPOSIUM -@ CASPER EVENT CENTER  -  4.29-4.30-26
END:VEVENT
BEGIN:VEVENT
DTSTAMP:20260419T230336Z
UID:d6ea40bc-38d3-48f8-bf33-7d2164d7161e
DTSTART:20260430T144500
DTEND:20260430T160000
DESCRIPTION:
LOCATION:235 Holt Ave\, Kaycee\, WY 82639\, USA
SUMMARY:KCMS SHOWCASE - COMMONS
END:VEVENT
BEGIN:VEVENT
DTSTAMP:20260419T230336Z
UID:9a877e3d-3c60-4ffe-bf33-367b2b9f6492
DTSTART:20260501T080000
DTEND:20260501T111500
DESCRIPTION:
LOCATION:101 Klondike Dr\, Buffalo\, WY 82834\, USA
SUMMARY:KCS SWIM LESSONS 8:00AM-11:30AM
END:VEVENT
BEGIN:VEVENT
DTSTAMP:20260419T230336Z
UID:2180619f-f798-464e-9d40-fe3030cb6d7b
DTSTART:20260501T083000
DTEND:20260501T130000
DESCRIPTION:
LOCATION:
SUMMARY:Para-PD 
END:VEVENT
BEGIN:VEVENT
DTSTAMP:20260419T230336Z
UID:ece63129-417e-4137-b4df-cff172dc108a
DTSTART:20260501T100000
DTEND:20260501T120000
DESCRIPTION:<p>FOCUS FRIDAY</p>
LOCATION:
SUMMARY:FOCUS FRIDAY 10:00AM - 12:00PM
END:VEVENT
BEGIN:VEVENT
DTSTAMP:20260419T230336Z
UID:bce5e8a8-d3bf-4231-8955-5523a4d07156
DTSTART;VALUE=DATE:20260502
DTEND;VALUE=DATE:20260503
DESCRIPTION:
LOCATION:702 W 5th St\, Lusk\, WY 82225\, USA
SUMMARY:KCHS TRACK @ LUSK DENNIS ZOWADA INVITE
END:VEVENT
BEGIN:VEVENT
DTSTAMP:20260419T230336Z
UID:f9dd3c5d-bfa8-4ea8-bf7f-bfe2c8cbc579
DTSTART;VALUE=DATE:20260502
DTEND;VALUE=DATE:20260503
DESCRIPTION:
LOCATION:220 Wright Blvd\, Wright\, WY 82732\, USA
SUMMARY:KCMS TRACK @ WRIGHT
END:VEVENT
BEGIN:VEVENT
DTSTAMP:20260419T230336Z
UID:513b74ff-156d-45d0-85d7-2c63aa74f146
DTSTART;VALUE=DATE:20260504
DTEND;VALUE=DATE:20260506
DESCRIPTION:
LOCATION:
SUMMARY:KCS 8-12 COLLEGE TOUR - BILLINGS
END:VEVENT
BEGIN:VEVENT
DTSTAMP:20260419T230336Z
UID:ab3ddc52-4b4c-4aa9-b90a-59687e4951a1
DTSTART:20260504T173000
DTEND:20260504T190000
DESCRIPTION:
LOCATION:Kaycee School-KS School Calendar
SUMMARY:Uprising Parent Informational night
END:VEVENT
BEGIN:VEVENT
DTSTAMP:20260419T230336Z
UID:404c67ff-0727-4116-b238-f278044de3f7
DTSTART;VALUE=DATE:20260505
DTEND;VALUE=DATE:20260506
DESCRIPTION:
LOCATION:
SUMMARY:5th grade Wyo Towne
END:VEVENT
BEGIN:VEVENT
DTSTAMP:20260419T230336Z
UID:734d0bfe-b3e6-41b1-85be-9d0eaf34a320
DTSTART;VALUE=DATE:20260507
DTEND;VALUE=DATE:20260508
DESCRIPTION:
LOCATION:Harold Jarrard Park\, Kaycee\, WY 82639\, USA
SUMMARY:3-4th GRADE RENDEZVOUS DAY
END:VEVENT
BEGIN:VEVENT
DTSTAMP:20260419T230336Z
UID:29353d9e-1323-43de-86c2-76bac5504137
DTSTART;VALUE=DATE:20260507
DTEND;VALUE=DATE:20260508
DESCRIPTION:
LOCATION:
SUMMARY:FFA BANQUET TBA 
END:VEVENT
BEGIN:VEVENT
DTSTAMP:20260419T230336Z
UID:d13905db-cede-4180-a0e6-51508ec9c299
DTSTART;VALUE=DATE:20260508
DTEND;VALUE=DATE:20260509
DESCRIPTION:
LOCATION:1016 E Cleveland St\, Sundance\, WY 82729\, USA
SUMMARY:KCHS TRACK @ SUNDANCE BULLDOG INVITE
END:VEVENT
BEGIN:VEVENT
DTSTAMP:20260419T230336Z
UID:1fb5f16d-d1e4-4544-a4c2-238267221fbd
DTSTART:20260508T080000
DTEND:20260508T111500
DESCRIPTION:
LOCATION:101 Klondike Dr\, Buffalo\, WY 82834\, USA
SUMMARY:KCS SWIM LESSONS 8:00AM-11:15AM
END:VEVENT
BEGIN:VEVENT
DTSTAMP:20260419T230336Z
UID:a46b481e-113d-41f3-9e2c-c07a7a6b5d10
DTSTART;VALUE=DATE:20260509
DTEND;VALUE=DATE:20260510
DESCRIPTION:
LOCATION:Hulett\, WY 82720\, USA
SUMMARY:KCMS TRACK DISTRICTS @ HULETT
END:VEVENT
BEGIN:VEVENT
DTSTAMP:20260419T230336Z
UID:5695372d-65c6-45d5-8535-fe6be9a110c9
DTSTART:20260511T000000
DTEND:20260512T000000
DESCRIPTION:1st presentation 9 & 11 grade @ 8:30\n2nd present. 7 & 8 grade 
 @ 9:30\n3rd present. 10 & 12 grade @ 10:30\nlunch 11:30-12:50 \n4th prese
 nt 5 & 6 @ 1:00 (stations)\n5th present 3 & 4 @ 2:00 (stations)\n\nTeacher
 s will have an informational meeting on this at our PD on May 1st
LOCATION:KCS ELEM Library
SUMMARY:KCS -  3-12 GRADES UPRISING
END:VEVENT
BEGIN:VEVENT
DTSTAMP:20260419T230336Z
UID:62a62e6b-18d7-49b6-ad29-27656b22cd7a
DTSTART:20260511T180000
DTEND:20260511T190000
DESCRIPTION:
LOCATION:
SUMMARY:School Board mtg
END:VEVENT
BEGIN:VEVENT
DTSTAMP:20260419T230336Z
UID:35d004af-7830-4164-acf3-26e2f7d25850
DTSTART;VALUE=DATE:20260512
DTEND;VALUE=DATE:20260513
DESCRIPTION:
LOCATION:
SUMMARY:5th grade Wyo Towne
END:VEVENT
BEGIN:VEVENT
DTSTAMP:20260419T230336Z
UID:8318556d-5451-4bb4-9fe9-a96070e70bf6
DTSTART;VALUE=DATE:20260512
DTEND;VALUE=DATE:20260513
DESCRIPTION:
LOCATION:1701 Hamilton St\, Douglas\, WY 82633\, USA
SUMMARY:KCMS TRACK  BEST OF THE BEST TRACK MEET - DOUGLAS
END:VEVENT
BEGIN:VEVENT
DTSTAMP:20260419T230336Z
UID:8911e897-6912-418b-af00-02524a371274
DTSTART:20260513T083000
DTEND:20260513T144500
DESCRIPTION:
LOCATION:
SUMMARY:KCMS FISH RELEASE @ BUFFALO
END:VEVENT
BEGIN:VEVENT
DTSTAMP:20260419T230336Z
UID:69886472-4fd6-4709-a1f4-a1c704e2e052
DTSTART;VALUE=DATE:20260515
DTEND;VALUE=DATE:20260517
DESCRIPTION:
LOCATION:2400 W C St\, Torrington\, WY 82240\, USA
SUMMARY:KCHS TRACK REGIONAL MEET @ TORRINGTON
END:VEVENT
BEGIN:VEVENT
DTSTAMP:20260419T230336Z
UID:bfb788e2-71f0-40ca-bea5-aafd771bb916
DTSTART:20260515T080000
DTEND:20260515T111500
DESCRIPTION:
LOCATION:101 Klondike Dr\, Buffalo\, WY 82834\, USA
SUMMARY:KCS SWIM LESSONS - 8:00AM-11:15AM
END:VEVENT
BEGIN:VEVENT
DTSTAMP:20260419T230336Z
UID:67bd3f50-4dc2-43a6-9a74-5ab972dfe43e
DTSTART:20260515T173000
DTEND:20260515T183000
DESCRIPTION:
LOCATION:
SUMMARY:Dance recital
END:VEVENT
BEGIN:VEVENT
DTSTAMP:20260419T230336Z
UID:d1fb3668-b446-42c9-acbb-74f819bf0db4
DTSTART:20260519T080000
DTEND:20260519T150000
DESCRIPTION:
LOCATION:
SUMMARY:8th grade Sheridan Career Explortation
END:VEVENT
BEGIN:VEVENT
DTSTAMP:20260419T230336Z
UID:345cc5f3-7b5a-4307-aa17-89892e661141
DTSTART;VALUE=DATE:20260521
DTEND;VALUE=DATE:20260524
DESCRIPTION:
LOCATION:3500 E 12th St\, Casper\, WY 82609\, USA
SUMMARY:KCHS STATE TRACK MEET @ KWHS
END:VEVENT
BEGIN:VEVENT
DTSTAMP:20260419T230336Z
UID:e161243d-d44a-4731-8d97-9ef2e4f5d462
DTSTART;VALUE=DATE:20260521
DTEND;VALUE=DATE:20260522
DESCRIPTION:
LOCATION:
SUMMARY:KCS LAST DAY OF SCHOOL
END:VEVENT
BEGIN:VEVENT
DTSTAMP:20260419T230336Z
UID:07237738-6155-48a5-8c6e-9c2da30c935a
DTSTART:20260524T160000
DTEND:20260524T170000
DESCRIPTION:
LOCATION:
SUMMARY:Graduation
END:VEVENT
BEGIN:VEVENT
DTSTAMP:20260419T230336Z
UID:7d807a01-bde2-4003-bf02-322db46ea9d7
DTSTART:20260608T180000
DTEND:20260608T190000
DESCRIPTION:
LOCATION:
SUMMARY:School Board mtg @ Kaycee
END:VEVENT
END:VCALENDAR
