BEGIN:VCALENDAR
VERSION:2.0
PRODID:icalendar-ruby
CALSCALE:GREGORIAN
BEGIN:VTIMEZONE
TZID:America/Los_Angeles
BEGIN:DAYLIGHT
DTSTART:20260308T030000
TZOFFSETFROM:-0800
TZOFFSETTO:-0700
RRULE:FREQ=YEARLY;BYDAY=2SU;BYMONTH=3
TZNAME:PDT
END:DAYLIGHT
BEGIN:STANDARD
DTSTART:20261101T010000
TZOFFSETFROM:-0700
TZOFFSETTO:-0800
RRULE:FREQ=YEARLY;BYDAY=1SU;BYMONTH=11
TZNAME:PST
END:STANDARD
END:VTIMEZONE
BEGIN:VEVENT
DTSTAMP:20260422T222457Z
UID:cdd73a17-df76-4a81-84ba-86721210471e
DTSTART;VALUE=DATE:20260422
DTEND;VALUE=DATE:20260423
DESCRIPTION:
LOCATION:
SUMMARY:Early Release Districtwide
END:VEVENT
BEGIN:VEVENT
DTSTAMP:20260422T222457Z
UID:5ec28fe0-3542-41a9-a2c0-471242fc4382
DTSTART:20260422T160000
DTEND:20260422T170000
DESCRIPTION:
LOCATION:
SUMMARY:GHS Softball @ Gustine vs Waterford
END:VEVENT
BEGIN:VEVENT
DTSTAMP:20260422T222457Z
UID:dbe62ca5-9c48-4fdd-a303-d8dc1bcd373e
DTSTART;VALUE=DATE:20260423
DTEND;VALUE=DATE:20260424
DESCRIPTION:Ca Academy of Science in San Francisco\n8am-5pm
LOCATION:
SUMMARY:GES 5th grade field trip
END:VEVENT
BEGIN:VEVENT
DTSTAMP:20260422T222457Z
UID:b2e37923-9d10-49e4-a34d-844759f4568c
DTSTART:20260423T160000
DTEND:20260423T170000
DESCRIPTION:
LOCATION:
SUMMARY:GHS Baseball @ LeGrand
END:VEVENT
BEGIN:VEVENT
DTSTAMP:20260422T222457Z
UID:f6182da7-920a-4b5a-88ed-db288918e84a
DTSTART:20260423T160000
DTEND:20260423T170000
DESCRIPTION:
LOCATION:
SUMMARY:GMS-Boys Volleyball/Baseball @ Peggy Heller
END:VEVENT
BEGIN:VEVENT
DTSTAMP:20260422T222457Z
UID:f8f6ef37-a575-4a39-8db6-cbc7c3f303fe
DTSTART:20260423T180000
DTEND:20260423T190000
DESCRIPTION:
LOCATION:
SUMMARY:GHS Boys Volleyball @ Stoneridge
END:VEVENT
BEGIN:VEVENT
DTSTAMP:20260422T222457Z
UID:8b0142ad-158f-41ca-b791-db859dcd6ca8
DTSTART;VALUE=DATE:20260424
DTEND;VALUE=DATE:20260425
DESCRIPTION:
LOCATION:
SUMMARY:GMS-Big smile Dental Van
END:VEVENT
BEGIN:VEVENT
DTSTAMP:20260422T222457Z
UID:9b4f4d71-8280-4d3b-bc1b-9b21331a07de
DTSTART:20260424T160000
DTEND:20260424T170000
DESCRIPTION:
LOCATION:
SUMMARY:GHS Softball @ Gustine vs Mariposa
END:VEVENT
BEGIN:VEVENT
DTSTAMP:20260422T222457Z
UID:10eddf14-7eb7-48fc-8960-7487a4b0d346
DTSTART;VALUE=DATE:20260428
DTEND;VALUE=DATE:20260429
DESCRIPTION:Columbia State Park\n8am-4:30pm
LOCATION:
SUMMARY:GES 4th grade field trip
END:VEVENT
BEGIN:VEVENT
DTSTAMP:20260422T222457Z
UID:cea013e3-2453-45d5-ae6e-e587ca035a12
DTSTART;VALUE=DATE:20260428
DTEND;VALUE=DATE:20260429
DESCRIPTION:
LOCATION:
SUMMARY:GMS- 8th grade gown pictures
END:VEVENT
BEGIN:VEVENT
DTSTAMP:20260422T222457Z
UID:9d4a4db0-65c0-4776-a7c5-7c9155dc1c81
DTSTART:20260428T160000
DTEND:20260428T170000
DESCRIPTION:
LOCATION:
SUMMARY:GHS Baseball @ Gustine vs MC
END:VEVENT
BEGIN:VEVENT
DTSTAMP:20260422T222457Z
UID:ecb28705-36ab-4ac4-bf74-87baa7cc7464
DTSTART:20260428T160000
DTEND:20260428T170000
DESCRIPTION:
LOCATION:
SUMMARY:GMS-Baseball @ Ballico
END:VEVENT
BEGIN:VEVENT
DTSTAMP:20260422T222457Z
UID:591aa309-0b56-414a-8f12-95690e312483
DTSTART;VALUE=DATE:20260429
DTEND;VALUE=DATE:20260430
DESCRIPTION:
LOCATION:
SUMMARY:Board Study Session Mtg 5pm
END:VEVENT
BEGIN:VEVENT
DTSTAMP:20260422T222457Z
UID:501c79cc-1eb5-4321-a2ca-2d21ef36e07b
DTSTART;VALUE=DATE:20260429
DTEND;VALUE=DATE:20260430
DESCRIPTION:
LOCATION:
SUMMARY:Early Release Districtwide
END:VEVENT
BEGIN:VEVENT
DTSTAMP:20260422T222457Z
UID:9588b701-2a29-413a-9ad9-084a7196dacc
DTSTART:20260429T140000
DTEND:20260429T150000
DESCRIPTION:
LOCATION:
SUMMARY:GHS Track Meet @ Waterford
END:VEVENT
BEGIN:VEVENT
DTSTAMP:20260422T222457Z
UID:faf14b46-2359-4f15-8870-ac78e0d71ce5
DTSTART:20260430T160000
DTEND:20260430T170000
DESCRIPTION:
LOCATION:
SUMMARY:GHS Baseball @  MC
END:VEVENT
BEGIN:VEVENT
DTSTAMP:20260422T222457Z
UID:0042e928-da72-4fd9-b46f-c1e575f92e42
DTSTART:20260430T160000
DTEND:20260430T170000
DESCRIPTION:
LOCATION:
SUMMARY:GMS- Baseball vs Turlock Christian @ GHS
END:VEVENT
BEGIN:VEVENT
DTSTAMP:20260422T222457Z
UID:3d8504bd-c126-4bb4-ad62-0a32f409047f
DTSTART:20260501T160000
DTEND:20260501T170000
DESCRIPTION:
LOCATION:
SUMMARY:GHS Softball @ Delhi
END:VEVENT
BEGIN:VEVENT
DTSTAMP:20260422T222457Z
UID:66a71f5d-e343-4731-a03f-556516bb76f0
DTSTART:20260504T160000
DTEND:20260504T170000
DESCRIPTION:
LOCATION:
SUMMARY:GHS Softball @ LeGrand
END:VEVENT
BEGIN:VEVENT
DTSTAMP:20260422T222457Z
UID:ec2e65bb-7040-4f56-96ca-bcbd35708b16
DTSTART:20260505T030000
DTEND:20260505T040000
DESCRIPTION:
LOCATION:
SUMMARY:GES SSC/ELAC Meeting
END:VEVENT
BEGIN:VEVENT
DTSTAMP:20260422T222457Z
UID:9aefd882-6203-40f9-bfe8-84e89d3a70b1
DTSTART;VALUE=DATE:20260506
DTEND;VALUE=DATE:20260507
DESCRIPTION:
LOCATION:
SUMMARY:Early Release Districtwide
END:VEVENT
BEGIN:VEVENT
DTSTAMP:20260422T222457Z
UID:5c0108c5-8077-42e3-86c2-17adf1b2eaab
DTSTART:20260506T153000
DTEND:20260506T163000
DESCRIPTION:
LOCATION:E1
SUMMARY:GMS-ELAC Meeting #4
END:VEVENT
BEGIN:VEVENT
DTSTAMP:20260422T222457Z
UID:e302841e-d4db-4145-ad73-15107c8a048a
DTSTART:20260506T160000
DTEND:20260506T170000
DESCRIPTION:
LOCATION:
SUMMARY:GHS Softball @ Home vs SRC
END:VEVENT
BEGIN:VEVENT
DTSTAMP:20260422T222457Z
UID:ded2701c-af70-4ba2-bf71-728c718a20f1
DTSTART:20260507T160000
DTEND:20260507T170000
DESCRIPTION:
LOCATION:
SUMMARY:GMS-Boys Volleyball @ Mt View 
END:VEVENT
BEGIN:VEVENT
DTSTAMP:20260422T222457Z
UID:0e1aef90-1f92-4246-ac2f-99d547e97bcf
DTSTART:20260507T190000
DTEND:20260507T200000
DESCRIPTION:
LOCATION:
SUMMARY:GUSTO Award Ceremony
END:VEVENT
BEGIN:VEVENT
DTSTAMP:20260422T222457Z
UID:4489e111-2b7c-4476-a9f2-ded5eaa9988b
DTSTART;VALUE=DATE:20260513
DTEND;VALUE=DATE:20260514
DESCRIPTION:
LOCATION:
SUMMARY:Board Mtg 7PM
END:VEVENT
BEGIN:VEVENT
DTSTAMP:20260422T222457Z
UID:d0379379-6717-479f-8c7f-237de70f14fb
DTSTART;VALUE=DATE:20260513
DTEND;VALUE=DATE:20260514
DESCRIPTION:
LOCATION:
SUMMARY:Early Release Districtwide
END:VEVENT
BEGIN:VEVENT
DTSTAMP:20260422T222457Z
UID:0fe0417c-6d1d-4b9e-94fe-4979e231704c
DTSTART;VALUE=DATE:20260514
DTEND;VALUE=DATE:20260515
DESCRIPTION:Exploratorium in San Francisco\n7:45am-3:45pm
LOCATION:
SUMMARY:GES 3rd grade field trip
END:VEVENT
BEGIN:VEVENT
DTSTAMP:20260422T222457Z
UID:e4d7ffcb-92a6-41ef-a975-f4e4730983e9
DTSTART;VALUE=DATE:20260514
DTEND;VALUE=DATE:20260515
DESCRIPTION:
LOCATION:
SUMMARY:GES Wax Museum
END:VEVENT
BEGIN:VEVENT
DTSTAMP:20260422T222457Z
UID:54feac71-ee25-4784-a6ee-5e34fcf61b4a
DTSTART:20260514T170000
DTEND:20260514T193000
DESCRIPTION:
LOCATION:
SUMMARY:GHS Seniors Awards Night
END:VEVENT
BEGIN:VEVENT
DTSTAMP:20260422T222457Z
UID:d08b6c8f-9dbb-4cb8-9556-427d5cb2bafb
DTSTART;VALUE=DATE:20260520
DTEND;VALUE=DATE:20260521
DESCRIPTION:
LOCATION:
SUMMARY:Early Release Districtwide
END:VEVENT
BEGIN:VEVENT
DTSTAMP:20260422T222457Z
UID:9bed586d-7139-458d-be1d-2d83a803a598
DTSTART:20260522T081500
DTEND:20260522T091500
DESCRIPTION:
LOCATION:
SUMMARY:GES Coffee with the Principal 
END:VEVENT
BEGIN:VEVENT
DTSTAMP:20260422T222457Z
UID:9af1d48d-f517-4d53-bf73-d87257c15b18
DTSTART;VALUE=DATE:20260525
DTEND;VALUE=DATE:20260526
DESCRIPTION:
LOCATION:
SUMMARY:No School/Memorial Day Holiday
END:VEVENT
BEGIN:VEVENT
DTSTAMP:20260422T222457Z
UID:a9d86bb9-38b5-4a71-a9ac-afeda0f45772
DTSTART;VALUE=DATE:20260527
DTEND;VALUE=DATE:20260528
DESCRIPTION:
LOCATION:
SUMMARY:Early Release Districtwide
END:VEVENT
BEGIN:VEVENT
DTSTAMP:20260422T222457Z
UID:2349eff5-b3ea-40a2-9a7b-30f46214e506
DTSTART;VALUE=DATE:20260602
DTEND;VALUE=DATE:20260603
DESCRIPTION:
LOCATION:
SUMMARY:Trimester 3 Hawk Awards
END:VEVENT
BEGIN:VEVENT
DTSTAMP:20260422T222457Z
UID:29feef9c-a478-4bd7-a080-574dd20c8549
DTSTART;VALUE=DATE:20260603
DTEND;VALUE=DATE:20260604
DESCRIPTION:
LOCATION:
SUMMARY:Early Release Districtwide
END:VEVENT
BEGIN:VEVENT
DTSTAMP:20260422T222457Z
UID:36057dad-eeef-40a9-ae57-715a6827a719
DTSTART:20260603T080000
DTEND:20260603T100000
DESCRIPTION:
LOCATION:
SUMMARY:GMS-Senior Walk Thru 
END:VEVENT
BEGIN:VEVENT
DTSTAMP:20260422T222457Z
UID:6d58a9bd-496a-4eb0-8d2d-9e05a18497e0
DTSTART;VALUE=DATE:20260604
DTEND;VALUE=DATE:20260605
DESCRIPTION:
LOCATION:
SUMMARY:GMS Graduation
END:VEVENT
BEGIN:VEVENT
DTSTAMP:20260422T222457Z
UID:e0010173-75b6-45fc-8a92-630adfc915e9
DTSTART;VALUE=DATE:20260604
DTEND;VALUE=DATE:20260605
DESCRIPTION:
LOCATION:
SUMMARY:Min Day DIstrictwide & GHS Finals
END:VEVENT
BEGIN:VEVENT
DTSTAMP:20260422T222457Z
UID:1fff6e51-20d3-46a5-b192-fdc85375380e
DTSTART:20260604T083000
DTEND:20260604T100000
DESCRIPTION:
LOCATION:
SUMMARY:5th Grade Promotions
END:VEVENT
BEGIN:VEVENT
DTSTAMP:20260422T222457Z
UID:08980697-cc81-47ae-b299-6a87d2b49e30
DTSTART;VALUE=DATE:20260605
DTEND;VALUE=DATE:20260606
DESCRIPTION:
LOCATION:
SUMMARY:End 2nd Semester/3rd Trimester
END:VEVENT
BEGIN:VEVENT
DTSTAMP:20260422T222457Z
UID:3d2d712d-2641-4c67-8d96-f22cfef74f9e
DTSTART;VALUE=DATE:20260605
DTEND;VALUE=DATE:20260606
DESCRIPTION:
LOCATION:
SUMMARY:GHS & PHS Graduation
END:VEVENT
BEGIN:VEVENT
DTSTAMP:20260422T222457Z
UID:ac73b085-f434-4915-9134-a2a43cce5b53
DTSTART;VALUE=DATE:20260605
DTEND;VALUE=DATE:20260606
DESCRIPTION:
LOCATION:
SUMMARY:Last Day of School
END:VEVENT
BEGIN:VEVENT
DTSTAMP:20260422T222457Z
UID:e40fe604-68bd-44b1-8c1a-d49a711defab
DTSTART;VALUE=DATE:20260605
DTEND;VALUE=DATE:20260606
DESCRIPTION:
LOCATION:
SUMMARY:Min Day DIstrictwide & GHS Finals
END:VEVENT
BEGIN:VEVENT
DTSTAMP:20260422T222457Z
UID:c5d8d561-b669-4cbc-be05-cd3c6b163a74
DTSTART;VALUE=DATE:20260610
DTEND;VALUE=DATE:20260611
DESCRIPTION:
LOCATION:
SUMMARY:Board Mtg 7PM
END:VEVENT
BEGIN:VEVENT
DTSTAMP:20260422T222457Z
UID:e04da0d0-2555-4e5d-b6e5-9e8619706700
DTSTART;VALUE=DATE:20260619
DTEND;VALUE=DATE:20260620
DESCRIPTION:
LOCATION:
SUMMARY:Juneteenth Day Holiday
END:VEVENT
BEGIN:VEVENT
DTSTAMP:20260422T222457Z
UID:bed63f03-9537-4c54-8ae7-32a3ca40ee84
DTSTART;VALUE=DATE:20260624
DTEND;VALUE=DATE:20260625
DESCRIPTION:
LOCATION:
SUMMARY:Board Mtg 7PM
END:VEVENT
BEGIN:VEVENT
DTSTAMP:20260422T222457Z
UID:513845e4-9063-49ae-863d-eeef8bd8e67e
DTSTART;VALUE=DATE:20260708
DTEND;VALUE=DATE:20260709
DESCRIPTION:
LOCATION:
SUMMARY:Board Study Session Mtg 5pm
END:VEVENT
BEGIN:VEVENT
DTSTAMP:20260422T222457Z
UID:779c8d82-6f7e-48f4-9d9c-b217a7b496ca
DTSTART;VALUE=DATE:20260812
DTEND;VALUE=DATE:20260813
DESCRIPTION:
LOCATION:
SUMMARY:Board Mtg 7PM
END:VEVENT
BEGIN:VEVENT
DTSTAMP:20260422T222457Z
UID:d9b23a2b-888e-4546-b9df-73c6f06a76d6
DTSTART;VALUE=DATE:20260812
DTEND;VALUE=DATE:20260813
DESCRIPTION:
LOCATION:
SUMMARY:Early Release Districtwide
END:VEVENT
BEGIN:VEVENT
DTSTAMP:20260422T222457Z
UID:fc0a237d-9a6d-4e22-9cde-4ddf3adfd361
DTSTART;VALUE=DATE:20260812
DTEND;VALUE=DATE:20260813
DESCRIPTION:
LOCATION:
SUMMARY:School Begins
END:VEVENT
BEGIN:VEVENT
DTSTAMP:20260422T222457Z
UID:538d92fe-ca7e-42a9-965a-a87b684447cd
DTSTART;VALUE=DATE:20260819
DTEND;VALUE=DATE:20260820
DESCRIPTION:
LOCATION:
SUMMARY:Early Release Districtwide
END:VEVENT
BEGIN:VEVENT
DTSTAMP:20260422T222457Z
UID:422f289e-d40d-482e-911e-9c5d9cde280b
DTSTART;VALUE=DATE:20260826
DTEND;VALUE=DATE:20260827
DESCRIPTION:
LOCATION:
SUMMARY:Early Release Districtwide
END:VEVENT
BEGIN:VEVENT
DTSTAMP:20260422T222457Z
UID:e83cecbb-e767-4ee0-be95-0f573136e336
DTSTART;VALUE=DATE:20260902
DTEND;VALUE=DATE:20260903
DESCRIPTION:
LOCATION:
SUMMARY:Early Release Districtwide
END:VEVENT
BEGIN:VEVENT
DTSTAMP:20260422T222457Z
UID:6f6dada6-c9a5-4434-9120-6606238446a4
DTSTART;VALUE=DATE:20260907
DTEND;VALUE=DATE:20260908
DESCRIPTION:
LOCATION:
SUMMARY:No School/Labor Day Holdiay
END:VEVENT
BEGIN:VEVENT
DTSTAMP:20260422T222457Z
UID:2768f5e0-7b46-4477-8659-0865fb6b585a
DTSTART;VALUE=DATE:20260909
DTEND;VALUE=DATE:20260910
DESCRIPTION:
LOCATION:
SUMMARY:Board Mtg 7PM
END:VEVENT
BEGIN:VEVENT
DTSTAMP:20260422T222457Z
UID:15d8a712-4b9f-473d-a4e4-d244ec6d3d0b
DTSTART;VALUE=DATE:20260909
DTEND;VALUE=DATE:20260910
DESCRIPTION:
LOCATION:
SUMMARY:Early Release Districtwide
END:VEVENT
BEGIN:VEVENT
DTSTAMP:20260422T222457Z
UID:6e769d5e-f2df-420f-8bb4-37e1d6edaedc
DTSTART;VALUE=DATE:20260916
DTEND;VALUE=DATE:20260917
DESCRIPTION:
LOCATION:
SUMMARY:Early Release Districtwide
END:VEVENT
BEGIN:VEVENT
DTSTAMP:20260422T222457Z
UID:56d5fde1-1d48-4222-83b4-68432d163e93
DTSTART;VALUE=DATE:20260923
DTEND;VALUE=DATE:20260924
DESCRIPTION:
LOCATION:
SUMMARY:Early Release Districtwide
END:VEVENT
BEGIN:VEVENT
DTSTAMP:20260422T222457Z
UID:800a9470-170b-4487-a242-59b522af74cd
DTSTART;VALUE=DATE:20260930
DTEND;VALUE=DATE:20261001
DESCRIPTION:
LOCATION:
SUMMARY:Early Release Districtwide
END:VEVENT
BEGIN:VEVENT
DTSTAMP:20260422T222457Z
UID:6f22d04a-0129-4754-b8a7-f8491e0c8c9b
DTSTART;VALUE=DATE:20261007
DTEND;VALUE=DATE:20261008
DESCRIPTION:
LOCATION:
SUMMARY:Early Release Districtwide
END:VEVENT
BEGIN:VEVENT
DTSTAMP:20260422T222457Z
UID:20a6c035-8bf2-4376-8793-5e14278d11a5
DTSTART;VALUE=DATE:20261014
DTEND;VALUE=DATE:20261015
DESCRIPTION:
LOCATION:
SUMMARY:Board Mtg 7PM
END:VEVENT
BEGIN:VEVENT
DTSTAMP:20260422T222457Z
UID:8c62ec78-5d8d-4276-b086-c4e17831a2a5
DTSTART;VALUE=DATE:20261014
DTEND;VALUE=DATE:20261015
DESCRIPTION:
LOCATION:
SUMMARY:Early Release Districtwide
END:VEVENT
BEGIN:VEVENT
DTSTAMP:20260422T222457Z
UID:7371b7e8-9a52-4b15-8b2d-8b0af55d7b17
DTSTART;VALUE=DATE:20261016
DTEND;VALUE=DATE:20261017
DESCRIPTION:
LOCATION:
SUMMARY:End 1st Quarter
END:VEVENT
BEGIN:VEVENT
DTSTAMP:20260422T222457Z
UID:f3e52d40-cf39-46ce-bfc4-cde61e43394b
DTSTART;VALUE=DATE:20261021
DTEND;VALUE=DATE:20261022
DESCRIPTION:
LOCATION:
SUMMARY:Board Study Session Mtg 5pm
END:VEVENT
BEGIN:VEVENT
DTSTAMP:20260422T222457Z
UID:78d57364-83d9-43c6-b4aa-11187e5280af
DTSTART;VALUE=DATE:20261021
DTEND;VALUE=DATE:20261022
DESCRIPTION:
LOCATION:
SUMMARY:No School/Staff Dev Day
END:VEVENT
BEGIN:VEVENT
DTSTAMP:20260422T222457Z
UID:300d7cce-5277-4f25-b2b0-852e9cc73973
DTSTART;VALUE=DATE:20261028
DTEND;VALUE=DATE:20261029
DESCRIPTION:
LOCATION:
SUMMARY:Early Release Districtwide
END:VEVENT
BEGIN:VEVENT
DTSTAMP:20260422T222457Z
UID:71554c1a-cc54-4d03-a57e-c6add6ab60a1
DTSTART;VALUE=DATE:20261104
DTEND;VALUE=DATE:20261105
DESCRIPTION:
LOCATION:
SUMMARY:Early Release Districtwide
END:VEVENT
BEGIN:VEVENT
DTSTAMP:20260422T222457Z
UID:1eb8925b-4903-46b7-b477-80d319bd76a2
DTSTART;VALUE=DATE:20261111
DTEND;VALUE=DATE:20261112
DESCRIPTION:
LOCATION:
SUMMARY:No School/ Veteran's Day Holiday
END:VEVENT
BEGIN:VEVENT
DTSTAMP:20260422T222457Z
UID:a407a925-54ac-4ead-9838-c2c88f3ac064
DTSTART;VALUE=DATE:20261116
DTEND;VALUE=DATE:20261117
DESCRIPTION:
LOCATION:
SUMMARY:Min. Day GES/RES Parent Conference
END:VEVENT
BEGIN:VEVENT
DTSTAMP:20260422T222457Z
UID:54c73d17-a811-400d-a181-dae04ed7c379
DTSTART;VALUE=DATE:20261118
DTEND;VALUE=DATE:20261119
DESCRIPTION:
LOCATION:
SUMMARY:Board Mtg 7 pm
END:VEVENT
BEGIN:VEVENT
DTSTAMP:20260422T222457Z
UID:7f987c8d-4006-4fc8-81f8-dd1f167b8b71
DTSTART;VALUE=DATE:20261118
DTEND;VALUE=DATE:20261119
DESCRIPTION:
LOCATION:
SUMMARY:Early Release Districtwide
END:VEVENT
BEGIN:VEVENT
DTSTAMP:20260422T222457Z
UID:6cd68097-e66e-4af1-8d67-eeb49150bd3f
DTSTART;VALUE=DATE:20261123
DTEND;VALUE=DATE:20261124
DESCRIPTION:
LOCATION:
SUMMARY:No School/ Thanksgiving Break
END:VEVENT
BEGIN:VEVENT
DTSTAMP:20260422T222457Z
UID:99206d15-0505-4d81-b8dc-7e9a416fdf0d
DTSTART;VALUE=DATE:20261124
DTEND;VALUE=DATE:20261125
DESCRIPTION:
LOCATION:
SUMMARY:No School/ Thanksgiving Break
END:VEVENT
BEGIN:VEVENT
DTSTAMP:20260422T222457Z
UID:48565b50-0a38-4e9d-ad97-67cf0f9f5fc4
DTSTART;VALUE=DATE:20261125
DTEND;VALUE=DATE:20261126
DESCRIPTION:
LOCATION:
SUMMARY:No School/ Thanksgiving Break
END:VEVENT
BEGIN:VEVENT
DTSTAMP:20260422T222457Z
UID:1e4b694c-ec39-43b3-9f27-90b856d2cec0
DTSTART;VALUE=DATE:20261126
DTEND;VALUE=DATE:20261127
DESCRIPTION:
LOCATION:
SUMMARY:No School/ Thanksgiving Holiday
END:VEVENT
BEGIN:VEVENT
DTSTAMP:20260422T222457Z
UID:626c8c8e-4b44-47de-a017-8d3be7fc3def
DTSTART;VALUE=DATE:20261127
DTEND;VALUE=DATE:20261128
DESCRIPTION:
LOCATION:
SUMMARY:No School/ Thanksgiving Holiday
END:VEVENT
BEGIN:VEVENT
DTSTAMP:20260422T222457Z
UID:9e51e239-fa1a-4a84-9f60-c156af5fe51c
DTSTART;VALUE=DATE:20261202
DTEND;VALUE=DATE:20261203
DESCRIPTION:
LOCATION:
SUMMARY:Early Release Districtwide
END:VEVENT
BEGIN:VEVENT
DTSTAMP:20260422T222457Z
UID:e5892f7c-ddde-4b53-b129-9f78a14424cf
DTSTART;VALUE=DATE:20261209
DTEND;VALUE=DATE:20261210
DESCRIPTION:
LOCATION:
SUMMARY:Board Mtg 7 pm
END:VEVENT
BEGIN:VEVENT
DTSTAMP:20260422T222457Z
UID:7cef8926-39ae-4e28-a1ef-9dd1e00dcf77
DTSTART;VALUE=DATE:20261209
DTEND;VALUE=DATE:20261210
DESCRIPTION:
LOCATION:
SUMMARY:Early Release Districtwide
END:VEVENT
BEGIN:VEVENT
DTSTAMP:20260422T222457Z
UID:7d85782d-0c9f-401e-a405-00ab2b989444
DTSTART;VALUE=DATE:20261216
DTEND;VALUE=DATE:20261217
DESCRIPTION:
LOCATION:
SUMMARY:Board Mtg 7 pm
END:VEVENT
BEGIN:VEVENT
DTSTAMP:20260422T222457Z
UID:007c55a0-1ba9-461b-9f37-4259485daee2
DTSTART;VALUE=DATE:20261216
DTEND;VALUE=DATE:20261217
DESCRIPTION:
LOCATION:
SUMMARY:Early Release Districtwide
END:VEVENT
BEGIN:VEVENT
DTSTAMP:20260422T222457Z
UID:0d4ded50-9dd1-43cb-9dd7-94abfdc0dc73
DTSTART;VALUE=DATE:20261217
DTEND;VALUE=DATE:20261218
DESCRIPTION:
LOCATION:
SUMMARY:Min Day Districtwide & GHS Finals
END:VEVENT
BEGIN:VEVENT
DTSTAMP:20260422T222457Z
UID:80365b79-1700-4f0b-9378-72d5126ce75c
DTSTART;VALUE=DATE:20261218
DTEND;VALUE=DATE:20261219
DESCRIPTION:
LOCATION:
SUMMARY:End 1st Semester
END:VEVENT
BEGIN:VEVENT
DTSTAMP:20260422T222457Z
UID:42d1ba13-e120-4667-ac47-3844381a94e0
DTSTART;VALUE=DATE:20261218
DTEND;VALUE=DATE:20261219
DESCRIPTION:
LOCATION:
SUMMARY:Min Day Districtwide & GHS Finals
END:VEVENT
BEGIN:VEVENT
DTSTAMP:20260422T222457Z
UID:98713f68-c20f-4f47-b21c-6072c906085a
DTSTART;VALUE=DATE:20261221
DTEND;VALUE=DATE:20261222
DESCRIPTION:
LOCATION:
SUMMARY:No School/Winter Break
END:VEVENT
BEGIN:VEVENT
DTSTAMP:20260422T222457Z
UID:96ae1dd3-d6ca-4aec-9773-296d91612922
DTSTART;VALUE=DATE:20261222
DTEND;VALUE=DATE:20261223
DESCRIPTION:
LOCATION:
SUMMARY:No School/Winter Break
END:VEVENT
BEGIN:VEVENT
DTSTAMP:20260422T222457Z
UID:bc3cf021-e69b-4270-8f4c-7fab752e887c
DTSTART;VALUE=DATE:20261223
DTEND;VALUE=DATE:20261224
DESCRIPTION:
LOCATION:
SUMMARY:No School/Winter Break
END:VEVENT
BEGIN:VEVENT
DTSTAMP:20260422T222457Z
UID:f5bce203-7df6-4c9c-8916-66c7da067d85
DTSTART;VALUE=DATE:20261224
DTEND;VALUE=DATE:20261225
DESCRIPTION:
LOCATION:
SUMMARY:No School/Winter Break Holiday
END:VEVENT
BEGIN:VEVENT
DTSTAMP:20260422T222457Z
UID:b22bd8fb-2e7a-4c99-9d5b-cd7519894e80
DTSTART;VALUE=DATE:20261225
DTEND;VALUE=DATE:20261226
DESCRIPTION:
LOCATION:
SUMMARY:No School/Winter Break Holiday
END:VEVENT
BEGIN:VEVENT
DTSTAMP:20260422T222457Z
UID:bfb02de7-c9ef-43ea-901a-b7488b16428e
DTSTART;VALUE=DATE:20261228
DTEND;VALUE=DATE:20261229
DESCRIPTION:
LOCATION:
SUMMARY:No School/Winter Break
END:VEVENT
BEGIN:VEVENT
DTSTAMP:20260422T222457Z
UID:fda5a0a2-da93-452d-83aa-9d1821d968bc
DTSTART;VALUE=DATE:20261229
DTEND;VALUE=DATE:20261230
DESCRIPTION:
LOCATION:
SUMMARY:No School/Winter Break
END:VEVENT
BEGIN:VEVENT
DTSTAMP:20260422T222457Z
UID:16c8a173-127f-45bf-b96f-fc7d59a81f15
DTSTART;VALUE=DATE:20261230
DTEND;VALUE=DATE:20261231
DESCRIPTION:
LOCATION:
SUMMARY:No School/Winter Break
END:VEVENT
BEGIN:VEVENT
DTSTAMP:20260422T222457Z
UID:de8e0f30-0f6b-4121-adac-d0b6617fb8d1
DTSTART;VALUE=DATE:20261231
DTEND;VALUE=DATE:20270101
DESCRIPTION:
LOCATION:
SUMMARY:No School/New Year's Eve Holiday
END:VEVENT
BEGIN:VEVENT
DTSTAMP:20260422T222457Z
UID:2472404c-ad1b-4b81-a0b3-c5023f4c164f
DTSTART;VALUE=DATE:20270101
DTEND;VALUE=DATE:20270102
DESCRIPTION:
LOCATION:
SUMMARY:No School/New Year's Day Holiday
END:VEVENT
BEGIN:VEVENT
DTSTAMP:20260422T222457Z
UID:7f4b5919-c899-477f-ad3b-694569958ff7
DTSTART;VALUE=DATE:20270104
DTEND;VALUE=DATE:20270105
DESCRIPTION:
LOCATION:
SUMMARY:No School/Winter Break
END:VEVENT
BEGIN:VEVENT
DTSTAMP:20260422T222457Z
UID:19efcd66-2515-4c6e-9db8-2e333e13b5c2
DTSTART;VALUE=DATE:20270105
DTEND;VALUE=DATE:20270106
DESCRIPTION:
LOCATION:
SUMMARY:No School/Staff Dev Day
END:VEVENT
BEGIN:VEVENT
DTSTAMP:20260422T222457Z
UID:5e7e2dbf-a177-4468-9e4d-93e72b04cfe4
DTSTART;VALUE=DATE:20270106
DTEND;VALUE=DATE:20270107
DESCRIPTION:
LOCATION:
SUMMARY:Early Release Districtwide
END:VEVENT
BEGIN:VEVENT
DTSTAMP:20260422T222457Z
UID:6109a5c8-b7f3-4b9c-828a-751d61a98d8e
DTSTART;VALUE=DATE:20270106
DTEND;VALUE=DATE:20270107
DESCRIPTION:
LOCATION:
SUMMARY:School Resumes
END:VEVENT
BEGIN:VEVENT
DTSTAMP:20260422T222457Z
UID:008f8a18-1ee7-4b19-a829-a0bfbf20b0df
DTSTART;VALUE=DATE:20270113
DTEND;VALUE=DATE:20270114
DESCRIPTION:
LOCATION:
SUMMARY:Early Release Districtwide
END:VEVENT
BEGIN:VEVENT
DTSTAMP:20260422T222457Z
UID:d7ff1370-378e-4e19-b812-05d8cc729e86
DTSTART;VALUE=DATE:20270118
DTEND;VALUE=DATE:20270119
DESCRIPTION:
LOCATION:
SUMMARY:No School/Martin Luther King Holiday
END:VEVENT
BEGIN:VEVENT
DTSTAMP:20260422T222457Z
UID:25012d33-eefe-490a-9865-00c45be78974
DTSTART;VALUE=DATE:20270120
DTEND;VALUE=DATE:20270121
DESCRIPTION:
LOCATION:
SUMMARY:Early Release Districtwide
END:VEVENT
BEGIN:VEVENT
DTSTAMP:20260422T222457Z
UID:77b45386-42ac-4f17-b557-86dfba46748a
DTSTART;VALUE=DATE:20270127
DTEND;VALUE=DATE:20270128
DESCRIPTION:
LOCATION:
SUMMARY:Early Release Districtwide
END:VEVENT
BEGIN:VEVENT
DTSTAMP:20260422T222457Z
UID:2a05a21f-efd1-4c03-9ae8-2db5c42607e9
DTSTART;VALUE=DATE:20270203
DTEND;VALUE=DATE:20270204
DESCRIPTION:
LOCATION:
SUMMARY:Early Release Districtwide
END:VEVENT
BEGIN:VEVENT
DTSTAMP:20260422T222457Z
UID:4a211f2b-777a-45c2-b1a6-522bf66eb079
DTSTART;VALUE=DATE:20270210
DTEND;VALUE=DATE:20270211
DESCRIPTION:
LOCATION:
SUMMARY:Early Release Districtwide
END:VEVENT
BEGIN:VEVENT
DTSTAMP:20260422T222457Z
UID:338a792d-1ae0-40ae-84ff-d84751562e90
DTSTART;VALUE=DATE:20270215
DTEND;VALUE=DATE:20270216
DESCRIPTION:
LOCATION:
SUMMARY:No School/President's Day Holiday
END:VEVENT
BEGIN:VEVENT
DTSTAMP:20260422T222457Z
UID:5f33023d-4f13-4535-973d-56684869cdfb
DTSTART;VALUE=DATE:20270216
DTEND;VALUE=DATE:20270217
DESCRIPTION:
LOCATION:
SUMMARY:No School/President's Day Break
END:VEVENT
BEGIN:VEVENT
DTSTAMP:20260422T222457Z
UID:f780173a-8eba-44b8-b506-c0388388e6b3
DTSTART;VALUE=DATE:20270217
DTEND;VALUE=DATE:20270218
DESCRIPTION:
LOCATION:
SUMMARY:No School/President's Day Break
END:VEVENT
BEGIN:VEVENT
DTSTAMP:20260422T222457Z
UID:176669da-ccd7-4bc4-952a-99d9f98ca0be
DTSTART;VALUE=DATE:20270218
DTEND;VALUE=DATE:20270219
DESCRIPTION:
LOCATION:
SUMMARY:No School/President's DayBreak
END:VEVENT
BEGIN:VEVENT
DTSTAMP:20260422T222457Z
UID:662282b1-7df7-480c-a423-deaffbacbef0
DTSTART;VALUE=DATE:20270219
DTEND;VALUE=DATE:20270220
DESCRIPTION:
LOCATION:
SUMMARY:No School/President's Day Holiday
END:VEVENT
BEGIN:VEVENT
DTSTAMP:20260422T222457Z
UID:069e5d5c-2a26-4d56-afe3-6d598f6dbb54
DTSTART;VALUE=DATE:20270224
DTEND;VALUE=DATE:20270225
DESCRIPTION:
LOCATION:
SUMMARY:Early Release Districtwide
END:VEVENT
BEGIN:VEVENT
DTSTAMP:20260422T222457Z
UID:73631ed4-b349-4703-99b1-71e2c23d1320
DTSTART;VALUE=DATE:20270303
DTEND;VALUE=DATE:20270304
DESCRIPTION:
LOCATION:
SUMMARY:Early Release Districtwide
END:VEVENT
BEGIN:VEVENT
DTSTAMP:20260422T222457Z
UID:c65de964-65e1-4a71-bc91-ed17fdebb96b
DTSTART;VALUE=DATE:20270304
DTEND;VALUE=DATE:20270305
DESCRIPTION:
LOCATION:
SUMMARY:2nd Trimester Ends
END:VEVENT
BEGIN:VEVENT
DTSTAMP:20260422T222457Z
UID:03cfdd18-6e93-4e7c-9e38-22a3387d6d29
DTSTART;VALUE=DATE:20270310
DTEND;VALUE=DATE:20270311
DESCRIPTION:
LOCATION:
SUMMARY:Early Release Districtwide
END:VEVENT
BEGIN:VEVENT
DTSTAMP:20260422T222457Z
UID:a71142dc-5dde-4ed9-b97c-a86b15268fd2
DTSTART;VALUE=DATE:20270317
DTEND;VALUE=DATE:20270318
DESCRIPTION:
LOCATION:
SUMMARY:Early Release Districtwide
END:VEVENT
BEGIN:VEVENT
DTSTAMP:20260422T222457Z
UID:44abdc25-16c9-4491-89fd-df8dd7017f67
DTSTART;VALUE=DATE:20270319
DTEND;VALUE=DATE:20270320
DESCRIPTION:
LOCATION:
SUMMARY:End 3rd Quarter
END:VEVENT
BEGIN:VEVENT
DTSTAMP:20260422T222457Z
UID:ae960618-60af-4cc7-9d29-d74427f2533e
DTSTART;VALUE=DATE:20270324
DTEND;VALUE=DATE:20270325
DESCRIPTION:
LOCATION:
SUMMARY:Early Release Districtwide
END:VEVENT
BEGIN:VEVENT
DTSTAMP:20260422T222457Z
UID:df1b958b-f864-4409-9262-53bbb705d028
DTSTART;VALUE=DATE:20270326
DTEND;VALUE=DATE:20270327
DESCRIPTION:
LOCATION:
SUMMARY:No School/Holiday
END:VEVENT
BEGIN:VEVENT
DTSTAMP:20260422T222457Z
UID:442070d0-f146-4d1c-a375-72b786ec3952
DTSTART;VALUE=DATE:20270329
DTEND;VALUE=DATE:20270330
DESCRIPTION:
LOCATION:
SUMMARY:No School/Spring Break
END:VEVENT
BEGIN:VEVENT
DTSTAMP:20260422T222457Z
UID:1a46de03-5f26-45b9-8fa3-78c47b4b783d
DTSTART;VALUE=DATE:20270330
DTEND;VALUE=DATE:20270331
DESCRIPTION:
LOCATION:
SUMMARY:No School/Spring Break
END:VEVENT
BEGIN:VEVENT
DTSTAMP:20260422T222457Z
UID:53b72c7c-35e1-4656-891d-e1c11e1ffd83
DTSTART;VALUE=DATE:20270331
DTEND;VALUE=DATE:20270401
DESCRIPTION:
LOCATION:
SUMMARY:No School/Spring Break
END:VEVENT
BEGIN:VEVENT
DTSTAMP:20260422T222457Z
UID:2bbb9d12-5ece-4c7d-aa7c-ab5ccfcb600e
DTSTART;VALUE=DATE:20270401
DTEND;VALUE=DATE:20270402
DESCRIPTION:
LOCATION:
SUMMARY:No School/Spring Break
END:VEVENT
BEGIN:VEVENT
DTSTAMP:20260422T222457Z
UID:606070a5-d781-4599-8bb1-01c9f1138795
DTSTART;VALUE=DATE:20270402
DTEND;VALUE=DATE:20270403
DESCRIPTION:
LOCATION:
SUMMARY:No School/Spring Break
END:VEVENT
BEGIN:VEVENT
DTSTAMP:20260422T222457Z
UID:979641b6-3d1c-4b6a-ae1f-2e9d08da0933
DTSTART;VALUE=DATE:20270407
DTEND;VALUE=DATE:20270408
DESCRIPTION:
LOCATION:
SUMMARY:Early Release Districtwide
END:VEVENT
BEGIN:VEVENT
DTSTAMP:20260422T222457Z
UID:21d7d9f2-8e97-4efe-add1-8d25a543cf50
DTSTART;VALUE=DATE:20270414
DTEND;VALUE=DATE:20270415
DESCRIPTION:
LOCATION:
SUMMARY:Early Release Districtwide
END:VEVENT
BEGIN:VEVENT
DTSTAMP:20260422T222457Z
UID:c83cf8a0-1b8f-42e5-aa95-d42772270fef
DTSTART;VALUE=DATE:20270421
DTEND;VALUE=DATE:20270422
DESCRIPTION:
LOCATION:
SUMMARY:Early Release Districtwide
END:VEVENT
BEGIN:VEVENT
DTSTAMP:20260422T222457Z
UID:84c00027-db88-4df7-9238-d5dcab08115d
DTSTART;VALUE=DATE:20270428
DTEND;VALUE=DATE:20270429
DESCRIPTION:
LOCATION:
SUMMARY:Early Release Districtwide
END:VEVENT
BEGIN:VEVENT
DTSTAMP:20260422T222457Z
UID:1c79742c-ab88-4188-b994-00f52dbd4f52
DTSTART;VALUE=DATE:20270505
DTEND;VALUE=DATE:20270506
DESCRIPTION:
LOCATION:
SUMMARY:Early Release Districtwide
END:VEVENT
BEGIN:VEVENT
DTSTAMP:20260422T222457Z
UID:42692473-10dc-4a79-aacc-218d14230e61
DTSTART;VALUE=DATE:20270512
DTEND;VALUE=DATE:20270513
DESCRIPTION:
LOCATION:
SUMMARY:Early Release Districtwide
END:VEVENT
BEGIN:VEVENT
DTSTAMP:20260422T222457Z
UID:3c41ec00-1c6c-45b2-9528-88b1b67f8fd3
DTSTART;VALUE=DATE:20270519
DTEND;VALUE=DATE:20270520
DESCRIPTION:
LOCATION:
SUMMARY:Early Release Districtwide
END:VEVENT
BEGIN:VEVENT
DTSTAMP:20260422T222457Z
UID:4d4b2e6c-0281-4634-8cba-04839497bc42
DTSTART;VALUE=DATE:20270526
DTEND;VALUE=DATE:20270527
DESCRIPTION:
LOCATION:
SUMMARY:Early Release Districtwide
END:VEVENT
BEGIN:VEVENT
DTSTAMP:20260422T222457Z
UID:00505592-73c4-44e0-bcfd-c6f440872589
DTSTART;VALUE=DATE:20270531
DTEND;VALUE=DATE:20270601
DESCRIPTION:
LOCATION:
SUMMARY:No School/Memorial Day Holiday
END:VEVENT
BEGIN:VEVENT
DTSTAMP:20260422T222457Z
UID:adec819c-d850-4b63-b626-3739ef6d2d6c
DTSTART;VALUE=DATE:20270602
DTEND;VALUE=DATE:20270603
DESCRIPTION:
LOCATION:
SUMMARY:Early Release Districtwide
END:VEVENT
BEGIN:VEVENT
DTSTAMP:20260422T222457Z
UID:29b5e1c0-1f8c-460a-a628-8889dee054ef
DTSTART;VALUE=DATE:20270603
DTEND;VALUE=DATE:20270604
DESCRIPTION:
LOCATION:
SUMMARY:GMS Graduation
END:VEVENT
BEGIN:VEVENT
DTSTAMP:20260422T222457Z
UID:c3586199-2610-4074-9576-135a55573eeb
DTSTART;VALUE=DATE:20270603
DTEND;VALUE=DATE:20270604
DESCRIPTION:
LOCATION:
SUMMARY:Min Day Districtwide & GHS Finals
END:VEVENT
BEGIN:VEVENT
DTSTAMP:20260422T222457Z
UID:716a9c39-86e6-4ad5-b20e-529c3b04eae3
DTSTART;VALUE=DATE:20270604
DTEND;VALUE=DATE:20270605
DESCRIPTION:
LOCATION:
SUMMARY:End 2nd Semester
END:VEVENT
BEGIN:VEVENT
DTSTAMP:20260422T222457Z
UID:bb203a22-0d2a-4a54-8169-c3442d6858b8
DTSTART;VALUE=DATE:20270604
DTEND;VALUE=DATE:20270605
DESCRIPTION:
LOCATION:
SUMMARY:End 3rd Trimester
END:VEVENT
BEGIN:VEVENT
DTSTAMP:20260422T222457Z
UID:bc39c753-bbcd-4a84-b65f-bf65f3ba6707
DTSTART;VALUE=DATE:20270604
DTEND;VALUE=DATE:20270605
DESCRIPTION:
LOCATION:
SUMMARY:GHS & PHS Graduation
END:VEVENT
BEGIN:VEVENT
DTSTAMP:20260422T222457Z
UID:79b75539-5c5d-4e7f-b4ca-6b8fb6b7e926
DTSTART;VALUE=DATE:20270604
DTEND;VALUE=DATE:20270605
DESCRIPTION:
LOCATION:
SUMMARY:Last Day of School
END:VEVENT
BEGIN:VEVENT
DTSTAMP:20260422T222457Z
UID:b18ab2fd-f6b3-48c5-ad1a-cacb94c76672
DTSTART;VALUE=DATE:20270604
DTEND;VALUE=DATE:20270605
DESCRIPTION:
LOCATION:
SUMMARY:Min Day Districtwide & GHS Finals
END:VEVENT
BEGIN:VEVENT
DTSTAMP:20260422T222457Z
UID:fdd98440-1ecf-4573-a8cf-624dcdf2ea22
DTSTART;VALUE=DATE:20270618
DTEND;VALUE=DATE:20270619
DESCRIPTION:
LOCATION:
SUMMARY:Juneteenth Day
END:VEVENT
END:VCALENDAR
