BEGIN:VCALENDAR
VERSION:2.0
PRODID:icalendar-ruby
CALSCALE:GREGORIAN
BEGIN:VTIMEZONE
TZID:America/New_York
BEGIN:DAYLIGHT
DTSTART:20260308T030000
TZOFFSETFROM:-0500
TZOFFSETTO:-0400
RRULE:FREQ=YEARLY;BYDAY=2SU;BYMONTH=3
TZNAME:EDT
END:DAYLIGHT
BEGIN:STANDARD
DTSTART:20261101T010000
TZOFFSETFROM:-0400
TZOFFSETTO:-0500
RRULE:FREQ=YEARLY;BYDAY=1SU;BYMONTH=11
TZNAME:EST
END:STANDARD
END:VTIMEZONE
BEGIN:VEVENT
DTSTAMP:20260425T211405Z
UID:9477bb82-1b02-46d0-b4d6-f43c6932b274
DTSTART:20260425T110000
DTEND:20260425T120000
DESCRIPTION:
LOCATION:Logue Field\, 700 Foresman St\, Williamsport\, PA 17701\, USA
SUMMARY:POSTPONED-Baseball @ St. John Neumann
END:VEVENT
BEGIN:VEVENT
DTSTAMP:20260425T211405Z
UID:562cd7e3-c45f-4b8d-ae7b-86d4fb8c10ab
DTSTART:20260427T114000
DTEND:20260427T130000
DESCRIPTION:
LOCATION:
SUMMARY:Navy: Lunch Visit
END:VEVENT
BEGIN:VEVENT
DTSTAMP:20260425T211405Z
UID:ffbdf84b-8f4d-48b6-b3f0-eaa9970436a0
DTSTART:20260427T160000
DTEND:20260427T170000
DESCRIPTION:
LOCATION:
SUMMARY:Track & Field vs. Halifax
END:VEVENT
BEGIN:VEVENT
DTSTAMP:20260425T211405Z
UID:c98eb123-1990-4f46-97a7-210c04a94888
DTSTART:20260427T163000
DTEND:20260427T173000
DESCRIPTION:
LOCATION:
SUMMARY:Baseball vs. Halifax
END:VEVENT
BEGIN:VEVENT
DTSTAMP:20260425T211405Z
UID:02816f8f-2966-4b75-9fb5-11f9da68afde
DTSTART:20260427T163000
DTEND:20260427T173000
DESCRIPTION:
LOCATION:
SUMMARY:Softball @ Halifax
END:VEVENT
BEGIN:VEVENT
DTSTAMP:20260425T211405Z
UID:916ecbef-6898-4a7a-bf4f-8e03df356d9d
DTSTART;VALUE=DATE:20260428
DTEND;VALUE=DATE:20260430
DESCRIPTION:
LOCATION:
SUMMARY:Math PSSA (am)
END:VEVENT
BEGIN:VEVENT
DTSTAMP:20260425T211405Z
UID:c34d1ce8-5882-49f9-8641-f65f47713bfb
DTSTART:20260428T160000
DTEND:20260428T170000
DESCRIPTION:
LOCATION:
SUMMARY:JH Girls Soccer @ Line Mountain
END:VEVENT
BEGIN:VEVENT
DTSTAMP:20260425T211405Z
UID:3374efbc-baf6-45d5-93ed-98381214a963
DTSTART:20260429T163000
DTEND:20260429T173000
DESCRIPTION:
LOCATION:
SUMMARY:Baseball @ Newport- Double Header
END:VEVENT
BEGIN:VEVENT
DTSTAMP:20260425T211405Z
UID:df4f1085-1bc8-4ef5-bc02-3a4c91f22999
DTSTART:20260429T163000
DTEND:20260429T173000
DESCRIPTION:
LOCATION:
SUMMARY:Softball vs. Newport- Double Header
END:VEVENT
BEGIN:VEVENT
DTSTAMP:20260425T211405Z
UID:c82c0d05-d7a4-49aa-aa0e-70da1a38ea32
DTSTART;VALUE=DATE:20260430
DTEND;VALUE=DATE:20260502
DESCRIPTION:
LOCATION:
SUMMARY:Science PSSA (8th grade only) - (am)
END:VEVENT
BEGIN:VEVENT
DTSTAMP:20260425T211405Z
UID:e58d7950-9821-408a-9047-2571efbab073
DTSTART:20260501T150000
DTEND:20260501T160000
DESCRIPTION:
LOCATION:
SUMMARY:Track & Field @ Midd-West
END:VEVENT
BEGIN:VEVENT
DTSTAMP:20260425T211405Z
UID:889f10c6-0396-42b4-b7ad-1df7538d4483
DTSTART:20260501T163000
DTEND:20260501T173000
DESCRIPTION:
LOCATION:
SUMMARY:Baseball @ Greenwood
END:VEVENT
BEGIN:VEVENT
DTSTAMP:20260425T211405Z
UID:0b627c39-12eb-44bc-9f19-8b09366b371e
DTSTART:20260501T163000
DTEND:20260501T173000
DESCRIPTION:
LOCATION:
SUMMARY:Softball vs. Greenwood
END:VEVENT
BEGIN:VEVENT
DTSTAMP:20260425T211405Z
UID:ae296716-745a-4406-a74e-78fe13bbe6ab
DTSTART;VALUE=DATE:20260502
DTEND;VALUE=DATE:20260503
DESCRIPTION:
LOCATION:
SUMMARY:Prom 
END:VEVENT
BEGIN:VEVENT
DTSTAMP:20260425T211405Z
UID:fe76959a-8b13-4792-9ac2-7148e98fdaba
DTSTART;VALUE=DATE:20260504
DTEND;VALUE=DATE:20260509
DESCRIPTION:
LOCATION:
SUMMARY:PSSA Makeups Window
END:VEVENT
BEGIN:VEVENT
DTSTAMP:20260425T211405Z
UID:911c1319-8abb-49ac-890a-bb6ba4ac1236
DTSTART:20260504T163000
DTEND:20260504T173000
DESCRIPTION:
LOCATION:
SUMMARY:Baseball vs. St. Joe's
END:VEVENT
BEGIN:VEVENT
DTSTAMP:20260425T211405Z
UID:57e84a29-80fb-4c6a-b781-079d65321a94
DTSTART:20260504T163000
DTEND:20260504T173000
DESCRIPTION:
LOCATION:
SUMMARY:Softball @ Bucktail HS
END:VEVENT
BEGIN:VEVENT
DTSTAMP:20260425T211405Z
UID:2f6bf201-1ddf-477c-ab17-5b6263a852ad
DTSTART:20260505T160000
DTEND:20260505T170000
DESCRIPTION:
LOCATION:
SUMMARY:JH Girls Soccer vs. Mifflin County
END:VEVENT
BEGIN:VEVENT
DTSTAMP:20260425T211405Z
UID:72936833-09e9-45ec-a301-b9d1792a3c50
DTSTART:20260506T080000
DTEND:20260506T110000
DESCRIPTION:
LOCATION:Library
SUMMARY:AP Literature Exam (12 students)
END:VEVENT
BEGIN:VEVENT
DTSTAMP:20260425T211405Z
UID:2e393114-671e-4e95-b375-aa526db18654
DTSTART:20260506T153000
DTEND:20260506T163000
DESCRIPTION:
LOCATION:Susquenita High School\, 309 Schoolhouse Rd\, Duncannon\, PA 17020
 \, USA
SUMMARY:Track & Field TVAA League Meet
END:VEVENT
BEGIN:VEVENT
DTSTAMP:20260425T211405Z
UID:7d746f45-3b8f-4d44-bc86-cebbd99ac640
DTSTART:20260506T163000
DTEND:20260506T173000
DESCRIPTION:
LOCATION:
SUMMARY:Baseball @ Juniata
END:VEVENT
BEGIN:VEVENT
DTSTAMP:20260425T211405Z
UID:14f2992a-8190-4d94-a6f5-d8835042651d
DTSTART:20260506T163000
DTEND:20260506T173000
DESCRIPTION:
LOCATION:
SUMMARY:Softball vs. Juniata
END:VEVENT
BEGIN:VEVENT
DTSTAMP:20260425T211405Z
UID:50ab217c-169d-49db-b065-301f0871c9fc
DTSTART:20260507T160000
DTEND:20260507T170000
DESCRIPTION:
LOCATION:
SUMMARY:JH Girls Soccer vs. Juniata
END:VEVENT
BEGIN:VEVENT
DTSTAMP:20260425T211405Z
UID:d6b4081f-efb8-409a-b115-e10ac072ace2
DTSTART:20260508T080000
DTEND:20260508T110000
DESCRIPTION:
LOCATION:Library
SUMMARY:AP US History Exam (11 students)
END:VEVENT
BEGIN:VEVENT
DTSTAMP:20260425T211405Z
UID:fd944748-ec0d-43a7-802b-884407f5b7c6
DTSTART;VALUE=DATE:20260509
DTEND;VALUE=DATE:20260510
DESCRIPTION:
LOCATION:
SUMMARY:May Day
END:VEVENT
BEGIN:VEVENT
DTSTAMP:20260425T211405Z
UID:afb13c2c-45bc-4ee5-be59-9ba8e8a74134
DTSTART:20260509T110000
DTEND:20260509T120000
DESCRIPTION:
LOCATION:
SUMMARY:Baseball @ Line Mountain
END:VEVENT
BEGIN:VEVENT
DTSTAMP:20260425T211405Z
UID:fb2f142e-65d2-4582-9cc5-9027ae3f81cb
DTSTART:20260509T110000
DTEND:20260509T120000
DESCRIPTION:
LOCATION:
SUMMARY:Softball vs. Line Mountain
END:VEVENT
BEGIN:VEVENT
DTSTAMP:20260425T211405Z
UID:24ba2ea5-00ce-4840-ba01-3addcf9eddb8
DTSTART;VALUE=DATE:20260511
DTEND;VALUE=DATE:20260512
DESCRIPTION:
LOCATION:
SUMMARY:Algebra Keystone
END:VEVENT
BEGIN:VEVENT
DTSTAMP:20260425T211405Z
UID:020ad29a-e1a8-490a-88e7-3fdf9d8b7f72
DTSTART:20260511T160000
DTEND:20260511T170000
DESCRIPTION:
LOCATION:
SUMMARY:JH Girls Soccer vs. Mifflinburg
END:VEVENT
BEGIN:VEVENT
DTSTAMP:20260425T211405Z
UID:41ec3cac-cf26-4ac4-bfb5-bcac79b852bb
DTSTART:20260512T080000
DTEND:20260512T083000
DESCRIPTION:
LOCATION:
SUMMARY:NHS Meeting
END:VEVENT
BEGIN:VEVENT
DTSTAMP:20260425T211405Z
UID:ac6f61f2-38f7-46c1-910c-6ff62f742b40
DTSTART:20260512T190000
DTEND:20260512T200000
DESCRIPTION:
LOCATION:
SUMMARY:Band Concert (EJHS)
END:VEVENT
BEGIN:VEVENT
DTSTAMP:20260425T211405Z
UID:abe698b2-34f0-46f8-ad80-7e65143a2672
DTSTART;VALUE=DATE:20260513
DTEND;VALUE=DATE:20260514
DESCRIPTION:
LOCATION:
SUMMARY:Literature Keystone
END:VEVENT
BEGIN:VEVENT
DTSTAMP:20260425T211405Z
UID:5236d48d-85f1-43bc-bbc5-4c3f12fac381
DTSTART:20260513T080000
DTEND:20260513T110000
DESCRIPTION:
LOCATION:Library
SUMMARY:AP Language Exam (7 students)
END:VEVENT
BEGIN:VEVENT
DTSTAMP:20260425T211405Z
UID:455c9320-a5be-4d96-8620-775334738c23
DTSTART:20260513T153000
DTEND:20260513T160000
DESCRIPTION:
LOCATION:
SUMMARY:Faculty Meeting
END:VEVENT
BEGIN:VEVENT
DTSTAMP:20260425T211405Z
UID:2d459509-7c57-4b5e-87f6-0109d7684016
DTSTART:20260514T120000
DTEND:20260514T123000
DESCRIPTION:
LOCATION:
SUMMARY:AP Comp Sci Exam (1 student)
END:VEVENT
BEGIN:VEVENT
DTSTAMP:20260425T211405Z
UID:a45bab82-063f-495d-9267-89ef3bcf1d37
DTSTART:20260514T160000
DTEND:20260514T170000
DESCRIPTION:
LOCATION:
SUMMARY:JH Girls Soccer @ Midd-West
END:VEVENT
BEGIN:VEVENT
DTSTAMP:20260425T211405Z
UID:5863af37-5f06-43fd-be2f-f347f325e9e1
DTSTART;VALUE=DATE:20260515
DTEND;VALUE=DATE:20260516
DESCRIPTION:
LOCATION:Library
SUMMARY:Biology Keystone
END:VEVENT
BEGIN:VEVENT
DTSTAMP:20260425T211405Z
UID:c893571c-e38d-42a9-b58f-7e1bc717fcae
DTSTART;VALUE=DATE:20260515
DTEND;VALUE=DATE:20260516
DESCRIPTION:
LOCATION:
SUMMARY:Math 24 Competition
END:VEVENT
BEGIN:VEVENT
DTSTAMP:20260425T211405Z
UID:b7b336e3-592e-4e22-ae6e-2415c3f46264
DTSTART:20260519T190000
DTEND:20260519T200000
DESCRIPTION:
LOCATION:
SUMMARY:Choir & Jazz Concert (EJHS)
END:VEVENT
BEGIN:VEVENT
DTSTAMP:20260425T211405Z
UID:04f3d92c-b374-41df-be5d-8070cb659fc3
DTSTART:20260520T090000
DTEND:20260520T100000
DESCRIPTION:<a href="https://www.staceysnyderstudio.com/form/ej-cap-gown-po
 rtraits-wed-may-20" target="_blank">https://www.<wbr />staceysnyderstudio.
 com/form/<wbr />ej-cap-gown-portraits-wed-may-<wbr />20</a>
LOCATION:
SUMMARY:Senior Cap & Gown Photos
END:VEVENT
BEGIN:VEVENT
DTSTAMP:20260425T211405Z
UID:6a082843-0c17-436d-85fd-e08a98e530ae
DTSTART:20260520T190000
DTEND:20260520T200000
DESCRIPTION:
LOCATION:
SUMMARY:Academy Awards Night
END:VEVENT
BEGIN:VEVENT
DTSTAMP:20260425T211405Z
UID:c13d715c-fb19-42e5-914a-7721bdf18170
DTSTART:20260521T180000
DTEND:20260521T190000
DESCRIPTION:
LOCATION:
SUMMARY:Theater Banquet
END:VEVENT
BEGIN:VEVENT
DTSTAMP:20260425T211405Z
UID:42560e6a-c2b0-491d-b66f-0711a914062c
DTSTART;VALUE=DATE:20260522
DTEND;VALUE=DATE:20260523
DESCRIPTION:
LOCATION:
SUMMARY:EJ Fun Day
END:VEVENT
BEGIN:VEVENT
DTSTAMP:20260425T211405Z
UID:f2cf4795-3b4f-4153-9c85-f47dd53dbb03
DTSTART:20260522T113000
DTEND:20260522T140000
DESCRIPTION:
LOCATION:
SUMMARY:6th Grade Tour
END:VEVENT
BEGIN:VEVENT
DTSTAMP:20260425T211405Z
UID:b8c489a3-58a8-48f9-b0cc-9f6eab9fbc9f
DTSTART;VALUE=DATE:20260525
DTEND;VALUE=DATE:20260526
DESCRIPTION:
LOCATION:
SUMMARY:NO SCHOOL
END:VEVENT
BEGIN:VEVENT
DTSTAMP:20260425T211405Z
UID:29065a37-c2ad-4351-b6c4-eb82539ea3f9
DTSTART:20260526T190000
DTEND:20260526T200000
DESCRIPTION:
LOCATION:
SUMMARY:EJHS Class Night
END:VEVENT
BEGIN:VEVENT
DTSTAMP:20260425T211405Z
UID:b0e5dd97-0934-4750-8555-bb1d417890b6
DTSTART;VALUE=DATE:20260527
DTEND;VALUE=DATE:20260528
DESCRIPTION:
LOCATION:
SUMMARY:Senior Class Walk at EJES
END:VEVENT
BEGIN:VEVENT
DTSTAMP:20260425T211405Z
UID:abb61567-39b3-4c82-bfe0-42488bfb708d
DTSTART;VALUE=DATE:20260527
DTEND;VALUE=DATE:20260528
DESCRIPTION:Sorry all- I said seniors' last day was May 22\, but that is ju
 st the deadline for senior grades.
LOCATION:
SUMMARY:Seniors' Last Day
END:VEVENT
BEGIN:VEVENT
DTSTAMP:20260425T211405Z
UID:26e76bee-7862-43f1-89a9-8e3350524111
DTSTART:20260528T190000
DTEND:20260528T200000
DESCRIPTION:
LOCATION:
SUMMARY:EJHS Graduation
END:VEVENT
BEGIN:VEVENT
DTSTAMP:20260425T211405Z
UID:cce59ecd-cf04-4dd0-9847-670b8876fb8e
DTSTART;VALUE=DATE:20260529
DTEND;VALUE=DATE:20260530
DESCRIPTION:
LOCATION:
SUMMARY:Activity Period
END:VEVENT
BEGIN:VEVENT
DTSTAMP:20260425T211405Z
UID:03038eec-f65d-4228-a2e0-4649e196497d
DTSTART:20260529T190000
DTEND:20260529T200000
DESCRIPTION:
LOCATION:
SUMMARY:JHS Graduation 
END:VEVENT
BEGIN:VEVENT
DTSTAMP:20260425T211405Z
UID:124e2500-2efc-4716-b08b-bf7f4b518882
DTSTART;VALUE=DATE:20260602
DTEND;VALUE=DATE:20260603
DESCRIPTION:
LOCATION:
SUMMARY:End MP4
END:VEVENT
BEGIN:VEVENT
DTSTAMP:20260425T211405Z
UID:793e557a-f807-4e06-9228-38ff3c516d8c
DTSTART;VALUE=DATE:20260602
DTEND;VALUE=DATE:20260603
DESCRIPTION:
LOCATION:
SUMMARY:Students' Last Day: 12:30 Dismissal
END:VEVENT
BEGIN:VEVENT
DTSTAMP:20260425T211405Z
UID:b19a6d86-9ca4-4fea-9816-c737508b144c
DTSTART;VALUE=DATE:20260603
DTEND;VALUE=DATE:20260604
DESCRIPTION:
LOCATION:
SUMMARY:Teacher Inservice
END:VEVENT
BEGIN:VEVENT
DTSTAMP:20260425T211405Z
UID:415759eb-05c7-4f33-b713-e5d9506761eb
DTSTART;VALUE=DATE:20260604
DTEND;VALUE=DATE:20260605
DESCRIPTION:
LOCATION:
SUMMARY:Teacher Flex Inservice
END:VEVENT
BEGIN:VEVENT
DTSTAMP:20260425T211405Z
UID:3bb6489c-05c8-4e57-880e-1e6946887bd6
DTSTART;VALUE=DATE:20260618
DTEND;VALUE=DATE:20260619
DESCRIPTION:
LOCATION:
SUMMARY:SCHOOL OFFICE CLOSED
END:VEVENT
BEGIN:VEVENT
DTSTAMP:20260425T211405Z
UID:4f0616c6-2909-48d8-bcc7-c06f4e08d933
DTSTART;VALUE=DATE:20260813
DTEND;VALUE=DATE:20260814
DESCRIPTION:
LOCATION:
SUMMARY:7th Grade Orientation
END:VEVENT
BEGIN:VEVENT
DTSTAMP:20260425T211405Z
UID:38a99470-ebe5-4497-b8ae-66b89c7ae60b
DTSTART;VALUE=DATE:20260820
DTEND;VALUE=DATE:20260821
DESCRIPTION:
LOCATION:
SUMMARY:Inservice
END:VEVENT
BEGIN:VEVENT
DTSTAMP:20260425T211405Z
UID:f8c36f1a-b31c-443a-917d-843b8188fceb
DTSTART;VALUE=DATE:20260821
DTEND;VALUE=DATE:20260822
DESCRIPTION:
LOCATION:
SUMMARY:Inservice- FLEX
END:VEVENT
BEGIN:VEVENT
DTSTAMP:20260425T211405Z
UID:c73530cd-0d6c-4f0d-9455-5765f2882b11
DTSTART;VALUE=DATE:20260824
DTEND;VALUE=DATE:20260826
DESCRIPTION:
LOCATION:
SUMMARY:Inservice
END:VEVENT
BEGIN:VEVENT
DTSTAMP:20260425T211405Z
UID:69ef37dc-03a3-4409-a2c4-68415f180f31
DTSTART;VALUE=DATE:20260826
DTEND;VALUE=DATE:20260827
DESCRIPTION:
LOCATION:
SUMMARY:First Day of School
END:VEVENT
BEGIN:VEVENT
DTSTAMP:20260425T211405Z
UID:e34232d5-97e6-4731-8a4e-0e788d51ec4c
DTSTART;VALUE=DATE:20260904
DTEND;VALUE=DATE:20260905
DESCRIPTION:
LOCATION:
SUMMARY:INSERVICE- No School for Students
END:VEVENT
BEGIN:VEVENT
DTSTAMP:20260425T211405Z
UID:97201008-466d-4e7b-ad5f-74482c18bb77
DTSTART;VALUE=DATE:20260907
DTEND;VALUE=DATE:20260908
DESCRIPTION:
LOCATION:
SUMMARY:Labor Day- No School
END:VEVENT
BEGIN:VEVENT
DTSTAMP:20260425T211405Z
UID:4192aff1-2b05-4f4f-8c92-b725035be5df
DTSTART;VALUE=DATE:20260910
DTEND;VALUE=DATE:20260911
DESCRIPTION:
LOCATION:
SUMMARY:School Picture Day
END:VEVENT
BEGIN:VEVENT
DTSTAMP:20260425T211405Z
UID:71df9786-24d4-4143-b620-056e7d218606
DTSTART;VALUE=DATE:20260911
DTEND;VALUE=DATE:20260912
DESCRIPTION:
LOCATION:
SUMMARY:INSERVICE- No School for Students
END:VEVENT
BEGIN:VEVENT
DTSTAMP:20260425T211405Z
UID:93bf1b21-6304-439c-acbb-f6a75d4269e1
DTSTART;VALUE=DATE:20261012
DTEND;VALUE=DATE:20261013
DESCRIPTION:
LOCATION:
SUMMARY:INSERVICE- No School for Students
END:VEVENT
BEGIN:VEVENT
DTSTAMP:20260425T211405Z
UID:cc3d539a-ceb0-47dd-8548-b0bdfe886ad1
DTSTART;VALUE=DATE:20261021
DTEND;VALUE=DATE:20261022
DESCRIPTION:
LOCATION:
SUMMARY:Picture Retakes
END:VEVENT
BEGIN:VEVENT
DTSTAMP:20260425T211405Z
UID:0e2732d8-a61b-45e3-bf20-f7af9ea9f40d
DTSTART;VALUE=DATE:20261029
DTEND;VALUE=DATE:20261030
DESCRIPTION:
LOCATION:
SUMMARY:End of MP1
END:VEVENT
BEGIN:VEVENT
DTSTAMP:20260425T211405Z
UID:8e9e56c1-c095-4c70-b16c-6e52428ed9f1
DTSTART;VALUE=DATE:20261111
DTEND;VALUE=DATE:20261112
DESCRIPTION:
LOCATION:
SUMMARY:Veteran's Day- No School 
END:VEVENT
BEGIN:VEVENT
DTSTAMP:20260425T211405Z
UID:4779369e-dec8-4f96-9f08-677b3001d3a4
DTSTART;VALUE=DATE:20261124
DTEND;VALUE=DATE:20261125
DESCRIPTION:
LOCATION:
SUMMARY:Parent Teacher Conferences- No School for Students
END:VEVENT
BEGIN:VEVENT
DTSTAMP:20260425T211405Z
UID:124e11fa-20d9-4c3c-b65f-82406572e337
DTSTART;VALUE=DATE:20261125
DTEND;VALUE=DATE:20261201
DESCRIPTION:
LOCATION:
SUMMARY:Thanksgiving Break
END:VEVENT
BEGIN:VEVENT
DTSTAMP:20260425T211405Z
UID:9daa766b-6685-4654-ba9d-5f8f6dcae5aa
DTSTART;VALUE=DATE:20261223
DTEND;VALUE=DATE:20270102
DESCRIPTION:
LOCATION:
SUMMARY:Christmas Vacation
END:VEVENT
BEGIN:VEVENT
DTSTAMP:20260425T211405Z
UID:21085ba0-7936-4baa-85d8-f4713259131d
DTSTART;VALUE=DATE:20270118
DTEND;VALUE=DATE:20270119
DESCRIPTION:
LOCATION:
SUMMARY:MLK Jr. Day- No School
END:VEVENT
BEGIN:VEVENT
DTSTAMP:20260425T211405Z
UID:43137438-0665-4257-8ec2-2ad84543a658
DTSTART;VALUE=DATE:20270119
DTEND;VALUE=DATE:20270120
DESCRIPTION:
LOCATION:
SUMMARY:End of MP#2
END:VEVENT
BEGIN:VEVENT
DTSTAMP:20260425T211405Z
UID:d4dea596-882f-4aa6-86b3-fcb8d7ae6bc1
DTSTART;VALUE=DATE:20270129
DTEND;VALUE=DATE:20270130
DESCRIPTION:
LOCATION:
SUMMARY:INSERVICE- No School for Students
END:VEVENT
BEGIN:VEVENT
DTSTAMP:20260425T211405Z
UID:f744f216-c459-4cb8-ac85-d74ce69401d9
DTSTART;VALUE=DATE:20270212
DTEND;VALUE=DATE:20270213
DESCRIPTION:
LOCATION:
SUMMARY:INSERVICE- No School for Students
END:VEVENT
BEGIN:VEVENT
DTSTAMP:20260425T211405Z
UID:002c1dfb-40a0-4c90-a473-dc1a4ccd0dbe
DTSTART;VALUE=DATE:20270215
DTEND;VALUE=DATE:20270216
DESCRIPTION:
LOCATION:
SUMMARY:Presidents' Day- No School
END:VEVENT
BEGIN:VEVENT
DTSTAMP:20260425T211405Z
UID:6f5bb0e6-0291-4022-9984-7bdaa7595a66
DTSTART;VALUE=DATE:20270324
DTEND;VALUE=DATE:20270325
DESCRIPTION:
LOCATION:
SUMMARY:END of MP#3
END:VEVENT
BEGIN:VEVENT
DTSTAMP:20260425T211405Z
UID:630fce0f-1cf9-4553-9ab7-955cb1f983ae
DTSTART;VALUE=DATE:20270325
DTEND;VALUE=DATE:20270326
DESCRIPTION:
LOCATION:
SUMMARY:INSERVICE- No School for Students
END:VEVENT
BEGIN:VEVENT
DTSTAMP:20260425T211405Z
UID:1e8c2262-eb4e-4833-b1ec-a2e2e81016df
DTSTART;VALUE=DATE:20270326
DTEND;VALUE=DATE:20270327
DESCRIPTION:
LOCATION:
SUMMARY:Easter Break
END:VEVENT
BEGIN:VEVENT
DTSTAMP:20260425T211405Z
UID:cd32f7da-79d2-4e32-8254-be50bf01c6ef
DTSTART;VALUE=DATE:20270329
DTEND;VALUE=DATE:20270330
DESCRIPTION:
LOCATION:
SUMMARY:Easter Break
END:VEVENT
BEGIN:VEVENT
DTSTAMP:20260425T211405Z
UID:2c07aa32-7b58-408e-a77b-97382e2a9324
DTSTART:20270528T123000
DTEND:20270528T133000
DESCRIPTION:
LOCATION:
SUMMARY:Last Day of School- Dismissal
END:VEVENT
END:VCALENDAR
