BEGIN:VCALENDAR
VERSION:2.0
PRODID:icalendar-ruby
CALSCALE:GREGORIAN
BEGIN:VTIMEZONE
TZID:America/Chicago
BEGIN:DAYLIGHT
DTSTART:20260308T030000
TZOFFSETFROM:-0600
TZOFFSETTO:-0500
RRULE:FREQ=YEARLY;BYDAY=2SU;BYMONTH=3
TZNAME:CDT
END:DAYLIGHT
BEGIN:STANDARD
DTSTART:20261101T010000
TZOFFSETFROM:-0500
TZOFFSETTO:-0600
RRULE:FREQ=YEARLY;BYDAY=1SU;BYMONTH=11
TZNAME:CST
END:STANDARD
END:VTIMEZONE
BEGIN:VEVENT
DTSTAMP:20260420T112606Z
UID:01a22846-e1e8-49f5-a962-57b0c49dfe3b
DTSTART:20260427T080000
DTEND:20260427T150000
DESCRIPTION:
LOCATION:
SUMMARY:8th Grade Eco Trip
END:VEVENT
BEGIN:VEVENT
DTSTAMP:20260420T112606Z
UID:1dc2c9b6-50e1-4ee5-bd44-5d7cfb77e3b5
DTSTART:20260429T080000
DTEND:20260429T150000
DESCRIPTION:
LOCATION:
SUMMARY:8th Grade Eco Trip
END:VEVENT
BEGIN:VEVENT
DTSTAMP:20260420T112606Z
UID:5273d844-7e69-4712-af81-73cc199ac5aa
DTSTART:20260429T140500
DTEND:20260429T150500
DESCRIPTION:<p><span>One-hour early release for CHS and CJHS only</span></p
 >
LOCATION:
SUMMARY:CJHS Early Out
END:VEVENT
BEGIN:VEVENT
DTSTAMP:20260420T112606Z
UID:13074a65-830f-46e7-944c-e59632f5c999
DTSTART:20260504T080000
DTEND:20260508T150000
DESCRIPTION:
LOCATION:
SUMMARY:Teacher Appreciation Week
END:VEVENT
BEGIN:VEVENT
DTSTAMP:20260420T112606Z
UID:fdd47763-c435-4088-a76c-2262425e30e5
DTSTART:20260504T190000
DTEND:20260504T200000
DESCRIPTION:
LOCATION:
SUMMARY:CJHS and CHS  Bands Spring Concert
END:VEVENT
BEGIN:VEVENT
DTSTAMP:20260420T112606Z
UID:8f3d20b6-6fdd-4e58-9414-23e0bb500782
DTSTART:20260505T180000
DTEND:20260505T190000
DESCRIPTION:
LOCATION:1415 W Grand Ave\, Carterville\, IL 62918\, USA
SUMMARY:Spring Choir Concert (grades 6-12)
END:VEVENT
BEGIN:VEVENT
DTSTAMP:20260420T112606Z
UID:6418cbda-00d7-4d4e-8012-85a4392564e3
DTSTART:20260506T140500
DTEND:20260506T150500
DESCRIPTION:<p><span>One-hour early release for CHS and CJHS only</span></p
 >
LOCATION:
SUMMARY:CJHS Early Out
END:VEVENT
BEGIN:VEVENT
DTSTAMP:20260420T112606Z
UID:adac208d-6f39-4609-873c-eea9b0f493e2
DTSTART:20260520T180000
DTEND:20260520T190000
DESCRIPTION:
LOCATION:1415 W Grand Ave\, Carterville\, IL 62918\, USA
SUMMARY:8th Grade Promotion
END:VEVENT
BEGIN:VEVENT
DTSTAMP:20260420T112606Z
UID:140aa2d0-3040-49cd-9146-aac2060a7bb8
DTSTART:20260521T080000
DTEND:20260521T150000
DESCRIPTION:
LOCATION:
SUMMARY:Tentative Last Day of Student Attendance (This date does NOT includ
 e emergency days)
END:VEVENT
END:VCALENDAR
