BEGIN:VCALENDAR
VERSION:2.0
PRODID:icalendar-ruby
CALSCALE:GREGORIAN
BEGIN:VTIMEZONE
TZID:America/Chicago
BEGIN:DAYLIGHT
DTSTART:20260308T030000
TZOFFSETFROM:-0600
TZOFFSETTO:-0500
RRULE:FREQ=YEARLY;BYDAY=2SU;BYMONTH=3
TZNAME:CDT
END:DAYLIGHT
BEGIN:STANDARD
DTSTART:20261101T010000
TZOFFSETFROM:-0500
TZOFFSETTO:-0600
RRULE:FREQ=YEARLY;BYDAY=1SU;BYMONTH=11
TZNAME:CST
END:STANDARD
END:VTIMEZONE
BEGIN:VEVENT
DTSTAMP:20260425T233923Z
UID:a91ab067-e6e8-4876-9227-f9b3aa1aacf0
DTSTART:20260427T190000
DTEND:20260427T200000
DESCRIPTION:
LOCATION:District Board Room
SUMMARY:School Board Meeting
END:VEVENT
BEGIN:VEVENT
DTSTAMP:20260425T233923Z
UID:726549c2-d791-42c8-a2d2-447f25bcad3e
DTSTART:20260427T190000
DTEND:20260427T203000
DESCRIPTION:<p>Spring Band Concert (6-12 Grade Band)</p>
LOCATION:High School Gym
SUMMARY:Spring Band Concert
END:VEVENT
BEGIN:VEVENT
DTSTAMP:20260425T233923Z
UID:939f4fb7-f569-4a5c-8db2-40a402f7bc33
DTSTART:20260513T190000
DTEND:20260513T203000
DESCRIPTION:<p>Choir Awards Concert (5-12th Grade Choir)</p>
LOCATION:High School Gym
SUMMARY:Choir Awards Concert
END:VEVENT
BEGIN:VEVENT
DTSTAMP:20260425T233923Z
UID:219d3bc7-5437-4e3c-9c3d-5bd9e5eec490
DTSTART:20260518T190000
DTEND:20260518T200000
DESCRIPTION:
LOCATION:District Board Room
SUMMARY:School Board Meeting
END:VEVENT
BEGIN:VEVENT
DTSTAMP:20260425T233923Z
UID:c2c22767-0899-4f94-861d-9a3879da7240
DTSTART:20260520T163000
DTEND:20260520T190000
DESCRIPTION:<p>Invitations will go out in April 2026. Event will be held in
  the New Cafeteria.</p><p>Check-in begins at 4:30 pm. Food will be served 
 beginning at 5:00 pm.</p><p>Program should be done around 7:00 pm.</p><p>S
 enior Awards program to follow.</p><p>Please enter through Door C9.</p><p>
 </p>
LOCATION:357 N Main St\, Amherst\, WI 54406\, USA
SUMMARY:Tomorrow River Scholarship Foundation Banquet
END:VEVENT
BEGIN:VEVENT
DTSTAMP:20260425T233923Z
UID:a2060996-7e81-4631-9a23-6e81a21e9b35
DTSTART:20260520T190000
DTEND:20260520T200000
DESCRIPTION:<p>New Cafeteria</p><p>Enter through Door C9</p>
LOCATION:357 N Main St\, Amherst\, WI 54406\, USA
SUMMARY:Senior Awards Program
END:VEVENT
BEGIN:VEVENT
DTSTAMP:20260425T233923Z
UID:8ba428ec-83b8-414a-aea2-2b71ca28c925
DTSTART;VALUE=DATE:20260521
DTEND;VALUE=DATE:20260522
DESCRIPTION:
LOCATION:
SUMMARY:Last Day of School for Seniors
END:VEVENT
BEGIN:VEVENT
DTSTAMP:20260425T233923Z
UID:4d5d5632-d086-4012-b570-fd7fc9801091
DTSTART:20260522T080000
DTEND:20260522T090000
DESCRIPTION:<p>Breakfast served in the Cafeteria. Parents/guardians welcome
 . Please enter through Door C9.</p><p>Breakfast will be followed by the de
 but of the Senior Slideshow\, then the Senior Awards presentation.</p>
LOCATION:
SUMMARY:Senior Breakfast
END:VEVENT
BEGIN:VEVENT
DTSTAMP:20260425T233923Z
UID:36706d3e-184f-4997-909a-cb9149c08a21
DTSTART:20260522T094500
DTEND:20260522T100000
DESCRIPTION:
LOCATION:
SUMMARY:Senior Class Picture in the HS Gym
END:VEVENT
BEGIN:VEVENT
DTSTAMP:20260425T233923Z
UID:76cf7966-38d9-4e33-8fdc-891b321f200d
DTSTART:20260522T100000
DTEND:20260522T101500
DESCRIPTION:<p>The Senior Walk occurs in the Bus Loop at the back of the sc
 hool. Seniors will start at the Kindergarten (north end) and proceed south
  to the end of the loop. Parents and community members are welcome!</p>
LOCATION:
SUMMARY:Senior Walk
END:VEVENT
BEGIN:VEVENT
DTSTAMP:20260425T233923Z
UID:81b3ea8d-edff-4f9a-9c03-251657a8b719
DTSTART:20260522T103000
DTEND:20260522T113000
DESCRIPTION:<p>Students will be lined up in the Cafeteria and proceed to He
 artland Farms Field. Once practice is over\, Seniors will be released for 
 the day.</p><p>Attendance at Graduation Practice is mandatory for any stud
 ent who wishes to walk at the Graduation Ceremony at 7:00 pm.</p>
LOCATION:
SUMMARY:Graduation Practice
END:VEVENT
BEGIN:VEVENT
DTSTAMP:20260425T233923Z
UID:434b6555-e29d-47e9-ae3f-8f7fd84b2fff
DTSTART:20260522T190000
DTEND:20260522T203000
DESCRIPTION:<p>Graduation is held on Heartland Farms Field (the turf field)
  behind the school.</p><p>Seniors should arrive by 6:15 pm and meet in the
  Cafeteria (enter at door C9). Seniors should not park in the back parking
  lot\, in order to save room for families and guests.</p><p>There are no f
 amily/spectator limits\, and no tickets are required. Guests can sit on th
 e Home or Visitor section. Both sets of bleachers have ramps for those who
  require wheelchair/rolling walker accessibility.</p><p>The rain location 
 will be the HS Gym. The decision to move inside would be made that afterno
 on.</p>
LOCATION:
SUMMARY:AHS Graduation
END:VEVENT
BEGIN:VEVENT
DTSTAMP:20260425T233923Z
UID:27fe8203-8c95-44c2-b656-8f8aff16d35c
DTSTART;VALUE=DATE:20260525
DTEND;VALUE=DATE:20260526
DESCRIPTION:
LOCATION:
SUMMARY:NO SCHOOL
END:VEVENT
BEGIN:VEVENT
DTSTAMP:20260425T233923Z
UID:aa0f8301-8472-4f87-bdb8-1e58fb41805b
DTSTART:20260525T100000
DTEND:20260525T110000
DESCRIPTION:<p>Memorial Day Parade (Grades 7-12 Band)</p>
LOCATION:Line up on Main Street\, front of School
SUMMARY:Memorial Day Parade (7-12 Band)
END:VEVENT
BEGIN:VEVENT
DTSTAMP:20260425T233923Z
UID:e02ffe97-ad09-43fa-96bd-b275c1c5dc68
DTSTART;VALUE=DATE:20260528
DTEND;VALUE=DATE:20260529
DESCRIPTION:
LOCATION:
SUMMARY:Last Day of School
END:VEVENT
BEGIN:VEVENT
DTSTAMP:20260425T233923Z
UID:5a91257a-61de-4d4b-a2e1-ecfc396db3bf
DTSTART;VALUE=DATE:20260528
DTEND;VALUE=DATE:20260529
DESCRIPTION:
LOCATION:
SUMMARY:End of Term 4
END:VEVENT
BEGIN:VEVENT
DTSTAMP:20260425T233923Z
UID:4893c491-3794-441c-a1b3-23becd8ebc91
DTSTART;VALUE=DATE:20260529
DTEND;VALUE=DATE:20260530
DESCRIPTION:
LOCATION:
SUMMARY:Staff Prep - Full Day
END:VEVENT
END:VCALENDAR
