BEGIN:VCALENDAR
VERSION:2.0
PRODID:icalendar-ruby
CALSCALE:GREGORIAN
BEGIN:VTIMEZONE
TZID:America/New_York
BEGIN:DAYLIGHT
DTSTART:20260308T030000
TZOFFSETFROM:-0500
TZOFFSETTO:-0400
RRULE:FREQ=YEARLY;BYDAY=2SU;BYMONTH=3
TZNAME:EDT
END:DAYLIGHT
BEGIN:STANDARD
DTSTART:20261101T010000
TZOFFSETFROM:-0400
TZOFFSETTO:-0500
RRULE:FREQ=YEARLY;BYDAY=1SU;BYMONTH=11
TZNAME:EST
END:STANDARD
END:VTIMEZONE
BEGIN:VEVENT
DTSTAMP:20260425T040324Z
UID:21355f46-5293-4a93-b4bf-d582bfb66161
DTSTART:20260427T163000
DTEND:20260427T200000
DESCRIPTION:Track and Field-JH Get more event information at https://school
 s.snap.app/ShawneeLima/event/11356
LOCATION:Away - Bath
SUMMARY:Track and Field-JH @ Bath Inv. (Game)
END:VEVENT
BEGIN:VEVENT
DTSTAMP:20260425T040324Z
UID:6553e46a-28c4-4883-bf0c-4cfdf6268ede
DTSTART:20260427T170000
DTEND:20260427T190000
DESCRIPTION:Baseball-JV Get more event information at https://schools.snap.
 app/ShawneeLima/event/11365
LOCATION:Away - Minster
SUMMARY:Baseball-JV Boys @ Minster (Game)
END:VEVENT
BEGIN:VEVENT
DTSTAMP:20260425T040324Z
UID:aca482c1-e158-46fe-9e17-333ccdf6e159
DTSTART:20260427T170000
DTEND:20260427T190000
DESCRIPTION:Softball-JH Get more event information at https://schools.snap.
 app/ShawneeLima/event/11586
LOCATION:HOME - Diamond 8
SUMMARY:Softball-JH Girls - VS St. Marys (Game)
END:VEVENT
BEGIN:VEVENT
DTSTAMP:20260425T040324Z
UID:286b7d9d-cd5e-4daf-b0c1-97d7d5049086
DTSTART:20260427T170000
DTEND:20260427T190000
DESCRIPTION:Softball-V Get more event information at https://schools.snap.a
 pp/ShawneeLima/event/11293
LOCATION:HOME - Diamond 5
SUMMARY:Softball-V Girls - VS Spencerville (Game)
END:VEVENT
BEGIN:VEVENT
DTSTAMP:20260425T040324Z
UID:209d2a19-39eb-456f-bf83-e5ec9aceab03
DTSTART:20260427T173000
DTEND:20260427T193000
DESCRIPTION:
LOCATION:Home - Diamond 3
SUMMARY:7th Grade Baseball Game
END:VEVENT
BEGIN:VEVENT
DTSTAMP:20260425T040324Z
UID:30e8cc63-2c7d-4875-b6f0-06ab18e357d7
DTSTART:20260427T173000
DTEND:20260427T193000
DESCRIPTION:Baseball-JH Get more event information at https://schools.snap.
 app/ShawneeLima/event/11704
LOCATION:HOME - Diamond 4
SUMMARY:Baseball-JH Boys - VS St. Marys (Game)
END:VEVENT
BEGIN:VEVENT
DTSTAMP:20260425T040324Z
UID:bc9e6929-8736-4cf3-99be-9b9a3a0dfd16
DTSTART:20260428T163000
DTEND:20260428T183000
DESCRIPTION:Tennis-V Get more event information at https://schools.snap.app
 /ShawneeLima/event/11306
LOCATION:Away - Wapak
SUMMARY:Tennis-V Boys @ Wapak (Game)
END:VEVENT
BEGIN:VEVENT
DTSTAMP:20260425T040324Z
UID:7611bd13-7854-4ede-a77e-8538590df3e0
DTSTART:20260428T163000
DTEND:20260428T183000
DESCRIPTION:Track and Field-V Get more event information at https://schools
 .snap.app/ShawneeLima/event/11245
LOCATION:Away - St. Marys
SUMMARY:Track and Field-V @ St. Marys/Celina (Game)
END:VEVENT
BEGIN:VEVENT
DTSTAMP:20260425T040324Z
UID:cc6588fb-3e9f-4e4b-8792-944a056067b9
DTSTART:20260428T170000
DTEND:20260428T190000
DESCRIPTION:Softball-JH Get more event information at https://schools.snap.
 app/ShawneeLima/event/11567
LOCATION:HOME - Diamond 8
SUMMARY:Softball-JH Girls - VS Bath (Game)
END:VEVENT
BEGIN:VEVENT
DTSTAMP:20260425T040324Z
UID:e046db71-bdef-4cb7-8914-a05ccfba2437
DTSTART:20260428T173000
DTEND:20260428T193000
DESCRIPTION:Baseball-JV Get more event information at https://schools.snap.
 app/ShawneeLima/event/11417
LOCATION:Away - Defiance
SUMMARY:Baseball-JV Boys @ Defiance (Game)
END:VEVENT
BEGIN:VEVENT
DTSTAMP:20260425T040324Z
UID:0d030ed5-abec-4aab-912f-75c922f40fc4
DTSTART:20260428T173000
DTEND:20260428T193000
DESCRIPTION:Baseball-V Get more event information at https://schools.snap.a
 pp/ShawneeLima/event/10627
LOCATION:Away - Defiance
SUMMARY:Baseball-V Boys @ Defiance (Game)
END:VEVENT
BEGIN:VEVENT
DTSTAMP:20260425T040324Z
UID:8b186093-6674-4a6d-9277-7e82f52828db
DTSTART:20260428T173000
DTEND:20260428T193000
DESCRIPTION:Softball-JV Get more event information at https://schools.snap.
 app/ShawneeLima/event/11271
LOCATION:HOME - Diamond 6
SUMMARY:Softball-JV Girls - VS Defiance (Game)
END:VEVENT
BEGIN:VEVENT
DTSTAMP:20260425T040324Z
UID:2dd4ab18-f6f9-484e-bc13-8053d0af3ee0
DTSTART:20260428T173000
DTEND:20260428T193000
DESCRIPTION:Softball-V Get more event information at https://schools.snap.a
 pp/ShawneeLima/event/11270
LOCATION:HOME - Diamond 5
SUMMARY:Softball-V Girls - VS Defiance (Game)
END:VEVENT
BEGIN:VEVENT
DTSTAMP:20260425T040324Z
UID:cf0b2313-0f1b-4051-9ee9-44a20a173369
DTSTART:20260429T170000
DTEND:20260429T190000
DESCRIPTION:Baseball-JV Get more event information at https://schools.snap.
 app/ShawneeLima/event/11666
LOCATION:Away - Liberty Benton
SUMMARY:Baseball-JV Boys @ Liberty Benton (Game)
END:VEVENT
BEGIN:VEVENT
DTSTAMP:20260425T040324Z
UID:c91093de-ba46-45e9-b3f5-8d887707bfa9
DTSTART:20260429T170000
DTEND:20260429T190000
DESCRIPTION:Softball-JH Get more event information at https://schools.snap.
 app/ShawneeLima/event/11525
LOCATION:HOME - Diamond 8
SUMMARY:Softball-JH Girls - VS Lincolnview (Game)
END:VEVENT
BEGIN:VEVENT
DTSTAMP:20260425T040324Z
UID:9536a0c2-faf1-40d4-82c5-be9f78c34037
DTSTART:20260430T163000
DTEND:20260430T183000
DESCRIPTION:Tennis-V Get more event information at https://schools.snap.app
 /ShawneeLima/event/11685
LOCATION:Away - Ottawa Hills
SUMMARY:Tennis-V Boys @ Ottawa Hills (Game)
END:VEVENT
BEGIN:VEVENT
DTSTAMP:20260425T040324Z
UID:9fc8c2c8-d936-428f-9eb0-654633a7860c
DTSTART:20260430T173000
DTEND:20260430T193000
DESCRIPTION:Softball-V Get more event information at https://schools.snap.a
 pp/ShawneeLima/event/11487
LOCATION:HOME - Diamond 5
SUMMARY:Softball-V Girls - VS New Bremen (Game)
END:VEVENT
BEGIN:VEVENT
DTSTAMP:20260425T040324Z
UID:95a23a9e-a8ff-4983-a6ed-ef092e480370
DTSTART:20260501T163000
DTEND:20260501T183000
DESCRIPTION:Tennis-V Get more event information at https://schools.snap.app
 /ShawneeLima/event/11592
LOCATION:HOME - Tennis Courts
SUMMARY:Tennis-V Boys - VS St. Marys (Game)
END:VEVENT
BEGIN:VEVENT
DTSTAMP:20260425T040324Z
UID:cf8adf4b-a2c9-4126-9d68-d1def2f4f34d
DTSTART:20260501T163000
DTEND:20260501T200000
DESCRIPTION:Track and Field-V Get more event information at https://schools
 .snap.app/ShawneeLima/event/11368
LOCATION:HOME - Track
SUMMARY:Track and Field-V - VS Invitational (Game)
END:VEVENT
BEGIN:VEVENT
DTSTAMP:20260425T040324Z
UID:c379df3c-b3be-4e6e-b50b-12cb0277e1f4
DTSTART:20260501T170000
DTEND:20260501T190000
DESCRIPTION:Baseball-JH Get more event information at https://schools.snap.
 app/ShawneeLima/event/11327
LOCATION:HOME - Diamond 4
SUMMARY:Baseball-JH Boys - VS St. Henry (Game)
END:VEVENT
BEGIN:VEVENT
DTSTAMP:20260425T040324Z
UID:abe1ba1f-b870-4abd-8b8c-2ed94610c5f7
DTSTART:20260501T173000
DTEND:20260501T193000
DESCRIPTION:Baseball-JV Get more event information at https://schools.snap.
 app/ShawneeLima/event/11272
LOCATION:HOME - Diamond 3
SUMMARY:Baseball-JV Boys - VS Wapak (Game)
END:VEVENT
BEGIN:VEVENT
DTSTAMP:20260425T040324Z
UID:96f9b801-8cca-4c46-a1c5-907e928f7cd6
DTSTART:20260501T173000
DTEND:20260501T193000
DESCRIPTION:Baseball-V Get more event information at https://schools.snap.a
 pp/ShawneeLima/event/11274
LOCATION:HOME - Diamond 1
SUMMARY:Baseball-V Boys - VS Wapak (Game)
END:VEVENT
BEGIN:VEVENT
DTSTAMP:20260425T040324Z
UID:9ceb4738-6cec-4531-ba09-5437755ac443
DTSTART:20260501T173000
DTEND:20260501T193000
DESCRIPTION:Softball-JH Get more event information at https://schools.snap.
 app/ShawneeLima/event/11628
LOCATION:HOME - Diamond 8
SUMMARY:Softball-JH Girls - VS Van Wert (Game)
END:VEVENT
BEGIN:VEVENT
DTSTAMP:20260425T040324Z
UID:808844da-3363-4e70-b700-5c01cf9d5ebf
DTSTART:20260501T173000
DTEND:20260501T193000
DESCRIPTION:Softball-JV Get more event information at https://schools.snap.
 app/ShawneeLima/event/11300
LOCATION:Away - Wapak
SUMMARY:Softball-JV Girls @ Wapak (Game)
END:VEVENT
BEGIN:VEVENT
DTSTAMP:20260425T040324Z
UID:6885d351-d97f-4dfa-b392-a717fa4eb2b7
DTSTART:20260501T173000
DTEND:20260501T193000
DESCRIPTION:Softball-V Get more event information at https://schools.snap.a
 pp/ShawneeLima/event/10254
LOCATION:Away - Veterans Park
SUMMARY:Softball-V Girls @ Wapak (Game)
END:VEVENT
BEGIN:VEVENT
DTSTAMP:20260425T040324Z
UID:87672e34-b6d3-4928-b283-44ee1fe909f7
DTSTART:20260502T090000
DTEND:20260502T140000
DESCRIPTION:Tennis-V Get more event information at https://schools.snap.app
 /ShawneeLima/event/11594
LOCATION:Away - Elida
SUMMARY:Tennis-V Boys @ Elida Tourn. (Game)
END:VEVENT
BEGIN:VEVENT
DTSTAMP:20260425T040324Z
UID:0f7688b5-e667-43c0-8964-4cbcf2a4292c
DTSTART;VALUE=DATE:20260504
DTEND;VALUE=DATE:20260509
DESCRIPTION:
LOCATION:
SUMMARY:Teacher Appreciation Week
END:VEVENT
BEGIN:VEVENT
DTSTAMP:20260425T040324Z
UID:a6ac6d1d-9b0b-4229-892c-8146f9cb7437
DTSTART:20260504T173000
DTEND:20260504T193000
DESCRIPTION:Softball-JV Get more event information at https://schools.snap.
 app/ShawneeLima/event/11644
LOCATION:HOME - Diamond 6
SUMMARY:Softball-JV Girls - VS Columbus Grove (Game)
END:VEVENT
BEGIN:VEVENT
DTSTAMP:20260425T040324Z
UID:470829d4-5a1f-4dd4-9d99-385273a8d50f
DTSTART:20260505T170000
DTEND:20260505T190000
DESCRIPTION:Baseball-JH Get more event information at https://schools.snap.
 app/ShawneeLima/event/11328
LOCATION:HOME - Diamond 4
SUMMARY:Baseball-JH Boys - VS Celina (Game)
END:VEVENT
BEGIN:VEVENT
DTSTAMP:20260425T040324Z
UID:c9da79e0-6d63-424d-a5d0-6048b790ea6f
DTSTART:20260505T173000
DTEND:20260505T193000
DESCRIPTION:Baseball-JV Get more event information at https://schools.snap.
 app/ShawneeLima/event/11278
LOCATION:Away - KC Geiger Park
SUMMARY:Baseball-JV Boys @ St. Marys (Game)
END:VEVENT
BEGIN:VEVENT
DTSTAMP:20260425T040324Z
UID:074a5e22-e155-4886-9aca-6b59fdd5f952
DTSTART:20260505T173000
DTEND:20260505T193000
DESCRIPTION:Baseball-V Get more event information at https://schools.snap.a
 pp/ShawneeLima/event/9973
LOCATION:Away - KC Geiger Park - Diamond 7
SUMMARY:Baseball-V Boys @ St. Marys (Game)
END:VEVENT
BEGIN:VEVENT
DTSTAMP:20260425T040324Z
UID:fbb23a7f-2572-459e-b90c-2576aae311ae
DTSTART:20260505T173000
DTEND:20260505T193000
DESCRIPTION:Softball-JV Get more event information at https://schools.snap.
 app/ShawneeLima/event/11273
LOCATION:HOME - Diamond 6
SUMMARY:Softball-JV Girls - VS St. Marys (Game)
END:VEVENT
BEGIN:VEVENT
DTSTAMP:20260425T040324Z
UID:a64ba653-0fa1-4130-a4c3-3c9ada4d10ed
DTSTART:20260505T173000
DTEND:20260505T193000
DESCRIPTION:Softball-V Get more event information at https://schools.snap.a
 pp/ShawneeLima/event/11275
LOCATION:HOME - Diamond 5
SUMMARY:Softball-V Girls - VS St. Marys (Game)
END:VEVENT
BEGIN:VEVENT
DTSTAMP:20260425T040324Z
UID:f2c101cb-480c-41eb-a04f-c1e9186ca404
DTSTART:20260506T170000
DTEND:20260506T190000
DESCRIPTION:Baseball-JH Get more event information at https://schools.snap.
 app/ShawneeLima/event/11329
LOCATION:HOME - Diamond 4
SUMMARY:Baseball-JH Boys - VS Bath (Game)
END:VEVENT
BEGIN:VEVENT
DTSTAMP:20260425T040324Z
UID:805614d5-49fa-47d7-a977-08d0992c21aa
DTSTART:20260507T163000
DTEND:20260507T200000
DESCRIPTION:Track and Field-V Get more event information at https://schools
 .snap.app/ShawneeLima/event/11363
LOCATION:Away - Delphos St. John/Lincolnview
SUMMARY:Track and Field-V @ Delphos St. John/Lincolnview (Game)
END:VEVENT
BEGIN:VEVENT
DTSTAMP:20260425T040324Z
UID:ed884739-1c78-4398-8d3f-3f1e73523a09
DTSTART:20260507T173000
DTEND:20260507T193000
DESCRIPTION:
LOCATION:Home - Diamond 4
SUMMARY:7th Grade Baseball Game
END:VEVENT
BEGIN:VEVENT
DTSTAMP:20260425T040324Z
UID:5a3d31f8-ac32-4b73-8d6a-959e4b3c1c71
DTSTART:20260507T173000
DTEND:20260507T193000
DESCRIPTION:Baseball-JV Get more event information at https://schools.snap.
 app/ShawneeLima/event/11331
LOCATION:HOME - Diamond 1
SUMMARY:Baseball-JV Boys - VS Bryan (Game)
END:VEVENT
BEGIN:VEVENT
DTSTAMP:20260425T040324Z
UID:693f4601-5a79-4868-9869-524218055031
DTSTART:20260507T173000
DTEND:20260507T193000
DESCRIPTION:Baseball-V Get more event information at https://schools.snap.a
 pp/ShawneeLima/event/11248
LOCATION:Away - Bryan
SUMMARY:Baseball-V Boys @ Bryan (Game)
END:VEVENT
BEGIN:VEVENT
DTSTAMP:20260425T040324Z
UID:a653041e-c2cc-43d2-8279-de0da6a9e8d2
DTSTART:20260508T163000
DTEND:20260508T200000
DESCRIPTION:Track and Field-JH Get more event information at https://school
 s.snap.app/ShawneeLima/event/11357
LOCATION:HOME - Track
SUMMARY:Track and Field-JH - VS Invitational (Game)
END:VEVENT
BEGIN:VEVENT
DTSTAMP:20260425T040324Z
UID:87a56c81-b12b-44e1-b915-8a8acb05ea46
DTSTART:20260508T170000
DTEND:20260508T190000
DESCRIPTION:
LOCATION:Home - Diamond 4
SUMMARY:7th Grade Baseball Game
END:VEVENT
BEGIN:VEVENT
DTSTAMP:20260425T040324Z
UID:02970432-e213-414a-9774-b45e0b3fdfa9
DTSTART:20260508T170000
DTEND:20260508T183000
DESCRIPTION:
LOCATION:Home - Diamond 8
SUMMARY:7th Grade Softball Game
END:VEVENT
BEGIN:VEVENT
DTSTAMP:20260425T040324Z
UID:17b879ec-8685-4e3c-8b48-814c38bdba52
DTSTART:20260509T160000
DTEND:20260509T180000
DESCRIPTION:Baseball-V Get more event information at https://schools.snap.a
 pp/ShawneeLima/event/11481
LOCATION:HOME - Dayton Dragons/Day Air Ballpark
SUMMARY:Baseball-V Boys - VS Lima Senior (Game)
END:VEVENT
BEGIN:VEVENT
DTSTAMP:20260425T040324Z
UID:743b3a34-9d1c-4f10-9746-fe41489ed763
DTSTART:20260511T170000
DTEND:20260511T190000
DESCRIPTION:Softball-JH Get more event information at https://schools.snap.
 app/ShawneeLima/event/11524
LOCATION:HOME - Diamond 8
SUMMARY:Softball-JH Girls - VS Wapak (Game)
END:VEVENT
BEGIN:VEVENT
DTSTAMP:20260425T040324Z
UID:f6de1500-8ad5-4225-89a4-b80b761c2b7d
DTSTART:20260511T173000
DTEND:20260511T193000
DESCRIPTION:Baseball-JH Get more event information at https://schools.snap.
 app/ShawneeLima/event/11304
LOCATION:Away - Veterans Park
SUMMARY:Baseball-JH Boys @ Wapak (Game)
END:VEVENT
BEGIN:VEVENT
DTSTAMP:20260425T040324Z
UID:43da345b-4323-4282-86c4-58a1f2cfe0e9
DTSTART:20260512T163000
DTEND:20260512T193000
DESCRIPTION:Track and Field-JH Get more event information at https://school
 s.snap.app/ShawneeLima/event/11372
LOCATION:HOME - Track
SUMMARY:Track and Field-JH - VS Van Wert (Game)
END:VEVENT
BEGIN:VEVENT
DTSTAMP:20260425T040324Z
UID:26a445b7-e5e4-468d-b1ea-4891f972b031
DTSTART:20260513T160000
DTEND:20260513T200000
DESCRIPTION:Track and Field-V Get more event information at https://schools
 .snap.app/ShawneeLima/event/11369
LOCATION:Away - Elida
SUMMARY:Track and Field-V @ WBL @ Elida (Game)
END:VEVENT
BEGIN:VEVENT
DTSTAMP:20260425T040324Z
UID:eeb7c48a-83b7-4189-bfca-992f7d16812a
DTSTART:20260513T190000
DTEND:20260513T200000
DESCRIPTION:
LOCATION:
SUMMARY:5th-8th Grade Spring Choir Concert in the HS auditorium
END:VEVENT
BEGIN:VEVENT
DTSTAMP:20260425T040324Z
UID:f237dfc1-77ac-4218-81c3-7fbdd962ad58
DTSTART:20260514T163000
DTEND:20260514T183000
DESCRIPTION:Track and Field-JH Get more event information at https://school
 s.snap.app/ShawneeLima/event/11400
LOCATION:Away - Celina Inv.
SUMMARY:Track and Field-JH @ Celina Inv. (Game)
END:VEVENT
BEGIN:VEVENT
DTSTAMP:20260425T040324Z
UID:fdc86e63-a2bf-41b4-9f94-90bf77c5ecb6
DTSTART:20260514T170000
DTEND:20260514T190000
DESCRIPTION:Baseball-V Get more event information at https://schools.snap.a
 pp/ShawneeLima/event/11667
LOCATION:Away - Crestview
SUMMARY:Baseball-V Boys @ Crestview (Game)
END:VEVENT
BEGIN:VEVENT
DTSTAMP:20260425T040324Z
UID:35b6eba4-5953-409e-9b41-becbeafd44a4
DTSTART:20260515T160000
DTEND:20260515T200000
DESCRIPTION:Track and Field-V Get more event information at https://schools
 .snap.app/ShawneeLima/event/11370
LOCATION:Away - Elida
SUMMARY:Track and Field-V @ WBL @ Elida (Game)
END:VEVENT
BEGIN:VEVENT
DTSTAMP:20260425T040324Z
UID:31c791ca-7cdc-4451-a28f-48e934fc1046
DTSTART:20260516T080000
DTEND:20260516T130000
DESCRIPTION:
LOCATION:
SUMMARY:MS LG Cafe - MS Art Show 
END:VEVENT
BEGIN:VEVENT
DTSTAMP:20260425T040324Z
UID:823db8b3-9508-4628-9ee0-e0d4214cf237
DTSTART;VALUE=DATE:20260518
DTEND;VALUE=DATE:20260519
DESCRIPTION:
LOCATION:
SUMMARY:5/6 Field Day
END:VEVENT
BEGIN:VEVENT
DTSTAMP:20260425T040324Z
UID:a8b8fe1e-2ad4-4bc9-96d6-caf19a29c46a
DTSTART;VALUE=DATE:20260519
DTEND;VALUE=DATE:20260520
DESCRIPTION:
LOCATION:
SUMMARY:District Connections Day
END:VEVENT
BEGIN:VEVENT
DTSTAMP:20260425T040324Z
UID:8ac2f67f-8172-4f81-b91c-2a65ffc22d24
DTSTART:20260520T183000
DTEND:20260520T203000
DESCRIPTION:
LOCATION:
SUMMARY:MS LG Cafe - Washington DC Trip Meeting
END:VEVENT
BEGIN:VEVENT
DTSTAMP:20260425T040324Z
UID:a51f0603-0be2-4790-b8de-cc224da4f978
DTSTART;VALUE=DATE:20260522
DTEND;VALUE=DATE:20260523
DESCRIPTION:
LOCATION:
SUMMARY:7/8 Field Day
END:VEVENT
BEGIN:VEVENT
DTSTAMP:20260425T040324Z
UID:b279878e-262f-4890-b3bb-3eb25bf85f89
DTSTART;VALUE=DATE:20260525
DTEND;VALUE=DATE:20260526
DESCRIPTION:
LOCATION:
SUMMARY:No School Memorial Day
END:VEVENT
BEGIN:VEVENT
DTSTAMP:20260425T040324Z
UID:1c607f43-fed1-4e12-a1b8-a25a68ab7147
DTSTART;VALUE=DATE:20260527
DTEND;VALUE=DATE:20260528
DESCRIPTION:
LOCATION:
SUMMARY:Last Day for Students
END:VEVENT
BEGIN:VEVENT
DTSTAMP:20260425T040324Z
UID:2daa3160-7f00-4f4e-bf12-8520cdba665d
DTSTART;VALUE=DATE:20260831
DTEND;VALUE=DATE:20260901
DESCRIPTION:
LOCATION:
SUMMARY:First Day of School for Students
END:VEVENT
BEGIN:VEVENT
DTSTAMP:20260425T040324Z
UID:a3fcae6f-bf3f-4154-afc1-6110dae236ba
DTSTART;VALUE=DATE:20260907
DTEND;VALUE=DATE:20260908
DESCRIPTION:
LOCATION:
SUMMARY:NO SCHOOL LABOR DAY
END:VEVENT
BEGIN:VEVENT
DTSTAMP:20260425T040324Z
UID:fae8f475-055b-4dfe-8bca-d47e89b7bb11
DTSTART;VALUE=DATE:20261030
DTEND;VALUE=DATE:20261031
DESCRIPTION:
LOCATION:
SUMMARY:Teacher In-Service/NO SCHOOL FOR STUDENTS
END:VEVENT
BEGIN:VEVENT
DTSTAMP:20260425T040324Z
UID:55ac8da8-2acf-4f06-be6f-4cf876e66791
DTSTART;VALUE=DATE:20261125
DTEND;VALUE=DATE:20261128
DESCRIPTION:
LOCATION:
SUMMARY:NO SCHOOL Thanksgiving Break
END:VEVENT
BEGIN:VEVENT
DTSTAMP:20260425T040324Z
UID:26e8410e-73b8-4094-a969-3787f80d52e1
DTSTART;VALUE=DATE:20261218
DTEND;VALUE=DATE:20261219
DESCRIPTION:
LOCATION:
SUMMARY:Early Release Winter Recess
END:VEVENT
BEGIN:VEVENT
DTSTAMP:20260425T040324Z
UID:c248ea55-ef1a-49bc-b71c-c54da50e2be9
DTSTART;VALUE=DATE:20261221
DTEND;VALUE=DATE:20261226
DESCRIPTION:
LOCATION:
SUMMARY:NO SCHOOL Winter Recess
END:VEVENT
BEGIN:VEVENT
DTSTAMP:20260425T040324Z
UID:4aefa665-ee2e-4df2-9df7-f4eab898e10f
DTSTART;VALUE=DATE:20261228
DTEND;VALUE=DATE:20270102
DESCRIPTION:
LOCATION:
SUMMARY:NO SCHOOL Winter Recess
END:VEVENT
BEGIN:VEVENT
DTSTAMP:20260425T040324Z
UID:96de7199-a0e7-40cb-9a27-af08c6de59e3
DTSTART;VALUE=DATE:20270118
DTEND;VALUE=DATE:20270119
DESCRIPTION:
LOCATION:
SUMMARY:NO SCHOOL MLK Day
END:VEVENT
BEGIN:VEVENT
DTSTAMP:20260425T040324Z
UID:7ee93575-947c-43e1-81dd-6d7ad1c43b7a
DTSTART;VALUE=DATE:20270119
DTEND;VALUE=DATE:20270120
DESCRIPTION:
LOCATION:
SUMMARY:Teacher In-Service NO SCHOOL FOR STUDENTS
END:VEVENT
BEGIN:VEVENT
DTSTAMP:20260425T040324Z
UID:f2ce0666-2247-4124-b61a-f026d7d94f17
DTSTART;VALUE=DATE:20270215
DTEND;VALUE=DATE:20270216
DESCRIPTION:
LOCATION:
SUMMARY:Teacher In-Service Day NO SCHOOL FOR STUDENTS
END:VEVENT
BEGIN:VEVENT
DTSTAMP:20260425T040324Z
UID:fb83691a-e3b5-4f32-85d3-c30b16d57e03
DTSTART;VALUE=DATE:20270326
DTEND;VALUE=DATE:20270327
DESCRIPTION:
LOCATION:
SUMMARY:NO SCHOOL Spring Recess
END:VEVENT
BEGIN:VEVENT
DTSTAMP:20260425T040324Z
UID:297bf6fe-58a2-40d8-a24b-206ceb9f089d
DTSTART;VALUE=DATE:20270329
DTEND;VALUE=DATE:20270330
DESCRIPTION:
LOCATION:
SUMMARY:NO SCHOOL Spring Recess
END:VEVENT
BEGIN:VEVENT
DTSTAMP:20260425T040324Z
UID:86127092-dabc-4bea-8ae5-57a262b7e895
DTSTART;VALUE=DATE:20270430
DTEND;VALUE=DATE:20270501
DESCRIPTION:
LOCATION:
SUMMARY:Teacher In Service NO SCHOOL FOR STUDENTS
END:VEVENT
BEGIN:VEVENT
DTSTAMP:20260425T040324Z
UID:85736889-7f5a-4027-91ee-937ef5a2fdd2
DTSTART;VALUE=DATE:20270528
DTEND;VALUE=DATE:20270529
DESCRIPTION:
LOCATION:
SUMMARY:Last Day of School for Students
END:VEVENT
BEGIN:VEVENT
DTSTAMP:20260425T040324Z
UID:1f088169-2465-4915-81f1-43ad45bd529a
DTSTART;VALUE=DATE:20270530
DTEND;VALUE=DATE:20270531
DESCRIPTION:
LOCATION:
SUMMARY:Graduation Day
END:VEVENT
END:VCALENDAR
