BEGIN:VCALENDAR
VERSION:2.0
PRODID:icalendar-ruby
CALSCALE:GREGORIAN
BEGIN:VTIMEZONE
TZID:America/New_York
BEGIN:DAYLIGHT
DTSTART:20260308T030000
TZOFFSETFROM:-0500
TZOFFSETTO:-0400
RRULE:FREQ=YEARLY;BYDAY=2SU;BYMONTH=3
TZNAME:EDT
END:DAYLIGHT
BEGIN:STANDARD
DTSTART:20261101T010000
TZOFFSETFROM:-0400
TZOFFSETTO:-0500
RRULE:FREQ=YEARLY;BYDAY=1SU;BYMONTH=11
TZNAME:EST
END:STANDARD
END:VTIMEZONE
BEGIN:VEVENT
DTSTAMP:20260423T182959Z
UID:fedc60c1-3a53-4077-9ec6-fae65089c2ad
DTSTART:20260507T173000
DTEND:20260507T183000
DESCRIPTION:
LOCATION:
SUMMARY:Board of Education Working Meeting
END:VEVENT
BEGIN:VEVENT
DTSTAMP:20260423T182959Z
UID:1a8a4349-8b08-4f8f-8fe0-0dd5018d4fab
DTSTART:20260514T173000
DTEND:20260514T183000
DESCRIPTION:
LOCATION:
SUMMARY:Board of Education Meeting
END:VEVENT
BEGIN:VEVENT
DTSTAMP:20260423T182959Z
UID:2e9db42d-7d93-4a1c-9af8-277b40e601dc
DTSTART;VALUE=DATE:20260527
DTEND;VALUE=DATE:20260528
DESCRIPTION:
LOCATION:
SUMMARY:Last Day of School for Students
END:VEVENT
BEGIN:VEVENT
DTSTAMP:20260423T182959Z
UID:844b7f31-ab1c-42b2-a913-c645abea9160
DTSTART;VALUE=DATE:20260529
DTEND;VALUE=DATE:20260530
DESCRIPTION:
LOCATION:
SUMMARY:Last Day of School for Students 
END:VEVENT
BEGIN:VEVENT
DTSTAMP:20260423T182959Z
UID:50eb0d44-fb0a-4c3a-9202-8e83b0e5fb73
DTSTART:20260529T190000
DTEND:20260529T210000
DESCRIPTION:
LOCATION:
SUMMARY:LCHS Graduation Ceremony
END:VEVENT
BEGIN:VEVENT
DTSTAMP:20260423T182959Z
UID:746f8b41-8a9d-4b60-b8c6-06288dcb9600
DTSTART:20260604T173000
DTEND:20260604T183000
DESCRIPTION:
LOCATION:
SUMMARY:Board of Education Working Meeting
END:VEVENT
BEGIN:VEVENT
DTSTAMP:20260423T182959Z
UID:1c378ed9-c980-4c9f-abaa-83b80bb65f19
DTSTART:20260611T173000
DTEND:20260611T183000
DESCRIPTION:
LOCATION:
SUMMARY:Board of Education Meeting
END:VEVENT
BEGIN:VEVENT
DTSTAMP:20260423T182959Z
UID:80f62cce-da91-40cf-befa-a24194a73d6f
DTSTART:20260707T173000
DTEND:20260707T183000
DESCRIPTION:
LOCATION:
SUMMARY:Board of Education Working Meeting
END:VEVENT
BEGIN:VEVENT
DTSTAMP:20260423T182959Z
UID:9de7248b-a4c0-471d-b4db-72de98966498
DTSTART:20260716T173000
DTEND:20260716T183000
DESCRIPTION:
LOCATION:
SUMMARY:Board of Education Meeting
END:VEVENT
BEGIN:VEVENT
DTSTAMP:20260423T182959Z
UID:fcfdbf50-e20b-492a-b537-12cbe1f810ce
DTSTART:20260806T173000
DTEND:20260806T183000
DESCRIPTION:
LOCATION:
SUMMARY:Board of Education Working Meeting
END:VEVENT
BEGIN:VEVENT
DTSTAMP:20260423T182959Z
UID:066483b5-028e-4a6c-a19d-b49f497026e7
DTSTART:20260813T173000
DTEND:20260813T183000
DESCRIPTION:
LOCATION:
SUMMARY:Board of Education Meeting
END:VEVENT
BEGIN:VEVENT
DTSTAMP:20260423T182959Z
UID:917f7366-41fc-4cc7-a201-6c1eb303343d
DTSTART:20260903T173000
DTEND:20260903T183000
DESCRIPTION:
LOCATION:
SUMMARY:Board of Education Working Meeting
END:VEVENT
BEGIN:VEVENT
DTSTAMP:20260423T182959Z
UID:04cc5f41-f111-4175-9bfc-10a3bef65476
DTSTART:20260910T173000
DTEND:20260910T183000
DESCRIPTION:
LOCATION:
SUMMARY:Board of Education Meeting
END:VEVENT
BEGIN:VEVENT
DTSTAMP:20260423T182959Z
UID:6f99897c-801a-4a6c-84c3-bb883a463a92
DTSTART;VALUE=DATE:20260928
DTEND;VALUE=DATE:20260929
DESCRIPTION:
LOCATION:
SUMMARY:Labor Day - No School
END:VEVENT
BEGIN:VEVENT
DTSTAMP:20260423T182959Z
UID:ad145c7f-b641-4484-8759-416ca08378e0
DTSTART:20261001T173000
DTEND:20261001T183000
DESCRIPTION:
LOCATION:
SUMMARY:Board of Education Working Meeting
END:VEVENT
BEGIN:VEVENT
DTSTAMP:20260423T182959Z
UID:bf55866c-163d-4ce2-813b-a9f9f9db8ca5
DTSTART:20261005T080000
DTEND:20261009T090000
DESCRIPTION:
LOCATION:
SUMMARY:Fall Break 
END:VEVENT
BEGIN:VEVENT
DTSTAMP:20260423T182959Z
UID:04be9f3c-1fc1-4422-a66e-dc7dc4eba01c
DTSTART:20261015T173000
DTEND:20261015T183000
DESCRIPTION:
LOCATION:
SUMMARY:Board of Education Meeting
END:VEVENT
BEGIN:VEVENT
DTSTAMP:20260423T182959Z
UID:5f5e887e-358b-4b34-b14b-a6c45387bc97
DTSTART:20261105T173000
DTEND:20261105T183000
DESCRIPTION:
LOCATION:
SUMMARY:Board of Education Working Meeting
END:VEVENT
BEGIN:VEVENT
DTSTAMP:20260423T182959Z
UID:a36c399c-d919-45a5-bd87-d8250b7bb024
DTSTART:20261112T173000
DTEND:20261112T183000
DESCRIPTION:
LOCATION:
SUMMARY:Board of Education Meeting
END:VEVENT
BEGIN:VEVENT
DTSTAMP:20260423T182959Z
UID:5280ddcc-2003-49fe-8c91-c953f20640c3
DTSTART:20261125T080000
DTEND:20261127T220000
DESCRIPTION:
LOCATION:
SUMMARY:Thanksgiving Break- No School 
END:VEVENT
BEGIN:VEVENT
DTSTAMP:20260423T182959Z
UID:2021adb5-622f-4024-986d-6e062aff3319
DTSTART:20261210T173000
DTEND:20261210T183000
DESCRIPTION:
LOCATION:
SUMMARY:Board of Education Working Meeting
END:VEVENT
BEGIN:VEVENT
DTSTAMP:20260423T182959Z
UID:43062cb7-a504-4264-94f6-9aac9a2a4d18
DTSTART:20261217T173000
DTEND:20261217T183000
DESCRIPTION:
LOCATION:
SUMMARY:Board of Education Meeting
END:VEVENT
BEGIN:VEVENT
DTSTAMP:20260423T182959Z
UID:448ea545-354a-484e-93ea-b76bdc216df4
DTSTART:20270107T173000
DTEND:20270107T183000
DESCRIPTION:
LOCATION:
SUMMARY:Board of Education Working Meeting
END:VEVENT
BEGIN:VEVENT
DTSTAMP:20260423T182959Z
UID:d440daa3-fd10-4df0-97e2-ebc2fcb7f36e
DTSTART:20270114T173000
DTEND:20270114T183000
DESCRIPTION:
LOCATION:
SUMMARY:Board of Education Meeting
END:VEVENT
END:VCALENDAR
