BEGIN:VCALENDAR
VERSION:2.0
PRODID:icalendar-ruby
CALSCALE:GREGORIAN
BEGIN:VTIMEZONE
TZID:America/Chicago
BEGIN:DAYLIGHT
DTSTART:20260308T030000
TZOFFSETFROM:-0600
TZOFFSETTO:-0500
RRULE:FREQ=YEARLY;BYDAY=2SU;BYMONTH=3
TZNAME:CDT
END:DAYLIGHT
BEGIN:STANDARD
DTSTART:20261101T010000
TZOFFSETFROM:-0500
TZOFFSETTO:-0600
RRULE:FREQ=YEARLY;BYDAY=1SU;BYMONTH=11
TZNAME:CST
END:STANDARD
END:VTIMEZONE
BEGIN:VEVENT
DTSTAMP:20260419T133712Z
UID:eef3a7c7-4347-4462-8ba5-021d6b32ae40
DTSTART;VALUE=DATE:20260420
DTEND;VALUE=DATE:20260421
DESCRIPTION:
LOCATION:
SUMMARY:No School - Professional Development Day (Snow Make Up Day)
END:VEVENT
BEGIN:VEVENT
DTSTAMP:20260419T133712Z
UID:3f6fd1c5-563a-4f55-9aaa-656c740123c2
DTSTART;VALUE=DATE:20260508
DTEND;VALUE=DATE:20260509
DESCRIPTION:
LOCATION:
SUMMARY:Graduation
END:VEVENT
BEGIN:VEVENT
DTSTAMP:20260419T133712Z
UID:c45b133d-9752-4121-89f7-c303b44b42cf
DTSTART;VALUE=DATE:20260520
DTEND;VALUE=DATE:20260521
DESCRIPTION:
LOCATION:
SUMMARY:Early Dismissal / Last Day of School
END:VEVENT
BEGIN:VEVENT
DTSTAMP:20260419T133712Z
UID:cc353e71-07c8-480d-87ea-8113897746cf
DTSTART;VALUE=DATE:20260520
DTEND;VALUE=DATE:20260521
DESCRIPTION:
LOCATION:
SUMMARY:Semester 2 Ends / Quarter 4 Ends / Report Cards Sent Home 
END:VEVENT
BEGIN:VEVENT
DTSTAMP:20260419T133712Z
UID:89641958-9d53-49a2-9d49-3dc19e305e70
DTSTART:20260521T180000
DTEND:20260521T210000
DESCRIPTION:
LOCATION:
SUMMARY:May BOE Meeting
END:VEVENT
BEGIN:VEVENT
DTSTAMP:20260419T133712Z
UID:a9e7eae2-cbe5-4ab9-9ab4-cdad5be10fc7
DTSTART;VALUE=DATE:20260601
DTEND;VALUE=DATE:20260602
DESCRIPTION:
LOCATION:
SUMMARY:First Day of Summer School (June 1-26)
END:VEVENT
BEGIN:VEVENT
DTSTAMP:20260419T133712Z
UID:6922c3b1-08f5-4411-be7e-d9a63260a1a5
DTSTART;VALUE=DATE:20260621
DTEND;VALUE=DATE:20260625
DESCRIPTION:
LOCATION:
SUMMARY:BOE Summer Summit 2026
END:VEVENT
BEGIN:VEVENT
DTSTAMP:20260419T133712Z
UID:06bad169-ddb1-4b60-95b7-768ec87868a7
DTSTART:20260625T180000
DTEND:20260625T210000
DESCRIPTION:
LOCATION:
SUMMARY:June BOE Meeting
END:VEVENT
BEGIN:VEVENT
DTSTAMP:20260419T133712Z
UID:0f6b8245-af1d-4b5f-bad8-a75c59027613
DTSTART;VALUE=DATE:20260626
DTEND;VALUE=DATE:20260627
DESCRIPTION:
LOCATION:
SUMMARY:Last Day of Summer School
END:VEVENT
END:VCALENDAR
