BEGIN:VCALENDAR
VERSION:2.0
PRODID:icalendar-ruby
CALSCALE:GREGORIAN
BEGIN:VTIMEZONE
TZID:America/Los_Angeles
BEGIN:DAYLIGHT
DTSTART:20260308T030000
TZOFFSETFROM:-0800
TZOFFSETTO:-0700
RRULE:FREQ=YEARLY;BYDAY=2SU;BYMONTH=3
TZNAME:PDT
END:DAYLIGHT
BEGIN:STANDARD
DTSTART:20261101T010000
TZOFFSETFROM:-0700
TZOFFSETTO:-0800
RRULE:FREQ=YEARLY;BYDAY=1SU;BYMONTH=11
TZNAME:PST
END:STANDARD
END:VTIMEZONE
BEGIN:VEVENT
DTSTAMP:20260423T205816Z
UID:e7dc052c-263b-4939-8407-3adde5a8ec4d
DTSTART:20260427T190000
DTEND:20260427T200000
DESCRIPTION:<p>A public meeting of the Budget Committee of Sutherlin School
  District #130\, Douglas County will be held on Monday\, April 27\, 2026\,
  at 7:00 pm at the District Administration Office\, 531 E Central\, Suther
 lin\, Oregon.<span>&nbsp\; </span>The purpose of the meeting is to receive
  the budget message and budget document for the fiscal year beginning July
  1\, 2026\, to June 30\, 2027.</p><p>This is a public meeting where delibe
 rations of the budget committee will take place and public comments regard
 ing the 2026-2027 budget will be heard.<span>&nbsp\; </span>Copies of the 
 budget document will be available at the meeting.<span>&nbsp\; </span>Addi
 tional meetings will be scheduled for that evening for continued budget de
 liberations and public comments.<span>&nbsp\; </span>This notice is also p
 osted on the district website:<span>&nbsp\; </span><a target="_blank" rel=
 "noopener noreferrer nofollow" href="http://www.sutherlin.k12.or.us">www.s
 utherlin.k12.or.us</a></p><p>Terry Prestianni\, Budget Officer</p><p>&nbsp
 \;</p>
LOCATION:Sutherlin School District 130\, OR\, USA
SUMMARY:Public Meeting of the Budget Committee of Sutherlin School District
  #130
END:VEVENT
END:VCALENDAR
