BEGIN:VCALENDAR
VERSION:2.0
PRODID:icalendar-ruby
CALSCALE:GREGORIAN
BEGIN:VTIMEZONE
TZID:America/Chicago
BEGIN:DAYLIGHT
DTSTART:20260308T030000
TZOFFSETFROM:-0600
TZOFFSETTO:-0500
RRULE:FREQ=YEARLY;BYDAY=2SU;BYMONTH=3
TZNAME:CDT
END:DAYLIGHT
BEGIN:STANDARD
DTSTART:20261101T010000
TZOFFSETFROM:-0500
TZOFFSETTO:-0600
RRULE:FREQ=YEARLY;BYDAY=1SU;BYMONTH=11
TZNAME:CST
END:STANDARD
END:VTIMEZONE
BEGIN:VEVENT
DTSTAMP:20260419T212125Z
UID:25a2fe1d-d6f3-4e77-a180-cfe89e41fd9e
DTSTART;VALUE=DATE:20260421
DTEND;VALUE=DATE:20260422
DESCRIPTION:
LOCATION:
SUMMARY:ATLAS testing-GJHS (Writing)
END:VEVENT
BEGIN:VEVENT
DTSTAMP:20260419T212125Z
UID:1d86e949-b8eb-46cd-8962-ba5ea8bc5ed9
DTSTART:20260421T160000
DTEND:20260421T170000
DESCRIPTION:
LOCATION:
SUMMARY:🏃‍♂️Conference 8/9 Meet @ Harrison
END:VEVENT
BEGIN:VEVENT
DTSTAMP:20260419T212125Z
UID:9624e3c1-f1b6-43a6-8d0f-d8f743ff32cc
DTSTART;VALUE=DATE:20260423
DTEND;VALUE=DATE:20260424
DESCRIPTION:
LOCATION:
SUMMARY:ATLAS testing-GJHS (Reading)
END:VEVENT
BEGIN:VEVENT
DTSTAMP:20260419T212125Z
UID:717e78d9-ad8d-429f-9849-b5f8e7a2959c
DTSTART;VALUE=DATE:20260427
DTEND;VALUE=DATE:20260428
DESCRIPTION:
LOCATION:
SUMMARY:ATLAS testing-GJHS (Math)
END:VEVENT
BEGIN:VEVENT
DTSTAMP:20260419T212125Z
UID:d923f31f-12c5-48f2-97bc-46595b1fefd3
DTSTART;VALUE=DATE:20260430
DTEND;VALUE=DATE:20260501
DESCRIPTION:
LOCATION:
SUMMARY:ATLAS testing-GJHS (Science)
END:VEVENT
BEGIN:VEVENT
DTSTAMP:20260419T212125Z
UID:b503e8a4-13ac-4c93-b8c2-c2bf7003d31e
DTSTART:20260505T190000
DTEND:20260505T200000
DESCRIPTION:
LOCATION:Greenwood Performing Arts Center\, 515 E Gary St\, Greenwood\, AR 
 72936\, USA
SUMMARY:6th - 8th Grade Band Concert
END:VEVENT
BEGIN:VEVENT
DTSTAMP:20260419T212125Z
UID:9dea3840-5a3d-429d-98e4-e8cdac7c16f6
DTSTART:20260511T090000
DTEND:20260511T100000
DESCRIPTION:
LOCATION:Greenwood Performing Arts Center\, 515 E Gary St\, Greenwood\, AR 
 72936\, USA
SUMMARY:Awards 7th Grade
END:VEVENT
BEGIN:VEVENT
DTSTAMP:20260419T212125Z
UID:c67e4608-793f-428c-8769-91f63f87ee2f
DTSTART:20260511T130000
DTEND:20260511T140000
DESCRIPTION:
LOCATION:Greenwood Performing Arts Center\, 515 E Gary St\, Greenwood\, AR 
 72936\, USA
SUMMARY:Awards 8th Grade
END:VEVENT
BEGIN:VEVENT
DTSTAMP:20260419T212125Z
UID:d3e245c3-bdc7-4db8-b649-1cfa72141f92
DTSTART;VALUE=DATE:20260515
DTEND;VALUE=DATE:20260516
DESCRIPTION:
LOCATION:
SUMMARY:GHS GRADUATION 🎓
END:VEVENT
BEGIN:VEVENT
DTSTAMP:20260419T212125Z
UID:e69ec32a-aeb6-4b3a-ae96-2b5db7677c57
DTSTART;VALUE=DATE:20260522
DTEND;VALUE=DATE:20260523
DESCRIPTION:
LOCATION:
SUMMARY:LAST DAY OF SCHOOL
END:VEVENT
BEGIN:VEVENT
DTSTAMP:20260419T212125Z
UID:a5a0ea71-4830-41a3-a20d-a246c37317bf
DTSTART:20260727T180000
DTEND:20260727T190000
DESCRIPTION:
LOCATION:
SUMMARY:SPORTS PARENTS/COACHES MEETING
END:VEVENT
BEGIN:VEVENT
DTSTAMP:20260419T212125Z
UID:4e5929b2-4665-4324-b3d8-a5330b93b5dd
DTSTART;VALUE=DATE:20260812
DTEND;VALUE=DATE:20260813
DESCRIPTION:
LOCATION:
SUMMARY:First Day of School
END:VEVENT
BEGIN:VEVENT
DTSTAMP:20260419T212125Z
UID:ac423035-9df2-4cfe-81cb-317d393413d5
DTSTART:20261015T153000
DTEND:20261015T200000
DESCRIPTION:
LOCATION:
SUMMARY:Parent-Teacher Conferences K-12
END:VEVENT
BEGIN:VEVENT
DTSTAMP:20260419T212125Z
UID:66bfe045-4d19-4d7a-ad13-54b4cf55b997
DTSTART;VALUE=DATE:20261016
DTEND;VALUE=DATE:20261017
DESCRIPTION:PD for teachers
LOCATION:
SUMMARY:Fall Break - No School
END:VEVENT
BEGIN:VEVENT
DTSTAMP:20260419T212125Z
UID:869d4ab6-4618-4006-a14b-b06531930f19
DTSTART;VALUE=DATE:20261019
DTEND;VALUE=DATE:20261020
DESCRIPTION:
LOCATION:
SUMMARY:Fall Break - No School
END:VEVENT
BEGIN:VEVENT
DTSTAMP:20260419T212125Z
UID:738b27b9-bffc-474e-bc2a-c82593e557b6
DTSTART;VALUE=DATE:20261123
DTEND;VALUE=DATE:20261128
DESCRIPTION:
LOCATION:
SUMMARY:Thanksgiving Break
END:VEVENT
BEGIN:VEVENT
DTSTAMP:20260419T212125Z
UID:c9f2f025-8466-49aa-8408-0a97b6fc1674
DTSTART;VALUE=DATE:20261221
DTEND;VALUE=DATE:20270102
DESCRIPTION:
LOCATION:
SUMMARY:Christmas Break
END:VEVENT
BEGIN:VEVENT
DTSTAMP:20260419T212125Z
UID:85cc0075-aa3c-4663-9bbd-9905467f6ae2
DTSTART;VALUE=DATE:20270104
DTEND;VALUE=DATE:20270105
DESCRIPTION:
LOCATION:
SUMMARY:Professional Development (No Students)
END:VEVENT
BEGIN:VEVENT
DTSTAMP:20260419T212125Z
UID:c154b8ed-2e97-4874-bfa0-17e6232b8e09
DTSTART;VALUE=DATE:20270105
DTEND;VALUE=DATE:20270106
DESCRIPTION:
LOCATION:
SUMMARY:Students Return
END:VEVENT
BEGIN:VEVENT
DTSTAMP:20260419T212125Z
UID:bcb3689c-77b3-4216-9722-b88516fc8200
DTSTART;VALUE=DATE:20270118
DTEND;VALUE=DATE:20270119
DESCRIPTION:
LOCATION:
SUMMARY:No School
END:VEVENT
BEGIN:VEVENT
DTSTAMP:20260419T212125Z
UID:42163783-199b-4459-b918-4b8c07102412
DTSTART;VALUE=DATE:20270218
DTEND;VALUE=DATE:20270219
DESCRIPTION:
LOCATION:
SUMMARY:Parent Teacher Conferences - K-8th ONLY
END:VEVENT
BEGIN:VEVENT
DTSTAMP:20260419T212125Z
UID:af85e11a-8158-4f6c-b901-978ca68a7199
DTSTART;VALUE=DATE:20270219
DTEND;VALUE=DATE:20270220
DESCRIPTION:
LOCATION:
SUMMARY:Winter Break
END:VEVENT
BEGIN:VEVENT
DTSTAMP:20260419T212125Z
UID:218b89a4-6f7e-4751-8361-4f2aabecb269
DTSTART;VALUE=DATE:20270222
DTEND;VALUE=DATE:20270223
DESCRIPTION:
LOCATION:
SUMMARY:Professional Development Day (No Students) 
END:VEVENT
BEGIN:VEVENT
DTSTAMP:20260419T212125Z
UID:a59be04e-70f1-4e98-8da8-cf03db0751f9
DTSTART;VALUE=DATE:20270322
DTEND;VALUE=DATE:20270327
DESCRIPTION:
LOCATION:
SUMMARY:SPRING BREAK
END:VEVENT
BEGIN:VEVENT
DTSTAMP:20260419T212125Z
UID:642415d5-1540-4295-bd46-fc8a61439d56
DTSTART;VALUE=DATE:20270416
DTEND;VALUE=DATE:20270417
DESCRIPTION:
LOCATION:
SUMMARY:April Break
END:VEVENT
BEGIN:VEVENT
DTSTAMP:20260419T212125Z
UID:d8be9cf6-3c15-4b7d-8c3b-9bf4b6e77536
DTSTART;VALUE=DATE:20270514
DTEND;VALUE=DATE:20270515
DESCRIPTION:
LOCATION:
SUMMARY:GRADUATION
END:VEVENT
END:VCALENDAR
