BEGIN:VCALENDAR
VERSION:2.0
PRODID:icalendar-ruby
CALSCALE:GREGORIAN
BEGIN:VTIMEZONE
TZID:America/New_York
BEGIN:DAYLIGHT
DTSTART:20260308T030000
TZOFFSETFROM:-0500
TZOFFSETTO:-0400
RRULE:FREQ=YEARLY;BYDAY=2SU;BYMONTH=3
TZNAME:EDT
END:DAYLIGHT
BEGIN:STANDARD
DTSTART:20261101T010000
TZOFFSETFROM:-0400
TZOFFSETTO:-0500
RRULE:FREQ=YEARLY;BYDAY=1SU;BYMONTH=11
TZNAME:EST
END:STANDARD
END:VTIMEZONE
BEGIN:VEVENT
DTSTAMP:20260425T011913Z
UID:2da31877-5618-4bd0-8439-a3548b3bf7c1
DTSTART;VALUE=DATE:20260506
DTEND;VALUE=DATE:20260507
DESCRIPTION:
LOCATION:
SUMMARY:No school for students- Staff Inservice Day
END:VEVENT
BEGIN:VEVENT
DTSTAMP:20260425T011913Z
UID:1a497fbf-b02d-473f-b68d-b1fd51615600
DTSTART;VALUE=DATE:20260525
DTEND;VALUE=DATE:20260526
DESCRIPTION:
LOCATION:
SUMMARY:NO SCHOOL
END:VEVENT
BEGIN:VEVENT
DTSTAMP:20260425T011913Z
UID:286c5ea7-c48f-4dff-8611-56abd9946412
DTSTART;VALUE=DATE:20260528
DTEND;VALUE=DATE:20260529
DESCRIPTION:
LOCATION:
SUMMARY:Last day for students
END:VEVENT
BEGIN:VEVENT
DTSTAMP:20260425T011913Z
UID:f5accaf2-96bc-4fe6-b80c-aaf5ca1b6a87
DTSTART;VALUE=DATE:20260605
DTEND;VALUE=DATE:20260606
DESCRIPTION:
LOCATION:
SUMMARY:Report Cards 
END:VEVENT
END:VCALENDAR
