BEGIN:VCALENDAR
VERSION:2.0
PRODID:icalendar-ruby
CALSCALE:GREGORIAN
BEGIN:VTIMEZONE
TZID:America/New_York
BEGIN:DAYLIGHT
DTSTART:20260308T030000
TZOFFSETFROM:-0500
TZOFFSETTO:-0400
RRULE:FREQ=YEARLY;BYDAY=2SU;BYMONTH=3
TZNAME:EDT
END:DAYLIGHT
BEGIN:STANDARD
DTSTART:20261101T010000
TZOFFSETFROM:-0400
TZOFFSETTO:-0500
RRULE:FREQ=YEARLY;BYDAY=1SU;BYMONTH=11
TZNAME:EST
END:STANDARD
END:VTIMEZONE
BEGIN:VEVENT
DTSTAMP:20260421T084729Z
UID:8036d427-be67-4b76-899d-431d4b06573f
DTSTART:20260424T180000
DTEND:20260424T200000
DESCRIPTION:<p>$5 per person</p>
LOCATION:WCCS Pool
SUMMARY:Family Swim Night
END:VEVENT
BEGIN:VEVENT
DTSTAMP:20260421T084729Z
UID:c74f1148-0650-4609-a2c5-8e4633ca1d95
DTSTART:20260427T180000
DTEND:20260427T193000
DESCRIPTION:<p><a target="_blank" rel="noopener noreferrer nofollow" href="
 https://go.boarddocs.com/ny/wccsk12/Board.nsf/Public">https://go.boarddocs
 .com/ny/wccsk12/Board.nsf/Public</a></p>
LOCATION:LGI
SUMMARY:Board of Education Meets: BOE Budget Adoption and BOCES Budget Vote
END:VEVENT
BEGIN:VEVENT
DTSTAMP:20260421T084729Z
UID:70fe223e-480a-49eb-8536-d50337c0a672
DTSTART:20260508T180000
DTEND:20260508T200000
DESCRIPTION:<p>$5 per person</p>
LOCATION:WCCS Pool
SUMMARY:Family Swim Night
END:VEVENT
BEGIN:VEVENT
DTSTAMP:20260421T084729Z
UID:1f7144e7-562e-4419-abc0-46b948fbc018
DTSTART:20260512T180000
DTEND:20260512T193000
DESCRIPTION:<p><a target="_blank" rel="noopener noreferrer nofollow" href="
 https://go.boarddocs.com/ny/wccsk12/Board.nsf/Public">https://go.boarddocs
 .com/ny/wccsk12/Board.nsf/Public</a></p>
LOCATION:LGI
SUMMARY:Board of Education Meets: Budget Public Hearing
END:VEVENT
BEGIN:VEVENT
DTSTAMP:20260421T084729Z
UID:0be61b62-3de5-4b83-a4c6-7e8b88c51670
DTSTART:20260519T100000
DTEND:20260519T200000
DESCRIPTION:<p><a target="_blank" rel="noopener noreferrer nofollow" href="
 https://go.boarddocs.com/ny/wccsk12/Board.nsf/Public">https://go.boarddocs
 .com/ny/wccsk12/Board.nsf/Public</a></p>
LOCATION:LGI
SUMMARY:Annual School Budget and Board of Education Candidate Vote
END:VEVENT
BEGIN:VEVENT
DTSTAMP:20260421T084729Z
UID:fb0caf4b-76c7-473f-835e-095ad0cec4fc
DTSTART:20260526T180000
DTEND:20260526T193000
DESCRIPTION:<p><a target="_blank" rel="noopener noreferrer nofollow" href="
 https://go.boarddocs.com/ny/wccsk12/Board.nsf/Public">https://go.boarddocs
 .com/ny/wccsk12/Board.nsf/Public</a></p>
LOCATION:LGI
SUMMARY:Board of Education Meets
END:VEVENT
BEGIN:VEVENT
DTSTAMP:20260421T084729Z
UID:a12e3162-a8e3-4abb-8d03-a06c2d423464
DTSTART:20260612T180000
DTEND:20260612T200000
DESCRIPTION:<p>$5 per person</p>
LOCATION:WCCS Pool
SUMMARY:Family Swim Night
END:VEVENT
BEGIN:VEVENT
DTSTAMP:20260421T084729Z
UID:e2fcf48d-d4c2-4295-9c7a-56438a4f188e
DTSTART:20260616T180000
DTEND:20260616T200000
DESCRIPTION:<p><a target="_blank" rel="noopener noreferrer nofollow" href="
 https://go.boarddocs.com/ny/wccsk12/Board.nsf/Public">https://go.boarddocs
 .com/ny/wccsk12/Board.nsf/Public</a></p>
LOCATION:LGI
SUMMARY:Board of Education Meets
END:VEVENT
END:VCALENDAR
