BEGIN:VCALENDAR
VERSION:2.0
PRODID:icalendar-ruby
CALSCALE:GREGORIAN
BEGIN:VTIMEZONE
TZID:America/Chicago
BEGIN:DAYLIGHT
DTSTART:20260308T030000
TZOFFSETFROM:-0600
TZOFFSETTO:-0500
RRULE:FREQ=YEARLY;BYDAY=2SU;BYMONTH=3
TZNAME:CDT
END:DAYLIGHT
BEGIN:STANDARD
DTSTART:20261101T010000
TZOFFSETFROM:-0500
TZOFFSETTO:-0600
RRULE:FREQ=YEARLY;BYDAY=1SU;BYMONTH=11
TZNAME:CST
END:STANDARD
END:VTIMEZONE
BEGIN:VEVENT
DTSTAMP:20260425T171920Z
UID:80909df8-0b51-4dbe-a4ce-80fc8c7443a0
DTSTART;VALUE=DATE:20260428
DTEND;VALUE=DATE:20260429
DESCRIPTION:
LOCATION:
SUMMARY:School Bus Driver Appreciation Day!
END:VEVENT
BEGIN:VEVENT
DTSTAMP:20260425T171920Z
UID:7bc1d27b-446b-476b-9027-48cac23403ae
DTSTART;VALUE=DATE:20260428
DTEND;VALUE=DATE:20260429
DESCRIPTION:
LOCATION:
SUMMARY:STAAR Math Test - 3rd Grade Only
END:VEVENT
BEGIN:VEVENT
DTSTAMP:20260425T171920Z
UID:97d21514-c6d9-4854-bf68-926cfdef615c
DTSTART;VALUE=DATE:20260429
DTEND;VALUE=DATE:20260501
DESCRIPTION:
LOCATION:
SUMMARY:EOY STAR Reading and Math Assessments - 2nd Grade
END:VEVENT
BEGIN:VEVENT
DTSTAMP:20260425T171920Z
UID:cf935113-8ec7-42b6-9f49-73112195319c
DTSTART;VALUE=DATE:20260429
DTEND;VALUE=DATE:20260430
DESCRIPTION:
LOCATION:
SUMMARY:Progress Reports Go Home
END:VEVENT
BEGIN:VEVENT
DTSTAMP:20260425T171920Z
UID:135569e1-0209-4949-81d5-86fe004a5ad4
DTSTART;VALUE=DATE:20260508
DTEND;VALUE=DATE:20260509
DESCRIPTION:
LOCATION:
SUMMARY:Last Day to Take AR Test 
END:VEVENT
BEGIN:VEVENT
DTSTAMP:20260425T171920Z
UID:20500d05-f47e-4dd0-800f-02d1bf5d0dfd
DTSTART;VALUE=DATE:20260508
DTEND;VALUE=DATE:20260509
DESCRIPTION:
LOCATION:
SUMMARY:REFLEX Pizza Party
END:VEVENT
BEGIN:VEVENT
DTSTAMP:20260425T171920Z
UID:1765ca07-03d1-4a7c-9c8d-0f699cc47487
DTSTART;VALUE=DATE:20260511
DTEND;VALUE=DATE:20260512
DESCRIPTION:
LOCATION:
SUMMARY:All Library Books Must Be Turned In
END:VEVENT
BEGIN:VEVENT
DTSTAMP:20260425T171920Z
UID:485596f8-574f-45a6-b7d8-52af0e825ead
DTSTART;VALUE=DATE:20260511
DTEND;VALUE=DATE:20260512
DESCRIPTION:
LOCATION:
SUMMARY:If Funded - American Freedom Museum - Rocquemore\, Smith\, Endsley\
 , and Rittenberry
END:VEVENT
BEGIN:VEVENT
DTSTAMP:20260425T171920Z
UID:6e4bc084-c63f-42e7-a8a3-3541b61723f5
DTSTART;VALUE=DATE:20260513
DTEND;VALUE=DATE:20260514
DESCRIPTION:
LOCATION:
SUMMARY:If Funded - American Freedom Museum - Brady\, Liles\, McDaniel\, Li
 psey
END:VEVENT
BEGIN:VEVENT
DTSTAMP:20260425T171920Z
UID:a5a709e5-28d0-4c9e-8ffa-1065a2727a7f
DTSTART;VALUE=DATE:20260514
DTEND;VALUE=DATE:20260515
DESCRIPTION:
LOCATION:
SUMMARY:Field Day! End of Year Celebration! 
END:VEVENT
BEGIN:VEVENT
DTSTAMP:20260425T171920Z
UID:4a7f442b-d814-4ba5-946d-d0fa88a2fb9f
DTSTART;VALUE=DATE:20260515
DTEND;VALUE=DATE:20260516
DESCRIPTION:
LOCATION:
SUMMARY:125 Point AR Point Field Trip
END:VEVENT
BEGIN:VEVENT
DTSTAMP:20260425T171920Z
UID:800296cc-66ca-4c5b-8e99-61d42a05010d
DTSTART;VALUE=DATE:20260518
DTEND;VALUE=DATE:20260519
DESCRIPTION:
LOCATION:
SUMMARY:Ice Cream Party for Class with the Most AR Points (2nd and 3rd) 
END:VEVENT
BEGIN:VEVENT
DTSTAMP:20260425T171920Z
UID:9a8995e3-f40c-4b61-9efc-d03c56152bb2
DTSTART;VALUE=DATE:20260519
DTEND;VALUE=DATE:20260520
DESCRIPTION:
LOCATION:
SUMMARY:3rd Grade Tour of BK
END:VEVENT
BEGIN:VEVENT
DTSTAMP:20260425T171920Z
UID:d7ae9e80-44f7-4fe9-af2a-e86f6e930234
DTSTART;VALUE=DATE:20260519
DTEND;VALUE=DATE:20260521
DESCRIPTION:
LOCATION:
SUMMARY:Behavior Reward: Dodgeball Tournament 
END:VEVENT
BEGIN:VEVENT
DTSTAMP:20260425T171920Z
UID:c649b46c-2054-4fa9-83d5-3c7aa639bfd4
DTSTART;VALUE=DATE:20260521
DTEND;VALUE=DATE:20260522
DESCRIPTION:
LOCATION:
SUMMARY:Report Cards Go Home
END:VEVENT
BEGIN:VEVENT
DTSTAMP:20260425T171920Z
UID:452cac8b-0380-41c5-a121-70b986649eb5
DTSTART:20260521T090000
DTEND:20260521T100000
DESCRIPTION:
LOCATION:
SUMMARY:Libby Talent Show 
END:VEVENT
BEGIN:VEVENT
DTSTAMP:20260425T171920Z
UID:7a50c176-d16c-4da2-8b85-4d2d3924c21b
DTSTART;VALUE=DATE:20260728
DTEND;VALUE=DATE:20260730
DESCRIPTION:
LOCATION:
SUMMARY:2026-2027 Registration Days
END:VEVENT
END:VCALENDAR
