BEGIN:VCALENDAR
VERSION:2.0
PRODID:icalendar-ruby
CALSCALE:GREGORIAN
BEGIN:VTIMEZONE
TZID:America/Los_Angeles
BEGIN:DAYLIGHT
DTSTART:20260308T030000
TZOFFSETFROM:-0800
TZOFFSETTO:-0700
RRULE:FREQ=YEARLY;BYDAY=2SU;BYMONTH=3
TZNAME:PDT
END:DAYLIGHT
BEGIN:STANDARD
DTSTART:20261101T010000
TZOFFSETFROM:-0700
TZOFFSETTO:-0800
RRULE:FREQ=YEARLY;BYDAY=1SU;BYMONTH=11
TZNAME:PST
END:STANDARD
END:VTIMEZONE
BEGIN:VEVENT
DTSTAMP:20260423T030304Z
UID:06ce90c4-ebf7-441a-be53-5c1672bb9645
DTSTART:20260427T154500
DTEND:20260427T174500
DESCRIPTION:
LOCATION:
SUMMARY:Book Fair
END:VEVENT
BEGIN:VEVENT
DTSTAMP:20260423T030304Z
UID:1503adc8-af94-42d1-9b7e-37d186af6294
DTSTART:20260428T154500
DTEND:20260428T174500
DESCRIPTION:
LOCATION:
SUMMARY:Book Fair
END:VEVENT
BEGIN:VEVENT
DTSTAMP:20260423T030304Z
UID:1fa5ed05-62b5-4f04-9e26-2ecd1304370b
DTSTART:20260429T143000
DTEND:20260429T163000
DESCRIPTION:
LOCATION:
SUMMARY:Book Fair
END:VEVENT
BEGIN:VEVENT
DTSTAMP:20260423T030304Z
UID:237a1f03-f1bf-4215-a756-052fcd0dcd3a
DTSTART:20260430T170000
DTEND:20260430T190000
DESCRIPTION:
LOCATION:
SUMMARY:BINGO A-L
END:VEVENT
BEGIN:VEVENT
DTSTAMP:20260423T030304Z
UID:942651f5-fff4-473a-b705-e71658d81bdf
DTSTART:20260430T170000
DTEND:20260430T190000
DESCRIPTION:
LOCATION:
SUMMARY:Book Fair
END:VEVENT
BEGIN:VEVENT
DTSTAMP:20260423T030304Z
UID:8c13bc66-b290-4c99-b7b5-bb98a350a4b8
DTSTART:20260501T170000
DTEND:20260501T190000
DESCRIPTION:
LOCATION:
SUMMARY:BINGO M-Z
END:VEVENT
BEGIN:VEVENT
DTSTAMP:20260423T030304Z
UID:e68b5252-4f0c-4f5d-8e73-0918cd30b0a4
DTSTART:20260501T170000
DTEND:20260501T190000
DESCRIPTION:
LOCATION:
SUMMARY:Book Fair
END:VEVENT
BEGIN:VEVENT
DTSTAMP:20260423T030304Z
UID:f9bd5d9c-659b-40f6-89ef-38b9d76e5f4a
DTSTART;VALUE=DATE:20260504
DTEND;VALUE=DATE:20260509
DESCRIPTION:
LOCATION:
SUMMARY:Certificated/Teacher Appreciation Week
END:VEVENT
BEGIN:VEVENT
DTSTAMP:20260423T030304Z
UID:1baec85a-5240-4cc3-9a14-5cdc494b29c9
DTSTART:20260505T170000
DTEND:20260505T183000
DESCRIPTION:
LOCATION:Coweeman Middle School (CMS)\, 2000 Allen St\, Kelso\, WA 98626\, 
 USA
SUMMARY:KINDERPALOOZA
END:VEVENT
BEGIN:VEVENT
DTSTAMP:20260423T030304Z
UID:4e564a16-bc4b-4cec-aad3-69744704783f
DTSTART:20260506T093000
DTEND:20260506T100000
DESCRIPTION:
LOCATION:
SUMMARY:Fire Drill
END:VEVENT
BEGIN:VEVENT
DTSTAMP:20260423T030304Z
UID:0dd87b32-e812-411b-a566-07817fdb0c0e
DTSTART:20260507T180000
DTEND:20260507T190000
DESCRIPTION:
LOCATION:
SUMMARY:5th to 6th Parent Transition Night
END:VEVENT
BEGIN:VEVENT
DTSTAMP:20260423T030304Z
UID:17048984-76d5-4967-b784-f99f144129ab
DTSTART:20260512T180000
DTEND:20260512T190000
DESCRIPTION:
LOCATION:
SUMMARY:PTO Meeting
END:VEVENT
BEGIN:VEVENT
DTSTAMP:20260423T030304Z
UID:9d195e78-be46-4489-9a82-88a52ef78bff
DTSTART:20260519T120000
DTEND:20260519T130000
DESCRIPTION:
LOCATION:
SUMMARY:Cabinet Visit #3
END:VEVENT
BEGIN:VEVENT
DTSTAMP:20260423T030304Z
UID:edf4ea7a-cdc1-41b7-b23d-ca4c7581d127
DTSTART:20260520T170000
DTEND:20260520T183000
DESCRIPTION:
LOCATION:
SUMMARY:SOAR Into Summer
END:VEVENT
BEGIN:VEVENT
DTSTAMP:20260423T030304Z
UID:e28e6500-f2c2-4a3f-ab59-49946a147fc2
DTSTART;VALUE=DATE:20260525
DTEND;VALUE=DATE:20260526
DESCRIPTION:
LOCATION:
SUMMARY:No School - Memorial Day
END:VEVENT
BEGIN:VEVENT
DTSTAMP:20260423T030304Z
UID:ecac4c21-7846-441e-a093-333becbd62fd
DTSTART:20260527T180000
DTEND:20260527T193000
DESCRIPTION:
LOCATION:
SUMMARY:Kindergarten Welcome to School Night
END:VEVENT
BEGIN:VEVENT
DTSTAMP:20260423T030304Z
UID:6371d357-3e43-44fc-9c8e-20692d9e593a
DTSTART;VALUE=DATE:20260528
DTEND;VALUE=DATE:20260529
DESCRIPTION:
LOCATION:
SUMMARY:SOAR Assembly "R"
END:VEVENT
BEGIN:VEVENT
DTSTAMP:20260423T030304Z
UID:d58b454d-4dec-4d81-8e02-1a2fec8271c5
DTSTART;VALUE=DATE:20260529
DTEND;VALUE=DATE:20260530
DESCRIPTION:
LOCATION:
SUMMARY:Color Run
END:VEVENT
BEGIN:VEVENT
DTSTAMP:20260423T030304Z
UID:0ccafb5a-58d1-4509-9e79-0e27daed6360
DTSTART:20260602T180000
DTEND:20260602T190000
DESCRIPTION:
LOCATION:
SUMMARY:PTO Meeting
END:VEVENT
BEGIN:VEVENT
DTSTAMP:20260423T030304Z
UID:b52b51fc-babd-4975-8153-9b9b950dcac1
DTSTART:20260603T143000
DTEND:20260603T160000
DESCRIPTION:
LOCATION:Kelso High School\, Schroeder Field\, 1904 Allen St\, Kelso\, WA 9
 8626\, USA
SUMMARY:Elementary Track Meet
END:VEVENT
BEGIN:VEVENT
DTSTAMP:20260423T030304Z
UID:6acbbde6-75b2-48dd-a7d3-69490e78f710
DTSTART:20260605T133000
DTEND:20260605T140000
DESCRIPTION:
LOCATION:
SUMMARY:Shelter In Place Drill
END:VEVENT
BEGIN:VEVENT
DTSTAMP:20260423T030304Z
UID:6ef31d88-4f19-429f-89e4-4ea48534bf8e
DTSTART:20260605T140000
DTEND:20260605T150000
DESCRIPTION:
LOCATION:Commons
SUMMARY:TK Graduation
END:VEVENT
BEGIN:VEVENT
DTSTAMP:20260423T030304Z
UID:86adc4be-0181-4d17-acfc-3d5600c5c7a3
DTSTART:20260610T091500
DTEND:20260610T101500
DESCRIPTION:
LOCATION:
SUMMARY:5th Grade Promotion Assembly 
END:VEVENT
BEGIN:VEVENT
DTSTAMP:20260423T030304Z
UID:8c984e65-17b1-4d86-b557-be2ff31af8fc
DTSTART:20260611T131500
DTEND:20260611T144500
DESCRIPTION:
LOCATION:
SUMMARY:Field Day
END:VEVENT
BEGIN:VEVENT
DTSTAMP:20260423T030304Z
UID:82ca9361-70eb-47f2-b346-9a05ae45e554
DTSTART;VALUE=DATE:20260612
DTEND;VALUE=DATE:20260613
DESCRIPTION:
LOCATION:
SUMMARY:Grad Walk
END:VEVENT
BEGIN:VEVENT
DTSTAMP:20260423T030304Z
UID:53e31cfe-9b60-4c07-bfd0-c06e0f81cf0e
DTSTART;VALUE=DATE:20260615
DTEND;VALUE=DATE:20260616
DESCRIPTION:
LOCATION:
SUMMARY:Last Day Of School- 11:10 Dismissal 
END:VEVENT
END:VCALENDAR
