BEGIN:VCALENDAR
VERSION:2.0
PRODID:icalendar-ruby
CALSCALE:GREGORIAN
BEGIN:VTIMEZONE
TZID:America/Chicago
BEGIN:DAYLIGHT
DTSTART:20260308T030000
TZOFFSETFROM:-0600
TZOFFSETTO:-0500
RRULE:FREQ=YEARLY;BYDAY=2SU;BYMONTH=3
TZNAME:CDT
END:DAYLIGHT
BEGIN:STANDARD
DTSTART:20261101T010000
TZOFFSETFROM:-0500
TZOFFSETTO:-0600
RRULE:FREQ=YEARLY;BYDAY=1SU;BYMONTH=11
TZNAME:CST
END:STANDARD
END:VTIMEZONE
BEGIN:VEVENT
DTSTAMP:20260425T194354Z
UID:49fda8f4-3844-4782-9995-877f4d693d95
DTSTART;VALUE=DATE:20260430
DTEND;VALUE=DATE:20260501
DESCRIPTION:Type: school only Opponent:  
LOCATION:Elementary School
SUMMARY:SWAG Awards   
END:VEVENT
BEGIN:VEVENT
DTSTAMP:20260425T194354Z
UID:b827626b-f03b-445c-894a-4091efb1f997
DTSTART:20260511T171500
DTEND:20260511T171500
DESCRIPTION:Type: school only Opponent:  
LOCATION:Elementary School
SUMMARY:H.El.P Meeting   
END:VEVENT
END:VCALENDAR
