BEGIN:VCALENDAR
VERSION:2.0
PRODID:icalendar-ruby
CALSCALE:GREGORIAN
BEGIN:VTIMEZONE
TZID:America/Chicago
BEGIN:DAYLIGHT
DTSTART:20260308T030000
TZOFFSETFROM:-0600
TZOFFSETTO:-0500
RRULE:FREQ=YEARLY;BYDAY=2SU;BYMONTH=3
TZNAME:CDT
END:DAYLIGHT
BEGIN:STANDARD
DTSTART:20261101T010000
TZOFFSETFROM:-0500
TZOFFSETTO:-0600
RRULE:FREQ=YEARLY;BYDAY=1SU;BYMONTH=11
TZNAME:CST
END:STANDARD
END:VTIMEZONE
BEGIN:VEVENT
DTSTAMP:20260421T183613Z
UID:5af552b2-4125-4a5d-bffc-d2ca14a91a0a
DTSTART;VALUE=DATE:20260428
DTEND;VALUE=DATE:20260429
DESCRIPTION:
LOCATION:
SUMMARY:Progress Reports
END:VEVENT
BEGIN:VEVENT
DTSTAMP:20260421T183613Z
UID:adcd7964-cd90-4670-acd5-0a191a3dd436
DTSTART:20260505T180000
DTEND:20260505T193000
DESCRIPTION:
LOCATION:Lincoln Parish STEM Center 525 Tarbutton Road Ruston\, LA 71270
SUMMARY:School Board Meeting
END:VEVENT
BEGIN:VEVENT
DTSTAMP:20260421T183613Z
UID:a0a14a6c-5305-4d8e-ac4f-334d7ed74522
DTSTART;VALUE=DATE:20260521
DTEND;VALUE=DATE:20260522
DESCRIPTION:
LOCATION:
SUMMARY:Last Day for Students (Full-Day) End of 4th Nine Weeks
END:VEVENT
BEGIN:VEVENT
DTSTAMP:20260421T183613Z
UID:50aa6da1-0cb3-4e10-9e5e-23d63f313ee1
DTSTART;VALUE=DATE:20260522
DTEND;VALUE=DATE:20260523
DESCRIPTION:
LOCATION:
SUMMARY:Last Day for Teachers 
END:VEVENT
BEGIN:VEVENT
DTSTAMP:20260421T183613Z
UID:d8cd7e83-3227-4e8b-9d35-002b9547b622
DTSTART:20260602T180000
DTEND:20260602T193000
DESCRIPTION:
LOCATION:School Board Office: 410 S Farmerville St\, Ruston\, LA 71270\, US
 A
SUMMARY:School Board Meeting
END:VEVENT
BEGIN:VEVENT
DTSTAMP:20260421T183613Z
UID:091ac4d4-472c-40fd-a907-f8aa2c0ce0ec
DTSTART:20260707T180000
DTEND:20260707T193000
DESCRIPTION:
LOCATION:School Board Office: 410 S Farmerville St\, Ruston\, LA 71270\, US
 A
SUMMARY:School Board Meeting
END:VEVENT
BEGIN:VEVENT
DTSTAMP:20260421T183613Z
UID:9e94b57c-f790-45e7-b32f-9fc6d555f3d4
DTSTART:20260804T180000
DTEND:20260804T193000
DESCRIPTION:
LOCATION:School Board Office: 410 S Farmerville St\, Ruston\, LA 71270\, US
 A
SUMMARY:School Board Meeting
END:VEVENT
END:VCALENDAR
