BEGIN:VCALENDAR
VERSION:2.0
PRODID:icalendar-ruby
CALSCALE:GREGORIAN
BEGIN:VTIMEZONE
TZID:America/Chicago
BEGIN:DAYLIGHT
DTSTART:20260308T030000
TZOFFSETFROM:-0600
TZOFFSETTO:-0500
RRULE:FREQ=YEARLY;BYDAY=2SU;BYMONTH=3
TZNAME:CDT
END:DAYLIGHT
BEGIN:STANDARD
DTSTART:20261101T010000
TZOFFSETFROM:-0500
TZOFFSETTO:-0600
RRULE:FREQ=YEARLY;BYDAY=1SU;BYMONTH=11
TZNAME:CST
END:STANDARD
END:VTIMEZONE
BEGIN:VEVENT
DTSTAMP:20260422T030659Z
UID:5c501148-9b79-4a0e-a8ba-55cba54c30d1
DTSTART;VALUE=DATE:20260424
DTEND;VALUE=DATE:20260425
DESCRIPTION:
LOCATION:
SUMMARY:No School
END:VEVENT
BEGIN:VEVENT
DTSTAMP:20260422T030659Z
UID:828206a9-8501-48fa-86b0-b1390c194cae
DTSTART:20260428T190000
DTEND:20260428T210000
DESCRIPTION:
LOCATION:
SUMMARY:NHS AND CIMS JAZZ BANDS CONCERT
END:VEVENT
BEGIN:VEVENT
DTSTAMP:20260422T030659Z
UID:be9d3ddd-c532-4a53-abf7-b1e12e84fb6c
DTSTART:20260429T153000
DTEND:20260429T170000
DESCRIPTION:
LOCATION:
SUMMARY:26-27 NOBLE ESPORTS TRYOUTS- E102
END:VEVENT
BEGIN:VEVENT
DTSTAMP:20260422T030659Z
UID:12522b20-3c94-4199-b2b9-0321510eef22
DTSTART:20260430T153000
DTEND:20260430T170000
DESCRIPTION:
LOCATION:
SUMMARY:26-27 NOBLE ESPORTS TRYOUTS- E102
END:VEVENT
BEGIN:VEVENT
DTSTAMP:20260422T030659Z
UID:97bdcfd8-81f6-44c9-9721-26029f490fc8
DTSTART:20260430T190000
DTEND:20260430T210000
DESCRIPTION:
LOCATION:
SUMMARY:CIMS BAND CONCERT AND AWARDS
END:VEVENT
BEGIN:VEVENT
DTSTAMP:20260422T030659Z
UID:8e956079-1121-410e-9cbb-67b75adbf4ff
DTSTART;VALUE=DATE:20260501
DTEND;VALUE=DATE:20260502
DESCRIPTION:
LOCATION:
SUMMARY:No School
END:VEVENT
BEGIN:VEVENT
DTSTAMP:20260422T030659Z
UID:fbd4560d-5cae-49f5-9b2c-1f866fdf3ac6
DTSTART:20260505T190000
DTEND:20260505T210000
DESCRIPTION:
LOCATION:
SUMMARY:NHS BAND CONCERT
END:VEVENT
BEGIN:VEVENT
DTSTAMP:20260422T030659Z
UID:7f516a42-0003-4b64-80c0-27e470d3d1b2
DTSTART;VALUE=DATE:20260508
DTEND;VALUE=DATE:20260509
DESCRIPTION:
LOCATION:
SUMMARY:No School
END:VEVENT
BEGIN:VEVENT
DTSTAMP:20260422T030659Z
UID:5a922518-2319-484b-ac14-828f4a7891c7
DTSTART:20260512T180000
DTEND:20260512T200000
DESCRIPTION:
LOCATION:
SUMMARY:Senior Awards Ceremony
END:VEVENT
BEGIN:VEVENT
DTSTAMP:20260422T030659Z
UID:e3b8812a-36a2-436a-892f-6ad90ab9b4b6
DTSTART;VALUE=DATE:20260515
DTEND;VALUE=DATE:20260516
DESCRIPTION:
LOCATION:
SUMMARY:No School
END:VEVENT
BEGIN:VEVENT
DTSTAMP:20260422T030659Z
UID:76fbae7b-1f16-4ea2-bfc0-8f88a2ff65e2
DTSTART:20260519T190000
DTEND:20260519T220000
DESCRIPTION:
LOCATION:
SUMMARY:Graduation
END:VEVENT
BEGIN:VEVENT
DTSTAMP:20260422T030659Z
UID:a24f9972-9a1a-47eb-a7ea-c7eb927b5dd1
DTSTART;VALUE=DATE:20260520
DTEND;VALUE=DATE:20260521
DESCRIPTION:
LOCATION:
SUMMARY:SENIOR SEND OFF- DEN AUDITORIUM
END:VEVENT
BEGIN:VEVENT
DTSTAMP:20260422T030659Z
UID:2730e809-f88e-430b-9a31-5d1c8a7c8292
DTSTART;VALUE=DATE:20260521
DTEND;VALUE=DATE:20260522
DESCRIPTION:
LOCATION:
SUMMARY:Last Day of Classes
END:VEVENT
BEGIN:VEVENT
DTSTAMP:20260422T030659Z
UID:06b23e8a-1388-4e4f-b328-6edf889a95b9
DTSTART:20260521T193000
DTEND:20260521T213000
DESCRIPTION:<p>Time TBA</p>
LOCATION:
SUMMARY:Class of 2026 Graduation
END:VEVENT
BEGIN:VEVENT
DTSTAMP:20260422T030659Z
UID:8bc2bdf4-6b09-415b-b796-828995125235
DTSTART;VALUE=DATE:20260522
DTEND;VALUE=DATE:20260523
DESCRIPTION:
LOCATION:
SUMMARY:Teacher Work Day-No School
END:VEVENT
END:VCALENDAR
