BEGIN:VCALENDAR
VERSION:2.0
PRODID:icalendar-ruby
CALSCALE:GREGORIAN
BEGIN:VTIMEZONE
TZID:America/New_York
BEGIN:DAYLIGHT
DTSTART:20260308T030000
TZOFFSETFROM:-0500
TZOFFSETTO:-0400
RRULE:FREQ=YEARLY;BYDAY=2SU;BYMONTH=3
TZNAME:EDT
END:DAYLIGHT
BEGIN:STANDARD
DTSTART:20261101T010000
TZOFFSETFROM:-0400
TZOFFSETTO:-0500
RRULE:FREQ=YEARLY;BYDAY=1SU;BYMONTH=11
TZNAME:EST
END:STANDARD
END:VTIMEZONE
BEGIN:VEVENT
DTSTAMP:20260421T150418Z
UID:3fae7a8c-0f2a-475f-b450-10ca6e000908
DTSTART;VALUE=DATE:20260421
DTEND;VALUE=DATE:20260422
DESCRIPTION:
LOCATION:
SUMMARY:2-Hour Delay: Government EOC Testing
END:VEVENT
BEGIN:VEVENT
DTSTAMP:20260421T150418Z
UID:9b9ea694-d112-4936-afc7-404af359a273
DTSTART;VALUE=DATE:20260422
DTEND;VALUE=DATE:20260423
DESCRIPTION:
LOCATION:
SUMMARY:2-Hour Delay: Government EOC Testing
END:VEVENT
BEGIN:VEVENT
DTSTAMP:20260421T150418Z
UID:33d18e51-1464-4356-b79b-b36c4927223d
DTSTART;VALUE=DATE:20260428
DTEND;VALUE=DATE:20260429
DESCRIPTION:
LOCATION:
SUMMARY:2-Hour Delay: Geometry EOC Testing
END:VEVENT
BEGIN:VEVENT
DTSTAMP:20260421T150418Z
UID:f7c5995f-a3b6-4b31-8eda-18b5707a2ab9
DTSTART;VALUE=DATE:20260429
DTEND;VALUE=DATE:20260430
DESCRIPTION:
LOCATION:
SUMMARY:2-Hour Delay: Geometry EOC Testing
END:VEVENT
BEGIN:VEVENT
DTSTAMP:20260421T150418Z
UID:c48159fa-1fe8-4554-87e5-d2fa889b8b13
DTSTART:20260506T180000
DTEND:20260506T190000
DESCRIPTION:
LOCATION:
SUMMARY:Honored Educators' Banquet
END:VEVENT
BEGIN:VEVENT
DTSTAMP:20260421T150418Z
UID:f098f1c3-d04c-44f8-89e9-671bbffda016
DTSTART;VALUE=DATE:20260507
DTEND;VALUE=DATE:20260508
DESCRIPTION:
LOCATION:
SUMMARY:Straight A Luncheon
END:VEVENT
BEGIN:VEVENT
DTSTAMP:20260421T150418Z
UID:e7197846-b360-495a-8e26-151ab9c90661
DTSTART;VALUE=DATE:20260511
DTEND;VALUE=DATE:20260515
DESCRIPTION:
LOCATION:
SUMMARY:Second Semester Exams
END:VEVENT
BEGIN:VEVENT
DTSTAMP:20260421T150418Z
UID:cacea35c-d36c-4b09-9f66-1dc3bde4a22c
DTSTART;VALUE=DATE:20260518
DTEND;VALUE=DATE:20260520
DESCRIPTION:
LOCATION:
SUMMARY:Laptop Collection
END:VEVENT
BEGIN:VEVENT
DTSTAMP:20260421T150418Z
UID:3e3fa1c3-164c-4456-ae61-2b0e6d84268c
DTSTART;VALUE=DATE:20260520
DTEND;VALUE=DATE:20260521
DESCRIPTION:
LOCATION:
SUMMARY:Seniors' Last Day - No School Juniors
END:VEVENT
BEGIN:VEVENT
DTSTAMP:20260421T150418Z
UID:17ce20dd-1e9a-4a09-af95-5e15d6463987
DTSTART:20260520T180000
DTEND:20260520T190000
DESCRIPTION:
LOCATION:
SUMMARY:Convocation Ceremony
END:VEVENT
BEGIN:VEVENT
DTSTAMP:20260421T150418Z
UID:31872349-187e-42b2-a02e-631bce6bd6e5
DTSTART;VALUE=DATE:20260521
DTEND;VALUE=DATE:20260522
DESCRIPTION:
LOCATION:
SUMMARY:Juniors' Last Day
END:VEVENT
END:VCALENDAR
