BEGIN:VCALENDAR
VERSION:2.0
PRODID:icalendar-ruby
CALSCALE:GREGORIAN
BEGIN:VTIMEZONE
TZID:America/Denver
BEGIN:DAYLIGHT
DTSTART:20260308T030000
TZOFFSETFROM:-0700
TZOFFSETTO:-0600
RRULE:FREQ=YEARLY;BYDAY=2SU;BYMONTH=3
TZNAME:MDT
END:DAYLIGHT
BEGIN:STANDARD
DTSTART:20261101T010000
TZOFFSETFROM:-0600
TZOFFSETTO:-0700
RRULE:FREQ=YEARLY;BYDAY=1SU;BYMONTH=11
TZNAME:MST
END:STANDARD
END:VTIMEZONE
BEGIN:VEVENT
DTSTAMP:20260420T114155Z
UID:7d0ad5b4-8c5a-44cd-8e77-a39c06d80a9d
DTSTART:20260420T190000
DTEND:20260420T200000
DESCRIPTION:
LOCATION:
SUMMARY:Board of Education-Regular Meeting
END:VEVENT
BEGIN:VEVENT
DTSTAMP:20260420T114155Z
UID:1fcb3a85-36a9-470f-9877-874ed127f877
DTSTART:20260421T090000
DTEND:20260421T150000
DESCRIPTION:
LOCATION:
SUMMARY:Golf @ Morrill
END:VEVENT
BEGIN:VEVENT
DTSTAMP:20260420T114155Z
UID:2d4f518d-0c76-4bce-a05c-b9eb2afe3528
DTSTART;VALUE=DATE:20260423
DTEND;VALUE=DATE:20260424
DESCRIPTION:
LOCATION:
SUMMARY:District Music @ WNCC
END:VEVENT
BEGIN:VEVENT
DTSTAMP:20260420T114155Z
UID:aa964af1-21c6-47ad-847c-e8795ab75022
DTSTART:20260423T090000
DTEND:20260423T160000
DESCRIPTION:
LOCATION:
SUMMARY:JH Track @ Kimball
END:VEVENT
BEGIN:VEVENT
DTSTAMP:20260420T114155Z
UID:19756c99-3178-42ed-a6cc-601aaa3a2ba5
DTSTART:20260424T090000
DTEND:20260424T160000
DESCRIPTION:
LOCATION:
SUMMARY:HS Track @ Mitchell (George Calvert)
END:VEVENT
BEGIN:VEVENT
DTSTAMP:20260420T114155Z
UID:d04281f1-fac4-44c7-9fee-b00bbefe58ff
DTSTART:20260428T110000
DTEND:20260428T140000
DESCRIPTION:
LOCATION:
SUMMARY:JH Best of West Track (must qualify)
END:VEVENT
BEGIN:VEVENT
DTSTAMP:20260420T114155Z
UID:2dd7b373-9d7d-4e63-8018-5aec4463c8ea
DTSTART:20260428T160000
DTEND:20260428T210000
DESCRIPTION:
LOCATION:
SUMMARY:HS Best of West (must qualify)
END:VEVENT
BEGIN:VEVENT
DTSTAMP:20260420T114155Z
UID:d2a92847-e109-4775-a588-7fa27d3958d9
DTSTART:20260430T180000
DTEND:20260430T200000
DESCRIPTION:<p>NHS Induction - 5:30 pm</p><p>Scholarship Presentation - 6:0
 0 pm</p><p>Spring Concert - 7:00 pm</p><p>Art Display - 6:00 - 8:00 pm</p>
LOCATION:
SUMMARY:Arts Connection Night
END:VEVENT
BEGIN:VEVENT
DTSTAMP:20260420T114155Z
UID:053f512d-5cb3-4756-ae73-c9765569ee7e
DTSTART:20260430T190000
DTEND:20260430T200000
DESCRIPTION:
LOCATION:
SUMMARY:JH/HS Spring Concert
END:VEVENT
BEGIN:VEVENT
DTSTAMP:20260420T114155Z
UID:d2af6f60-efc5-4fb5-97f3-2c9c9a2935ff
DTSTART:20260501T090000
DTEND:20260501T160000
DESCRIPTION:
LOCATION:
SUMMARY:JH/HS PAC Track - Morrill
END:VEVENT
BEGIN:VEVENT
DTSTAMP:20260420T114155Z
UID:dbb7563f-b69f-42ac-bfa6-e7b088caa093
DTSTART:20260502T140000
DTEND:20260502T170000
DESCRIPTION:
LOCATION:
SUMMARY:Activities Banquet
END:VEVENT
BEGIN:VEVENT
DTSTAMP:20260420T114155Z
UID:58287f09-fa7a-422d-b246-f03443fd72ee
DTSTART;VALUE=DATE:20260504
DTEND;VALUE=DATE:20260505
DESCRIPTION:
LOCATION:
SUMMARY:PAC Golf  - Morrill
END:VEVENT
BEGIN:VEVENT
DTSTAMP:20260420T114155Z
UID:0c11abf2-c15d-4d8f-8295-3e06434d9711
DTSTART:20260505T090000
DTEND:20260505T160000
DESCRIPTION:<p>No School for 7-12 students</p>
LOCATION:
SUMMARY:JH Track - Morrill
END:VEVENT
BEGIN:VEVENT
DTSTAMP:20260420T114155Z
UID:8380047b-21f5-4f9b-9cf1-2094b4f202d8
DTSTART;VALUE=DATE:20260506
DTEND;VALUE=DATE:20260507
DESCRIPTION:
LOCATION:
SUMMARY:Last Day of School for Seniors
END:VEVENT
BEGIN:VEVENT
DTSTAMP:20260420T114155Z
UID:9ee66f05-7dd8-425b-87ab-029ac47ffd81
DTSTART:20260507T090000
DTEND:20260507T150000
DESCRIPTION:
LOCATION:
SUMMARY:Golf @ Kimball
END:VEVENT
BEGIN:VEVENT
DTSTAMP:20260420T114155Z
UID:5bb852cc-a52c-4040-b803-37b27a004ad0
DTSTART:20260508T080000
DTEND:20260508T170000
DESCRIPTION:
LOCATION:
SUMMARY:HS Track @ Bayard BCD
END:VEVENT
BEGIN:VEVENT
DTSTAMP:20260420T114155Z
UID:6676b14d-e51f-4cbf-b878-2fa71d27f007
DTSTART:20260509T100000
DTEND:20260509T110000
DESCRIPTION:
LOCATION:
SUMMARY:Class of 2026 Graduation
END:VEVENT
BEGIN:VEVENT
DTSTAMP:20260420T114155Z
UID:65eba15d-4077-4997-806f-7c233217a2d6
DTSTART:20260512T090000
DTEND:20260512T150000
DESCRIPTION:
LOCATION:
SUMMARY:Golf @ Bayard
END:VEVENT
BEGIN:VEVENT
DTSTAMP:20260420T114155Z
UID:372369b2-b332-4ce3-9438-a4fca8c7b24b
DTSTART:20260513T090000
DTEND:20260513T160000
DESCRIPTION:
LOCATION:
SUMMARY:District Track @ Bayard
END:VEVENT
BEGIN:VEVENT
DTSTAMP:20260420T114155Z
UID:f362a395-34d8-412b-9a4e-b7a9dead1f60
DTSTART:20260514T090000
DTEND:20260514T150000
DESCRIPTION:
LOCATION:
SUMMARY:Golf @ Crawford
END:VEVENT
BEGIN:VEVENT
DTSTAMP:20260420T114155Z
UID:c79ffe82-ec5d-448f-b1df-75378bffbc89
DTSTART;VALUE=DATE:20260518
DTEND;VALUE=DATE:20260519
DESCRIPTION:
LOCATION:
SUMMARY:District Golf @ Ogallala
END:VEVENT
BEGIN:VEVENT
DTSTAMP:20260420T114155Z
UID:85578597-f39d-4a03-8ed0-ce48d1f76199
DTSTART;VALUE=DATE:20260519
DTEND;VALUE=DATE:20260520
DESCRIPTION:
LOCATION:
SUMMARY:Early Release 11:30 AM
END:VEVENT
BEGIN:VEVENT
DTSTAMP:20260420T114155Z
UID:53d647dd-0a18-4146-8669-ee9e281fe73b
DTSTART;VALUE=DATE:20260519
DTEND;VALUE=DATE:20260520
DESCRIPTION:
LOCATION:
SUMMARY:End of 4th Quarter
END:VEVENT
BEGIN:VEVENT
DTSTAMP:20260420T114155Z
UID:6a5729cd-0fc8-4ee6-bfe8-11a2ab13b1d3
DTSTART;VALUE=DATE:20260519
DTEND;VALUE=DATE:20260520
DESCRIPTION:
LOCATION:
SUMMARY:Last Day of School
END:VEVENT
BEGIN:VEVENT
DTSTAMP:20260420T114155Z
UID:bb5dc2ad-4338-434c-8945-c4259ec160da
DTSTART;VALUE=DATE:20260522
DTEND;VALUE=DATE:20260523
DESCRIPTION:
LOCATION:
SUMMARY:State Track & Field
END:VEVENT
BEGIN:VEVENT
DTSTAMP:20260420T114155Z
UID:a5b1d2b9-b257-48bd-9ffe-969a0c778a6a
DTSTART;VALUE=DATE:20260523
DTEND;VALUE=DATE:20260524
DESCRIPTION:
LOCATION:
SUMMARY:State Track & Field
END:VEVENT
BEGIN:VEVENT
DTSTAMP:20260420T114155Z
UID:6fb6b04b-a848-46c7-89c0-d4782e0833b6
DTSTART:20260529T180000
DTEND:20260529T210000
DESCRIPTION:
LOCATION:
SUMMARY:Panhandle Prep All-Star BB Game
END:VEVENT
BEGIN:VEVENT
DTSTAMP:20260420T114155Z
UID:a2211ea5-7f94-4cbc-8992-acd2c4664a3c
DTSTART:20260613T140000
DTEND:20260613T170000
DESCRIPTION:
LOCATION:
SUMMARY:West NE All-Star VB/FB
END:VEVENT
END:VCALENDAR
