BEGIN:VCALENDAR
VERSION:2.0
PRODID:icalendar-ruby
CALSCALE:GREGORIAN
BEGIN:VTIMEZONE
TZID:America/Chicago
BEGIN:DAYLIGHT
DTSTART:20260308T030000
TZOFFSETFROM:-0600
TZOFFSETTO:-0500
RRULE:FREQ=YEARLY;BYDAY=2SU;BYMONTH=3
TZNAME:CDT
END:DAYLIGHT
BEGIN:STANDARD
DTSTART:20261101T010000
TZOFFSETFROM:-0500
TZOFFSETTO:-0600
RRULE:FREQ=YEARLY;BYDAY=1SU;BYMONTH=11
TZNAME:CST
END:STANDARD
END:VTIMEZONE
BEGIN:VEVENT
DTSTAMP:20260424T171031Z
UID:886ec1cd-f459-47db-895a-284e51a1b8c6
DTSTART;VALUE=DATE:20260424
DTEND;VALUE=DATE:20260425
DESCRIPTION:<html><head><meta http-equiv="Content-Type" content="text/html\
 ; charset=utf-8"></head><body><div class="cal_d966"><div><div class="x_cal
 _174d"><div><div class="x_x_cal_d5f6"><div><div class="x_x_x_cal_cae6"><di
 v><div></div></div></div></div></div></div></div></div></div></body></html
 >
LOCATION:
SUMMARY:No School - Inservice for Staff
END:VEVENT
BEGIN:VEVENT
DTSTAMP:20260424T171031Z
UID:5bd4a8a0-4367-4a63-8a1f-db96cadbd051
DTSTART:20260425T190000
DTEND:20260425T233000
DESCRIPTION:
LOCATION:Todd County High School\, 225 E Denver St\, Mission\, SD\, 57555
SUMMARY:TCHS - Prom
END:VEVENT
BEGIN:VEVENT
DTSTAMP:20260424T171031Z
UID:d0bfa8db-e4c8-4f82-8c06-cfeb03164101
DTSTART:20260427T173000
DTEND:20260427T183000
DESCRIPTION:<html><head><meta http-equiv="Content-Type" content="text/html\
 ; charset=utf-8"></head><body><div class="cal_237b"><div><div class="x_cal
 _8fec"><div><div class="x_x_cal_f80c"><div><div class="x_x_x_cal_2204"><di
 v><div class="x_x_x_x_cal_e2b8"><div><div class="x_x_x_x_x_cal_125"><div><
 div class="x_x_x_x_x_x_cal_1eb6"><div><div class="x_x_x_x_x_x_x_cal_ccdf">
 <div><div class="x_x_x_x_x_x_x_x_cal_68e4"><div><div class="x_x_x_x_x_x_x_
 x_x_cal_c68a"><div><div class="x_x_x_x_x_x_x_x_x_x_cal_69da"><div><div cla
 ss="x_x_x_x_x_x_x_x_x_x_x_cal_c1e5"><div><div class="x_x_x_x_x_x_x_x_x_x_x
 _x_cal_3604"><div><div class="x_x_x_x_x_x_x_x_x_x_x_x_x_cal_4e56"><div><di
 v class="x_x_x_x_x_x_x_x_x_x_x_x_x_x_cal_b1f3"><div><div class="x_x_x_x_x_
 x_x_x_x_x_x_x_x_x_x_cal_e8b9"><div><div></div></div></div></div></div></di
 v></div></div></div></div></div></div></div></div></div></div></div></div>
 </div></div></div></div></div></div></div></div></div></div></div></div></
 div></div></div></body></html>
LOCATION:Curriculum Center
SUMMARY:Todd County School Board- Regular Meeting
END:VEVENT
BEGIN:VEVENT
DTSTAMP:20260424T171031Z
UID:414b3385-8008-49d4-843d-4c6d2b235c26
DTSTART:20260428T180000
DTEND:20260428T193000
DESCRIPTION:
LOCATION:125 E Denver Dr\, Mission\, SD 57555\, USA
SUMMARY:TCHS Play Performance
END:VEVENT
BEGIN:VEVENT
DTSTAMP:20260424T171031Z
UID:9591f63d-667f-49df-9400-b685df8438f3
DTSTART:20260429T160000
DTEND:20260429T190000
DESCRIPTION:<html><head><meta http-equiv="Content-Type" content="text/html\
 ; charset=utf-8"></head><body><div></div></body></html>
LOCATION:
SUMMARY:Todd County Early Childhood Family Engagement
END:VEVENT
BEGIN:VEVENT
DTSTAMP:20260424T171031Z
UID:4c6851c2-04c0-4494-ad36-861101e39e31
DTSTART:20260429T163000
DTEND:20260429T193000
DESCRIPTION:<html><head><meta http-equiv="Content-Type" content="text/html\
 ; charset=utf-8"></head><body><div class="cal_3b31"><div><div class="x_cal
 _c693"><div><div class="x_x_cal_b90b"><div><div class="x_x_x_cal_2934"><di
 v><div class="x_x_x_x_cal_7045"><div><div class="x_x_x_x_x_cal_7475"><div>
 <div></div></div></div></div></div></div></div></div></div></div></div></d
 iv></div></body></html>
LOCATION:Todd County High School\, 225 E Denver St\, Mission\, SD\, 57555
SUMMARY:TCHS - Spring Concert and Family Night
END:VEVENT
BEGIN:VEVENT
DTSTAMP:20260424T171031Z
UID:08593350-ee66-4f57-a5ed-c5380c07d1d8
DTSTART:20260430T110000
DTEND:20260430T150000
DESCRIPTION:
LOCATION:
SUMMARY:TC Elementary Track Meet
END:VEVENT
BEGIN:VEVENT
DTSTAMP:20260424T171031Z
UID:55d8416f-b545-493e-8a38-91f99856216c
DTSTART:20260430T180000
DTEND:20260430T183000
DESCRIPTION:
LOCATION:Todd County Middle School 10\, 28325 US Highway 83\, Mission\, SD\
 , 57555
SUMMARY:Staff Recognition 
END:VEVENT
BEGIN:VEVENT
DTSTAMP:20260424T171031Z
UID:8899cceb-0c27-4284-a019-5adebf8affcd
DTSTART;VALUE=DATE:20260501
DTEND;VALUE=DATE:20260502
DESCRIPTION:<html><head><meta http-equiv="Content-Type" content="text/html\
 ; charset=utf-8"></head><body><div class="cal_24d6"><div><div class="x_cal
 _71bd"><div><div class="x_x_cal_8613"><div><div class="x_x_x_cal_f8cf"><di
 v><div class="x_x_x_x_cal_cae6"><div><div></div></div></div></div></div></
 div></div></div></div></div></div></body></html>
LOCATION:
SUMMARY:No School 
END:VEVENT
BEGIN:VEVENT
DTSTAMP:20260424T171031Z
UID:7978e43c-ef65-492b-80b7-ab5eda8d328b
DTSTART:20260504T110000
DTEND:20260504T153000
DESCRIPTION:
LOCATION:TCHS Track Field
SUMMARY:TCMS Invitational Track Meet
END:VEVENT
BEGIN:VEVENT
DTSTAMP:20260424T171031Z
UID:ed16d0ec-4436-49ef-ac47-635010b62f9e
DTSTART:20260505T163000
DTEND:20260505T193000
DESCRIPTION:<html><head><meta http-equiv="Content-Type" content="text/html\
 ; charset=utf-8"></head><body><div class="cal_190a"><div><div class="x_cal
 _3b31"><div><div class="x_x_cal_c693"><div><div class="x_x_x_cal_b90b"><di
 v><div class="x_x_x_x_cal_2934"><div><div class="x_x_x_x_x_cal_7045"><div>
 <div class="x_x_x_x_x_x_cal_7475"><div><div></div></div></div></div></div>
 </div></div></div></div></div></div></div></div></div></div></body></html>
LOCATION:Todd County High School\, 225 E Denver St\, Mission\, SD\, 57555
SUMMARY:TCHS - NHS Induction
END:VEVENT
BEGIN:VEVENT
DTSTAMP:20260424T171031Z
UID:e47023a3-028e-46aa-b048-15c338e06af7
DTSTART:20260506T110000
DTEND:20260506T150000
DESCRIPTION:
LOCATION:
SUMMARY:TC Elementary Track Meet
END:VEVENT
BEGIN:VEVENT
DTSTAMP:20260424T171031Z
UID:d268952a-8dbc-4d69-9ba9-5bc38fdb103b
DTSTART:20260507T133000
DTEND:20260507T150000
DESCRIPTION:<html><head><meta http-equiv="Content-Type" content="text/html\
 ; charset=utf-8"></head><body><div class="cal_98a5"><div><div class="x_cal
 _b90b"><div><div class="x_x_cal_2934"><div><div class="x_x_x_cal_7045"><di
 v><div class="x_x_x_x_cal_7475"><div><div></div></div></div></div></div></
 div></div></div></div></div></div></body></html>
LOCATION:Todd County Elementary 16\, 27011 Us Highway 83\, Mission\, Sd\, 5
 7555
SUMMARY:TCES - Spring Concert
END:VEVENT
BEGIN:VEVENT
DTSTAMP:20260424T171031Z
UID:4ae5a050-34c8-4814-8335-eb11c571be11
DTSTART:20260507T140000
DTEND:20260507T153000
DESCRIPTION:<html><head><meta http-equiv="Content-Type" content="text/html\
 ; charset=utf-8"></head><body><div class="cal_ed8"><div><div class="x_cal_
 f8e0"><div><div class="x_x_cal_2939"><div><div class="x_x_x_cal_ef06"><div
 ><div class="x_x_x_x_cal_240e"><div><div class="x_x_x_x_x_cal_7045"><div><
 div class="x_x_x_x_x_x_cal_7475"><div><div></div></div></div></div></div><
 /div></div></div></div></div></div></div></div></div></div></body></html>
LOCATION:
SUMMARY:Rosebud - Young Authors' Day
END:VEVENT
BEGIN:VEVENT
DTSTAMP:20260424T171031Z
UID:14308350-000f-4412-9ecf-3a8a6b464f73
DTSTART;VALUE=DATE:20260508
DTEND;VALUE=DATE:20260509
DESCRIPTION:<html><head><meta http-equiv="Content-Type" content="text/html\
 ; charset=utf-8"></head><body><div class="cal_9815"><div><div class="x_cal
 _d966"><div><div class="x_x_cal_174d"><div><div class="x_x_x_cal_d5f6"><di
 v><div class="x_x_x_x_cal_cae6"><div><div></div></div></div></div></div></
 div></div></div></div></div></div></body></html>
LOCATION:
SUMMARY:No School - Inservice for Staff
END:VEVENT
BEGIN:VEVENT
DTSTAMP:20260424T171031Z
UID:ebc8f8f2-a187-403d-b359-8f1d1d65f0dd
DTSTART:20260508T170000
DTEND:20260509T170000
DESCRIPTION:
LOCATION:
SUMMARY:TCHS Senior Honoring
END:VEVENT
BEGIN:VEVENT
DTSTAMP:20260424T171031Z
UID:85a76396-a1c6-4c01-9193-b65189ba5d1e
DTSTART:20260511T173000
DTEND:20260511T183000
DESCRIPTION:<html><head><meta http-equiv="Content-Type" content="text/html\
 ; charset=utf-8"></head><body><div class="cal_aa43"><div><div class="x_cal
 _237b"><div><div class="x_x_cal_8fec"><div><div class="x_x_x_cal_f80c"><di
 v><div class="x_x_x_x_cal_2204"><div><div class="x_x_x_x_x_cal_e2b8"><div>
 <div class="x_x_x_x_x_x_cal_125"><div><div class="x_x_x_x_x_x_x_cal_1eb6">
 <div><div class="x_x_x_x_x_x_x_x_cal_ccdf"><div><div class="x_x_x_x_x_x_x_
 x_x_cal_68e4"><div><div class="x_x_x_x_x_x_x_x_x_x_cal_c68a"><div><div cla
 ss="x_x_x_x_x_x_x_x_x_x_x_cal_69da"><div><div class="x_x_x_x_x_x_x_x_x_x_x
 _x_cal_c1e5"><div><div class="x_x_x_x_x_x_x_x_x_x_x_x_x_cal_3604"><div><di
 v class="x_x_x_x_x_x_x_x_x_x_x_x_x_x_cal_4e56"><div><div class="x_x_x_x_x_
 x_x_x_x_x_x_x_x_x_x_cal_b1f3"><div><div class="x_x_x_x_x_x_x_x_x_x_x_x_x_x
 _x_x_cal_e8b9"><div><div></div></div></div></div></div></div></div></div><
 /div></div></div></div></div></div></div></div></div></div></div></div></d
 iv></div></div></div></div></div></div></div></div></div></div></div></div
 ></div></div></body></html>
LOCATION:Curriculum Center
SUMMARY:Todd County School Board- Regular Meeting
END:VEVENT
BEGIN:VEVENT
DTSTAMP:20260424T171031Z
UID:f488a1ed-698b-4e57-aba6-2f7389fcf80b
DTSTART:20260513T140000
DTEND:20260513T153000
DESCRIPTION:
LOCATION:He Dog School\, Bia 4\, Parmelee\, SD\, 57566
SUMMARY:He Dog Field Day
END:VEVENT
BEGIN:VEVENT
DTSTAMP:20260424T171031Z
UID:1521cdce-5724-4b1a-863e-3986993c21fe
DTSTART:20260513T163000
DTEND:20260513T193000
DESCRIPTION:<html><head><meta http-equiv="Content-Type" content="text/html\
 ; charset=utf-8"></head><body><div class="cal_948e"><div><div class="x_cal
 _98a5"><div><div class="x_x_cal_b90b"><div><div class="x_x_x_cal_2934"><di
 v><div class="x_x_x_x_cal_7045"><div><div class="x_x_x_x_x_cal_7475"><div>
 <div></div></div></div></div></div></div></div></div></div></div></div></d
 iv></div></body></html>
LOCATION:Todd County Middle School 10\, 28325 US Highway 83\, Mission\, SD\
 , 57555
SUMMARY:TCMS - Spring Concert and Showcase
END:VEVENT
BEGIN:VEVENT
DTSTAMP:20260424T171031Z
UID:c633356a-f534-469c-afd3-0f3a78c6e58d
DTSTART:20260514T140000
DTEND:20260514T153000
DESCRIPTION:<html><head><meta http-equiv="Content-Type" content="text/html\
 ; charset=utf-8"></head><body><div class="cal_295"><div><div class="x_cal_
 ed8"><div><div class="x_x_cal_f8e0"><div><div class="x_x_x_cal_2939"><div>
 <div class="x_x_x_x_cal_ef06"><div><div class="x_x_x_x_x_cal_240e"><div><d
 iv class="x_x_x_x_x_x_cal_7045"><div><div class="x_x_x_x_x_x_x_cal_7475"><
 div><div></div></div></div></div></div></div></div></div></div></div></div
 ></div></div></div></div></div></div></body></html>
LOCATION:
SUMMARY:Rosebud - Spring Concert and Showcase
END:VEVENT
BEGIN:VEVENT
DTSTAMP:20260424T171031Z
UID:4fc62f8f-75d5-43ed-853e-a3030ce5b4fd
DTSTART:20260514T163000
DTEND:20260514T193000
DESCRIPTION:
LOCATION:
SUMMARY:Lakeview Family Night
END:VEVENT
BEGIN:VEVENT
DTSTAMP:20260424T171031Z
UID:9b5f0e42-f5fb-4c02-9e76-dfd1a93e6797
DTSTART:20260514T180000
DTEND:20260514T200000
DESCRIPTION:<html><head><meta http-equiv="Content-Type" content="text/html\
 ; charset=utf-8"></head><body><div class="cal_8905"><div><div></div></div>
 </div></body></html>
LOCATION:
SUMMARY:Klein- Spring Concert/ 8th Grade Graduation
END:VEVENT
BEGIN:VEVENT
DTSTAMP:20260424T171031Z
UID:21745c4e-33b3-4de1-8e8f-f5da2aae34f8
DTSTART;VALUE=DATE:20260515
DTEND;VALUE=DATE:20260516
DESCRIPTION:<html><head><meta http-equiv="Content-Type" content="text/html\
 ; charset=utf-8"></head><body><div class="cal_3e26"><div><div class="x_cal
 _24d6"><div><div class="x_x_cal_71bd"><div><div class="x_x_x_cal_8613"><di
 v><div class="x_x_x_x_cal_f8cf"><div><div class="x_x_x_x_x_cal_cae6"><div>
 <div></div></div></div></div></div></div></div></div></div></div></div></d
 iv></div></body></html>
LOCATION:
SUMMARY:No School 
END:VEVENT
BEGIN:VEVENT
DTSTAMP:20260424T171031Z
UID:67c94e9e-7243-4bd0-8f46-c15c4a043d5d
DTSTART:20260516T100000
DTEND:20260516T120000
DESCRIPTION:
LOCATION:Todd County High School\, 225 E Denver St\, Mission\, SD\, 57555
SUMMARY:TCHS Graduation
END:VEVENT
BEGIN:VEVENT
DTSTAMP:20260424T171031Z
UID:8e961fdd-61df-4c98-a066-276dedda8a2c
DTSTART:20260519T130000
DTEND:20260519T160000
DESCRIPTION:
LOCATION:
SUMMARY:TCMS - 8th Grade Honoring and Wacipi
END:VEVENT
BEGIN:VEVENT
DTSTAMP:20260424T171031Z
UID:017bc4ee-bc8e-4d90-a11f-caf1904e424b
DTSTART:20260520T103000
DTEND:20260520T120000
DESCRIPTION:<html><head><meta http-equiv="Content-Type" content="text/html\
 ; charset=utf-8"></head><body><div class="cal_86c3"><div><div class="x_cal
 _295"><div><div class="x_x_cal_ed8"><div><div class="x_x_x_cal_f8e0"><div>
 <div class="x_x_x_x_cal_2939"><div><div class="x_x_x_x_x_cal_ef06"><div><d
 iv class="x_x_x_x_x_x_cal_240e"><div><div class="x_x_x_x_x_x_x_cal_7045"><
 div><div class="x_x_x_x_x_x_x_x_cal_7475"><div><div></div></div></div></di
 v></div></div></div></div></div></div></div></div></div></div></div></div>
 </div></div></div></body></html>
LOCATION:
SUMMARY:Rosebud - 5th Grade Honoring and Wacipi
END:VEVENT
BEGIN:VEVENT
DTSTAMP:20260424T171031Z
UID:ea674ba3-5aab-446e-9e6a-8170249557ac
DTSTART:20260520T133000
DTEND:20260520T140000
DESCRIPTION:
LOCATION:Todd County Elementary 16\, 27011 Us Highway 83\, Mission\, Sd\, 5
 7555
SUMMARY:TCES Wacipi
END:VEVENT
BEGIN:VEVENT
DTSTAMP:20260424T171031Z
UID:07031899-19bb-479a-a6a4-c9c590147996
DTSTART:20260520T140000
DTEND:20260520T143000
DESCRIPTION:
LOCATION:He Dog School\, Bia 4\, Parmelee\, SD\, 57566
SUMMARY:He Dog Kindergarten Honoring
END:VEVENT
BEGIN:VEVENT
DTSTAMP:20260424T171031Z
UID:c7d01718-8ef0-4d1b-bcd6-50f4156a6135
DTSTART:20260520T170000
DTEND:20260520T173000
DESCRIPTION:
LOCATION:Spring Creek Elementary School\, 233 Yellow Cloud Dr\, St Francis\
 , SD\, 57572
SUMMARY:Spring Creek K/8th Grade Honoring
END:VEVENT
BEGIN:VEVENT
DTSTAMP:20260424T171031Z
UID:acc6d5cf-19b2-4658-a59d-fb70fd324c8f
DTSTART;VALUE=DATE:20260521
DTEND;VALUE=DATE:20260522
DESCRIPTION:
LOCATION:
SUMMARY:End of Quarter 4 and Last Day for Students
END:VEVENT
BEGIN:VEVENT
DTSTAMP:20260424T171031Z
UID:6a77e267-0819-4af3-bc12-8ad4c6ed749e
DTSTART:20260521T170000
DTEND:20260521T173000
DESCRIPTION:<html><head><meta http-equiv="Content-Type" content="text/html\
 ; charset=utf-8"></head><body><div></div></body></html>
LOCATION:He Dog School\, Bia 4\, Parmelee\, SD\, 57566
SUMMARY:He Dog 8th Grade Honoring
END:VEVENT
BEGIN:VEVENT
DTSTAMP:20260424T171031Z
UID:77968a25-649c-423d-b0db-64d4e23765b0
DTSTART;VALUE=DATE:20260522
DTEND;VALUE=DATE:20260523
DESCRIPTION:<html><head><meta http-equiv="Content-Type" content="text/html\
 ; charset=utf-8"></head><body><div class="cal_7984"><div><div class="x_cal
 _9815"><div><div class="x_x_cal_d966"><div><div class="x_x_x_cal_174d"><di
 v><div class="x_x_x_x_cal_d5f6"><div><div class="x_x_x_x_x_cal_cae6"><div>
 <div></div></div></div></div></div></div></div></div></div></div></div></d
 iv></div></body></html>
LOCATION:
SUMMARY:No School - Inservice for Staff
END:VEVENT
BEGIN:VEVENT
DTSTAMP:20260424T171031Z
UID:faf83f20-9be5-495e-9e2c-7c91ffe85c58
DTSTART:20260525T080000
DTEND:20260525T083000
DESCRIPTION:
LOCATION:
SUMMARY:Memorial Day
END:VEVENT
BEGIN:VEVENT
DTSTAMP:20260424T171031Z
UID:f811100b-39ca-4f63-b6e3-75a53f1cc741
DTSTART:20260526T173000
DTEND:20260526T183000
DESCRIPTION:<html><head><meta http-equiv="Content-Type" content="text/html\
 ; charset=utf-8"></head><body><div class="cal_d726"><div><div class="x_cal
 _aa43"><div><div class="x_x_cal_237b"><div><div class="x_x_x_cal_8fec"><di
 v><div class="x_x_x_x_cal_f80c"><div><div class="x_x_x_x_x_cal_2204"><div>
 <div class="x_x_x_x_x_x_cal_e2b8"><div><div class="x_x_x_x_x_x_x_cal_125">
 <div><div class="x_x_x_x_x_x_x_x_cal_1eb6"><div><div class="x_x_x_x_x_x_x_
 x_x_cal_ccdf"><div><div class="x_x_x_x_x_x_x_x_x_x_cal_68e4"><div><div cla
 ss="x_x_x_x_x_x_x_x_x_x_x_cal_c68a"><div><div class="x_x_x_x_x_x_x_x_x_x_x
 _x_cal_69da"><div><div class="x_x_x_x_x_x_x_x_x_x_x_x_x_cal_c1e5"><div><di
 v class="x_x_x_x_x_x_x_x_x_x_x_x_x_x_cal_3604"><div><div class="x_x_x_x_x_
 x_x_x_x_x_x_x_x_x_x_cal_4e56"><div><div class="x_x_x_x_x_x_x_x_x_x_x_x_x_x
 _x_x_cal_b1f3"><div><div class="x_x_x_x_x_x_x_x_x_x_x_x_x_x_x_x_x_cal_e8b9
 "><div><div></div></div></div></div></div></div></div></div></div></div></
 div></div></div></div></div></div></div></div></div></div></div></div></di
 v></div></div></div></div></div></div></div></div></div></div></div></div>
 </div></div></body></html>
LOCATION:Okreek Elementary\, 180 School St\, Okreek\, SD\, 57563
SUMMARY:Todd County School Board- Regular Meeting
END:VEVENT
BEGIN:VEVENT
DTSTAMP:20260424T171031Z
UID:f528208c-93c0-4b2d-90bb-b073c0346a7e
DTSTART:20260608T173000
DTEND:20260608T183000
DESCRIPTION:<html><head><meta http-equiv="Content-Type" content="text/html\
 ; charset=utf-8"></head><body><div class="cal_d726"><div><div class="x_cal
 _aa43"><div><div class="x_x_cal_237b"><div><div class="x_x_x_cal_8fec"><di
 v><div class="x_x_x_x_cal_f80c"><div><div class="x_x_x_x_x_cal_2204"><div>
 <div class="x_x_x_x_x_x_cal_e2b8"><div><div class="x_x_x_x_x_x_x_cal_125">
 <div><div class="x_x_x_x_x_x_x_x_cal_1eb6"><div><div class="x_x_x_x_x_x_x_
 x_x_cal_ccdf"><div><div class="x_x_x_x_x_x_x_x_x_x_cal_68e4"><div><div cla
 ss="x_x_x_x_x_x_x_x_x_x_x_cal_c68a"><div><div class="x_x_x_x_x_x_x_x_x_x_x
 _x_cal_69da"><div><div class="x_x_x_x_x_x_x_x_x_x_x_x_x_cal_c1e5"><div><di
 v class="x_x_x_x_x_x_x_x_x_x_x_x_x_x_cal_3604"><div><div class="x_x_x_x_x_
 x_x_x_x_x_x_x_x_x_x_cal_4e56"><div><div class="x_x_x_x_x_x_x_x_x_x_x_x_x_x
 _x_x_cal_b1f3"><div><div class="x_x_x_x_x_x_x_x_x_x_x_x_x_x_x_x_x_cal_e8b9
 "><div><div></div></div></div></div></div></div></div></div></div></div></
 div></div></div></div></div></div></div></div></div></div></div></div></di
 v></div></div></div></div></div></div></div></div></div></div></div></div>
 </div></div></body></html>
LOCATION:Curriculum Center
SUMMARY:Todd County School Board- Regular Meeting
END:VEVENT
BEGIN:VEVENT
DTSTAMP:20260424T171031Z
UID:2b2d00dd-1982-43d2-842c-c9197ef3c298
DTSTART:20260622T173000
DTEND:20260622T183000
DESCRIPTION:<html><head><meta http-equiv="Content-Type" content="text/html\
 ; charset=utf-8"></head><body><div class="cal_33a5"><div><div class="x_cal
 _d726"><div><div class="x_x_cal_aa43"><div><div class="x_x_x_cal_237b"><di
 v><div class="x_x_x_x_cal_8fec"><div><div class="x_x_x_x_x_cal_f80c"><div>
 <div class="x_x_x_x_x_x_cal_2204"><div><div class="x_x_x_x_x_x_x_cal_e2b8"
 ><div><div class="x_x_x_x_x_x_x_x_cal_125"><div><div class="x_x_x_x_x_x_x_
 x_x_cal_1eb6"><div><div class="x_x_x_x_x_x_x_x_x_x_cal_ccdf"><div><div cla
 ss="x_x_x_x_x_x_x_x_x_x_x_cal_68e4"><div><div class="x_x_x_x_x_x_x_x_x_x_x
 _x_cal_c68a"><div><div class="x_x_x_x_x_x_x_x_x_x_x_x_x_cal_69da"><div><di
 v class="x_x_x_x_x_x_x_x_x_x_x_x_x_x_cal_c1e5"><div><div class="x_x_x_x_x_
 x_x_x_x_x_x_x_x_x_x_cal_3604"><div><div class="x_x_x_x_x_x_x_x_x_x_x_x_x_x
 _x_x_cal_4e56"><div><div class="x_x_x_x_x_x_x_x_x_x_x_x_x_x_x_x_x_cal_b1f3
 "><div><div class="x_x_x_x_x_x_x_x_x_x_x_x_x_x_x_x_x_x_cal_e8b9"><div><div
 ></div></div></div></div></div></div></div></div></div></div></div></div><
 /div></div></div></div></div></div></div></div></div></div></div></div></d
 iv></div></div></div></div></div></div></div></div></div></div></div></div
 ></div></div></body></html>
LOCATION:Curriculum Center
SUMMARY:Todd County School Board- Regular Meeting
END:VEVENT
END:VCALENDAR
