BEGIN:VCALENDAR
VERSION:2.0
PRODID:icalendar-ruby
CALSCALE:GREGORIAN
BEGIN:VTIMEZONE
TZID:America/Chicago
BEGIN:DAYLIGHT
DTSTART:20260308T030000
TZOFFSETFROM:-0600
TZOFFSETTO:-0500
RRULE:FREQ=YEARLY;BYDAY=2SU;BYMONTH=3
TZNAME:CDT
END:DAYLIGHT
BEGIN:STANDARD
DTSTART:20261101T010000
TZOFFSETFROM:-0500
TZOFFSETTO:-0600
RRULE:FREQ=YEARLY;BYDAY=1SU;BYMONTH=11
TZNAME:CST
END:STANDARD
END:VTIMEZONE
BEGIN:VEVENT
DTSTAMP:20260424T232246Z
UID:574ebe8e-74d1-4bc1-b1da-ee8e0b10f7c1
DTSTART;VALUE=DATE:20260424
DTEND;VALUE=DATE:20260425
DESCRIPTION:<html><head><meta http-equiv="Content-Type" content="text/html\
 ; charset=utf-8"></head><body><div class="elementToProof" style="font-fami
 ly:Tahoma\,Geneva\,sans-serif\; font-size:12pt\; color:rgb(0\,0\,0)">Minut
 e to win it games vs. staff</div></body></html>
LOCATION:
SUMMARY:ABC Countdown: G is for Games
END:VEVENT
BEGIN:VEVENT
DTSTAMP:20260424T232246Z
UID:6b79e838-df6f-4226-bc50-561f58ccdbd6
DTSTART;VALUE=DATE:20260427
DTEND;VALUE=DATE:20260428
DESCRIPTION:<html><head><meta http-equiv="Content-Type" content="text/html\
 ; charset=utf-8"></head><body><div class="elementToProof" style="font-fami
 ly:Tahoma\,Geneva\,sans-serif\; font-size:12pt\; color:rgb(0\,0\,0)">Hula 
 hoop activities in PE</div></body></html>
LOCATION:
SUMMARY:ABC Countdown: H is for Hula Hoop
END:VEVENT
BEGIN:VEVENT
DTSTAMP:20260424T232246Z
UID:610e7ef5-dad5-4ca3-8eff-194855dbe1e1
DTSTART:20260427T183000
DTEND:20260427T200000
DESCRIPTION:<html><head><meta http-equiv="Content-Type" content="text/html\
 ; charset=utf-8"><meta name="ProgId" content="Word.Document"><meta name="G
 enerator" content="Microsoft Word 15"><meta name="Originator" content="Mic
 rosoft Word 15"><style><!--@font-face	{font-family:"Cambria Math"}@font-fa
 ce	{font-family:Calibri}p.MsoNormal\, li.MsoNormal\, div.MsoNormal	{margin
 :0in\;	margin-bottom:.0001pt\;	font-size:11.0pt\;	font-family:"Calibri"\,s
 ans-serif}a:link\, span.MsoHyperlink	{color:#0563C1\;	text-decoration:unde
 rline}a:visited\, span.MsoHyperlinkFollowed	{color:#954F72\;	text-decorati
 on:underline}span.EmailStyle17	{font-family:"Calibri"\,sans-serif\;	color:
 windowtext}.MsoChpDefault	{font-family:"Calibri"\,sans-serif}@page WordSec
 tion1	{margin:1.0in 1.0in 1.0in 1.0in}div.WordSection1	{}--></style></head
 ><body lang="EN-US" link="#0563C1" vlink="#954F72" style=""><div class="Wo
 rdSection1"><p class="MsoNormal">&nbsp\;</p></div></body></html>
LOCATION:
SUMMARY:PTA Meeting
END:VEVENT
BEGIN:VEVENT
DTSTAMP:20260424T232246Z
UID:30028026-084e-4226-b8a7-79e78ec6fd3c
DTSTART;VALUE=DATE:20260428
DTEND;VALUE=DATE:20260429
DESCRIPTION:<html><head><meta http-equiv="Content-Type" content="text/html\
 ; charset=utf-8"></head><body><div class="elementToProof" style="font-fami
 ly:Tahoma\,Geneva\,sans-serif\; font-size:12pt\; color:rgb(0\,0\,0)">Enjoy
  a sweet treat with your class</div></body></html>
LOCATION:
SUMMARY:ABC Countdown: I is for Ice Cream
END:VEVENT
BEGIN:VEVENT
DTSTAMP:20260424T232246Z
UID:570677af-aab8-45b0-a18f-f8d24d9cc9ff
DTSTART;VALUE=DATE:20260428
DTEND;VALUE=DATE:20260429
DESCRIPTION:
LOCATION:
SUMMARY:Bus Driver appreciation day
END:VEVENT
BEGIN:VEVENT
DTSTAMP:20260424T232246Z
UID:1746009f-695e-4302-8145-38d90573355e
DTSTART;VALUE=DATE:20260429
DTEND;VALUE=DATE:20260430
DESCRIPTION:<html><head><meta http-equiv="Content-Type" content="text/html\
 ; charset=utf-8"></head><body><div class="elementToProof" style="font-fami
 ly:Tahoma\,Geneva\,sans-serif\; font-size:12pt\; color:rgb(0\,0\,0)">Wear 
 your favorite PJs</div></body></html>
LOCATION:
SUMMARY:ABC Countdown: J is for Jammies
END:VEVENT
BEGIN:VEVENT
DTSTAMP:20260424T232246Z
UID:06c13401-9ca1-49bc-a7d3-60a99bd4b3b8
DTSTART;VALUE=DATE:20260430
DTEND;VALUE=DATE:20260501
DESCRIPTION:<html><head><meta http-equiv="Content-Type" content="text/html\
 ; charset=utf-8"></head><body><div class="elementToProof" style="font-fami
 ly:Tahoma\,Geneva\,sans-serif\; font-size:12pt\; color:rgb(0\,0\,0)">Let's
  sing like superstars!</div></body></html>
LOCATION:
SUMMARY:ABC Countdown: K is for Kindergarten Karaoke
END:VEVENT
BEGIN:VEVENT
DTSTAMP:20260424T232246Z
UID:6a759d95-f6fb-42d1-b3ef-0f2b97c0de3c
DTSTART;VALUE=DATE:20260430
DTEND;VALUE=DATE:20260501
DESCRIPTION:
LOCATION:
SUMMARY:LIM Celebration (CHS athletes & rock painting)/LIM Shirt day
END:VEVENT
BEGIN:VEVENT
DTSTAMP:20260424T232246Z
UID:3e19dcb4-9b18-4d05-b630-cba6af9729cc
DTSTART;VALUE=DATE:20260501
DTEND;VALUE=DATE:20260502
DESCRIPTION:<html><head><meta http-equiv="Content-Type" content="text/html\
 ; charset=utf-8"></head><body><div class="elementToProof" style="font-fami
 ly:Tahoma\,Geneva\,sans-serif\; font-size:12pt\; color:rgb(0\,0\,0)">Enjoy
  a mini vacation at your class luau</div></body></html>
LOCATION:
SUMMARY:ABC Countdown: L is for Luau
END:VEVENT
BEGIN:VEVENT
DTSTAMP:20260424T232246Z
UID:9f9d64a3-29be-41d6-9dfe-cb267473842c
DTSTART;VALUE=DATE:20260501
DTEND;VALUE=DATE:20260502
DESCRIPTION:
LOCATION:
SUMMARY:First Step Kindergarten Registration opens online
END:VEVENT
BEGIN:VEVENT
DTSTAMP:20260424T232246Z
UID:f55feda9-9167-47e8-8a82-49ae2134e704
DTSTART:20260501T121000
DTEND:20260501T121000
DESCRIPTION:<html><head><meta http-equiv="Content-Type" content="text/html\
 ; charset=utf-8"></head><body><div class="elementToProof" style="font-fami
 ly:Tahoma\,Geneva\,sans-serif\; font-size:12pt\; color:rgb(0\,0\,0)">2025-
 26</div><div class="elementToProof" style="font-family:Tahoma\,Geneva\,san
 s-serif\; font-size:12pt\; color:rgb(0\,0\,0)">9/12 - PLC</div><div class=
 "elementToProof" style="font-family:Tahoma\,Geneva\,sans-serif\; font-size
 :12pt\; color:rgb(0\,0\,0)">9/26 - PLC<br>11/7 - PLC</div><div class="elem
 entToProof" style="font-family:Tahoma\,Geneva\,sans-serif\; font-size:12pt
 \; color:rgb(0\,0\,0)">11/21 - LIM</div><div class="elementToProof" style=
 "font-family:Tahoma\,Geneva\,sans-serif\; font-size:12pt\; color:rgb(0\,0\
 ,0)">12/19 - GCN</div><div class="elementToProof" style="font-family:Tahom
 a\,Geneva\,sans-serif\; font-size:12pt\; color:rgb(0\,0\,0)">1/5 - Common 
 Assessments/Empower</div><div class="elementToProof" style="font-family:Ta
 homa\,Geneva\,sans-serif\; font-size:12pt\; color:rgb(0\,0\,0)">1/16 - PLC
 </div><div class="elementToProof" style="font-family:Tahoma\,Geneva\,sans-
 serif\; font-size:12pt\; color:rgb(0\,0\,0)">1/30 - K-2\; Specials\, Spec 
 Ed Articulation</div><div class="elementToProof" style="font-family:Tahoma
 \,Geneva\,sans-serif\; font-size:12pt\; color:rgb(0\,0\,0)">2/13 - PLC</di
 v><div class="elementToProof" style="font-family:Tahoma\,Geneva\,sans-seri
 f\; font-size:12pt\; color:rgb(0\,0\,0)">2/27 - LIM/5Essentials</div><div 
 class="elementToProof" style="font-family:Tahoma\,Geneva\,sans-serif\; fon
 t-size:12pt\; color:rgb(0\,0\,0)">3/27 - PLC</div><div class="elementToPro
 of" style="font-family:Tahoma\,Geneva\,sans-serif\; font-size:12pt\; color
 :rgb(0\,0\,0)">4/17 - PLC</div><div class="elementToProof" style="font-fam
 ily:Tahoma\,Geneva\,sans-serif\; font-size:12pt\; color:rgb(0\,0\,0)">5/1 
 - PLC</div><div class="elementToProof" style="font-family:Tahoma\,Geneva\,
 sans-serif\; font-size:12pt\; color:rgb(0\,0\,0)">5/15 -&nbsp\;</div><div 
 class="elementToProof" style="font-family:Tahoma\,Geneva\,sans-serif\; fon
 t-size:12pt\; color:rgb(0\,0\,0)"><br></div><div class="elementToProof" st
 yle="font-family:Tahoma\,Geneva\,sans-serif\; font-size:12pt\; color:rgb(0
 \,0\,0)"><br></div></body></html>
LOCATION:
SUMMARY:Early Dismissal (12:10)
END:VEVENT
BEGIN:VEVENT
DTSTAMP:20260424T232246Z
UID:0be63822-77dc-4b44-9828-f7c4d7cdd401
DTSTART;VALUE=DATE:20260504
DTEND;VALUE=DATE:20260505
DESCRIPTION:<html><head><meta http-equiv="Content-Type" content="text/html\
 ; charset=utf-8"></head><body><div class="elementToProof" style="font-fami
 ly:Tahoma\,Geneva\,sans-serif\; font-size:12pt\; color:rgb(0\,0\,0)">Read 
 books by Mo Willems</div></body></html>
LOCATION:
SUMMARY:ABC Countdown: M is for Mo Willems
END:VEVENT
BEGIN:VEVENT
DTSTAMP:20260424T232246Z
UID:d59ed54c-a691-448c-a4f7-66556b80aef5
DTSTART;VALUE=DATE:20260504
DTEND;VALUE=DATE:20260509
DESCRIPTION:
LOCATION:
SUMMARY:Staff Appreciation Week
END:VEVENT
BEGIN:VEVENT
DTSTAMP:20260424T232246Z
UID:1224b5a3-3d25-4440-a137-a2f0cd783838
DTSTART;VALUE=DATE:20260505
DTEND;VALUE=DATE:20260506
DESCRIPTION:<html><head><meta http-equiv="Content-Type" content="text/html\
 ; charset=utf-8"></head><body><div class="elementToProof" style="font-fami
 ly:Tahoma\,Geneva\,sans-serif\; font-size:12pt\; color:rgb(0\,0\,0)">Spend
  time in nature</div></body></html>
LOCATION:
SUMMARY:ABC Countdown: N is for Nature
END:VEVENT
BEGIN:VEVENT
DTSTAMP:20260424T232246Z
UID:ac0ca0d3-5eeb-4a61-9fd3-2ac2c2a23e9a
DTSTART;VALUE=DATE:20260506
DTEND;VALUE=DATE:20260507
DESCRIPTION:<html><head><meta http-equiv="Content-Type" content="text/html\
 ; charset=utf-8"></head><body><div class="elementToProof" style="font-fami
 ly:Tahoma\,Geneva\,sans-serif\; font-size:12pt\; color:rgb(0\,0\,0)">Wear 
 black and white</div></body></html>
LOCATION:
SUMMARY:ABC Countdown: O is for Oreo
END:VEVENT
BEGIN:VEVENT
DTSTAMP:20260424T232246Z
UID:bbb878ed-f71c-4b5c-b43e-07fb2cdf4bea
DTSTART;VALUE=DATE:20260506
DTEND;VALUE=DATE:20260507
DESCRIPTION:
LOCATION:
SUMMARY:Nurses Appreciation Day
END:VEVENT
BEGIN:VEVENT
DTSTAMP:20260424T232246Z
UID:a58bf641-a13a-4d2b-8ef5-915e420ee290
DTSTART;VALUE=DATE:20260507
DTEND;VALUE=DATE:20260508
DESCRIPTION:<html><head><meta http-equiv="Content-Type" content="text/html\
 ; charset=utf-8"></head><body><div class="elementToProof" style="font-fami
 ly:Tahoma\,Geneva\,sans-serif\; font-size:12pt\; color:rgb(0\,0\,0)">Domin
 o's class field trips this week</div></body></html>
LOCATION:
SUMMARY:ABC Countdown: P is for Pizza
END:VEVENT
BEGIN:VEVENT
DTSTAMP:20260424T232246Z
UID:7f1e0ec9-d3a8-463e-92d5-f642a120cea4
DTSTART;VALUE=DATE:20260507
DTEND;VALUE=DATE:20260509
DESCRIPTION:
LOCATION:
SUMMARY:LIM Shirt day
END:VEVENT
BEGIN:VEVENT
DTSTAMP:20260424T232246Z
UID:77a924e7-0acf-42e3-937d-1cc906a80acf
DTSTART;VALUE=DATE:20260508
DTEND;VALUE=DATE:20260509
DESCRIPTION:<html><head><meta http-equiv="Content-Type" content="text/html\
 ; charset=utf-8"></head><body><div class="elementToProof" style="font-fami
 ly:Tahoma\,Geneva\,sans-serif\; font-size:12pt\; color:rgb(0\,0\,0)">Racin
 g games in PE</div></body></html>
LOCATION:
SUMMARY:ABC Countdown: Q is for Quick Feet
END:VEVENT
BEGIN:VEVENT
DTSTAMP:20260424T232246Z
UID:c11cb92d-5565-49b9-8e7c-8ac9d8672cdb
DTSTART;VALUE=DATE:20260511
DTEND;VALUE=DATE:20260512
DESCRIPTION:<html><head><meta http-equiv="Content-Type" content="text/html\
 ; charset=utf-8"></head><body><div class="elementToProof" style="font-fami
 ly:Tahoma\,Geneva\,sans-serif\; font-size:12pt\; color:rgb(0\,0\,0)">Wear 
 your class color</div></body></html>
LOCATION:
SUMMARY:ABC Countdown: R is for Rainbow
END:VEVENT
BEGIN:VEVENT
DTSTAMP:20260424T232246Z
UID:35d0af87-ca57-4799-9e09-98e2a4046bb3
DTSTART;VALUE=DATE:20260512
DTEND;VALUE=DATE:20260513
DESCRIPTION:<html><head><meta http-equiv="Content-Type" content="text/html\
 ; charset=utf-8"></head><body><div class="elementToProof" style="font-fami
 ly:Tahoma\,Geneva\,sans-serif\; font-size:12pt\; color:rgb(0\,0\,0)">Wear 
 red and gold!&nbsp\;</div><div class="elementToProof" style="font-family:T
 ahoma\,Geneva\,sans-serif\; font-size:12pt\; color:rgb(0\,0\,0)">Red and g
 old\, let's go!</div></body></html>
LOCATION:
SUMMARY:ABC Countdown: S is for School Spirit
END:VEVENT
BEGIN:VEVENT
DTSTAMP:20260424T232246Z
UID:881fc2e9-9d10-49a1-a624-76291c274ed9
DTSTART;VALUE=DATE:20260513
DTEND;VALUE=DATE:20260514
DESCRIPTION:<html><head><meta http-equiv="Content-Type" content="text/html\
 ; charset=utf-8"></head><body><div class="elementToProof" style="font-fami
 ly:Tahoma\,Geneva\,sans-serif\; font-size:12pt\; color:rgb(0\,0\,0)">Class
  trips to 1<sup>st</sup>&nbsp\;grade and park</div></body></html>
LOCATION:
SUMMARY:ABC Countdown: T is for Take Two Trips
END:VEVENT
BEGIN:VEVENT
DTSTAMP:20260424T232246Z
UID:4885f74b-98fc-475a-ae2f-7a813d8f85df
DTSTART;VALUE=DATE:20260514
DTEND;VALUE=DATE:20260515
DESCRIPTION:<html><head><meta http-equiv="Content-Type" content="text/html\
 ; charset=utf-8"></head><body><div class="elementToProof" style="font-fami
 ly:Tahoma\,Geneva\,sans-serif\; font-size:12pt\; color:rgb(0\,0\,0)">Celeb
 rate summer birthdays</div></body></html>
LOCATION:
SUMMARY:ABC Countdown: U is for Unbirthday
END:VEVENT
BEGIN:VEVENT
DTSTAMP:20260424T232246Z
UID:d61b45c5-207f-42ff-ae1b-c3edd6403e48
DTSTART:20260514T160000
DTEND:20260514T200000
DESCRIPTION:
LOCATION:
SUMMARY:Domino's Pizza Fundraising Night
END:VEVENT
BEGIN:VEVENT
DTSTAMP:20260424T232246Z
UID:e539f2ed-a402-4c07-b2e6-937feeba8b12
DTSTART;VALUE=DATE:20260515
DTEND;VALUE=DATE:20260516
DESCRIPTION:<html><head><meta http-equiv="Content-Type" content="text/html\
 ; charset=utf-8"></head><body><div class="elementToProof" style="font-fami
 ly:Tahoma\,Geneva\,sans-serif\; font-size:12pt\; color:rgb(0\,0\,0)">VIP a
 ccess to the red carpet</div></body></html>
LOCATION:
SUMMARY:ABC Countdown: V is for VIP
END:VEVENT
BEGIN:VEVENT
DTSTAMP:20260424T232246Z
UID:2593503e-df2e-4c36-8eb6-19131e82ff54
DTSTART:20260515T105500
DTEND:20260515T105500
DESCRIPTION:
LOCATION:
SUMMARY:Half Day Student Attendance
END:VEVENT
BEGIN:VEVENT
DTSTAMP:20260424T232246Z
UID:77db04d8-cec7-4364-a2fe-75e1fd57864b
DTSTART:20260515T200000
DTEND:20260515T210000
DESCRIPTION:
LOCATION:
SUMMARY:CHS Graduation
END:VEVENT
BEGIN:VEVENT
DTSTAMP:20260424T232246Z
UID:7e8c2ecd-6da6-4310-a404-8338659d34e5
DTSTART;VALUE=DATE:20260518
DTEND;VALUE=DATE:20260519
DESCRIPTION:<html><head><meta http-equiv="Content-Type" content="text/html\
 ; charset=utf-8"></head><body><div class="elementToProof" style="font-fami
 ly:Tahoma\,Geneva\,sans-serif\; font-size:12pt\; color:rgb(0\,0\,0)">Bring
  your swimsuits for water activities</div></body></html>
LOCATION:
SUMMARY:ABC Countdown: W is for Water
END:VEVENT
BEGIN:VEVENT
DTSTAMP:20260424T232246Z
UID:14da76ce-ae32-4439-9407-0ce0a371894b
DTSTART;VALUE=DATE:20260519
DTEND;VALUE=DATE:20260520
DESCRIPTION:<html><head><meta http-equiv="Content-Type" content="text/html\
 ; charset=utf-8"></head><body><div class="elementToProof" style="font-fami
 ly:Tahoma\,Geneva\,sans-serif\; font-size:12pt\; color:rgb(0\,0\,0)">Enjoy
  extra time outside</div></body></html>
LOCATION:
SUMMARY:ABC Countdown: X is for Xtra Recess
END:VEVENT
BEGIN:VEVENT
DTSTAMP:20260424T232246Z
UID:5a987462-7658-455d-b212-392b95aeaaf0
DTSTART:20260519T130000
DTEND:20260519T133000
DESCRIPTION:
LOCATION:
SUMMARY:Year End Celebration/LIM Shirt day
END:VEVENT
BEGIN:VEVENT
DTSTAMP:20260424T232246Z
UID:fcc9e6f1-d5b6-4c96-a700-12da6ad2f706
DTSTART;VALUE=DATE:20260520
DTEND;VALUE=DATE:20260521
DESCRIPTION:<html><head><meta http-equiv="Content-Type" content="text/html\
 ; charset=utf-8"></head><body><div class="elementToProof" style="font-fami
 ly:Tahoma\,Geneva\,sans-serif\; font-size:12pt\; color:rgb(0\,0\,0)">One l
 ast class party &amp\; school wide celebration at Mark Twain</div></body><
 /html>
LOCATION:
SUMMARY:ABC Countdown: Y is for Year End Celebration
END:VEVENT
BEGIN:VEVENT
DTSTAMP:20260424T232246Z
UID:faf01bb6-bfb6-421d-8282-cf3279bdd15b
DTSTART;VALUE=DATE:20260520
DTEND;VALUE=DATE:20260521
DESCRIPTION:
LOCATION:
SUMMARY:End of 4th Quarter - Last Student Attendance Day
END:VEVENT
BEGIN:VEVENT
DTSTAMP:20260424T232246Z
UID:0c66d138-cf8d-4954-87e3-2f7b7ec903a9
DTSTART:20260520T183000
DTEND:20260520T200000
DESCRIPTION:
LOCATION:
SUMMARY:Board of Education Meeting
END:VEVENT
BEGIN:VEVENT
DTSTAMP:20260424T232246Z
UID:40d7b5e6-081e-4c8c-8974-4b4416cd6850
DTSTART;VALUE=DATE:20260521
DTEND;VALUE=DATE:20260522
DESCRIPTION:<html><head><meta http-equiv="Content-Type" content="text/html\
 ; charset=utf-8"></head><body><div class="elementToProof" style="font-fami
 ly:Tahoma\,Geneva\,sans-serif\; font-size:12pt\; color:rgb(0\,0\,0)">Peace
  out kindergarten and preschool</div></body></html>
LOCATION:
SUMMARY:ABC Countdown: Z is for Zoom into Summer
END:VEVENT
BEGIN:VEVENT
DTSTAMP:20260424T232246Z
UID:4097f67a-e9c5-4b57-a051-a7e375b28e13
DTSTART;VALUE=DATE:20260521
DTEND;VALUE=DATE:20260522
DESCRIPTION:
LOCATION:
SUMMARY:Progress Reports available on Empower
END:VEVENT
BEGIN:VEVENT
DTSTAMP:20260424T232246Z
UID:fd33ef3f-31af-4d5e-987c-7cef6538847f
DTSTART:20260521T121000
DTEND:20260521T121000
DESCRIPTION:<meta http-equiv="Content-Type" content="text/html\; charset=ut
 f-8"><div class="elementToProof" style="font-family:Tahoma\,Geneva\,sans-s
 erif\; font-size:12pt\; color:rgb(0\,0\,0)"><br></div>
LOCATION:
SUMMARY:Early Dismissal (12:10) - LAST DAY OF SCHOOL!
END:VEVENT
BEGIN:VEVENT
DTSTAMP:20260424T232246Z
UID:90403868-675a-4c41-a4e1-ba35c26e8014
DTSTART:20260525T183000
DTEND:20260525T200000
DESCRIPTION:<html><head><meta http-equiv="Content-Type" content="text/html\
 ; charset=utf-8"><meta name="ProgId" content="Word.Document"><meta name="G
 enerator" content="Microsoft Word 15"><meta name="Originator" content="Mic
 rosoft Word 15"><style><!--@font-face	{font-family:"Cambria Math"}@font-fa
 ce	{font-family:Calibri}p.MsoNormal\, li.MsoNormal\, div.MsoNormal	{margin
 :0in\;	margin-bottom:.0001pt\;	font-size:11.0pt\;	font-family:"Calibri"\,s
 ans-serif}a:link\, span.MsoHyperlink	{color:#0563C1\;	text-decoration:unde
 rline}a:visited\, span.MsoHyperlinkFollowed	{color:#954F72\;	text-decorati
 on:underline}span.EmailStyle17	{font-family:"Calibri"\,sans-serif\;	color:
 windowtext}.MsoChpDefault	{font-family:"Calibri"\,sans-serif}@page WordSec
 tion1	{margin:1.0in 1.0in 1.0in 1.0in}div.WordSection1	{}--></style></head
 ><body lang="EN-US" link="#0563C1" vlink="#954F72" style=""><div class="Wo
 rdSection1"><p class="MsoNormal">&nbsp\;</p></div></body></html>
LOCATION:
SUMMARY:PTA Meeting
END:VEVENT
BEGIN:VEVENT
DTSTAMP:20260424T232246Z
UID:70b6b1ca-8a5a-437d-b69f-84612c0dc40c
DTSTART:20260617T183000
DTEND:20260617T200000
DESCRIPTION:
LOCATION:
SUMMARY:Board of Education Meeting
END:VEVENT
BEGIN:VEVENT
DTSTAMP:20260424T232246Z
UID:fec7abab-19bb-4b3c-b333-dc773d411ce7
DTSTART:20260618T160000
DTEND:20260618T200000
DESCRIPTION:
LOCATION:
SUMMARY:Domino's Pizza Fundraising Night
END:VEVENT
BEGIN:VEVENT
DTSTAMP:20260424T232246Z
UID:38e614f1-e199-401b-a022-781aa38aa03f
DTSTART:20260622T183000
DTEND:20260622T200000
DESCRIPTION:<html><head><meta http-equiv="Content-Type" content="text/html\
 ; charset=utf-8"><meta name="ProgId" content="Word.Document"><meta name="G
 enerator" content="Microsoft Word 15"><meta name="Originator" content="Mic
 rosoft Word 15"><style><!--@font-face	{font-family:"Cambria Math"}@font-fa
 ce	{font-family:Calibri}p.MsoNormal\, li.MsoNormal\, div.MsoNormal	{margin
 :0in\;	margin-bottom:.0001pt\;	font-size:11.0pt\;	font-family:"Calibri"\,s
 ans-serif}a:link\, span.MsoHyperlink	{color:#0563C1\;	text-decoration:unde
 rline}a:visited\, span.MsoHyperlinkFollowed	{color:#954F72\;	text-decorati
 on:underline}span.EmailStyle17	{font-family:"Calibri"\,sans-serif\;	color:
 windowtext}.MsoChpDefault	{font-family:"Calibri"\,sans-serif}@page WordSec
 tion1	{margin:1.0in 1.0in 1.0in 1.0in}div.WordSection1	{}--></style></head
 ><body lang="EN-US" link="#0563C1" vlink="#954F72" style=""><div class="Wo
 rdSection1"><p class="MsoNormal">&nbsp\;</p></div></body></html>
LOCATION:
SUMMARY:PTA Meeting
END:VEVENT
BEGIN:VEVENT
DTSTAMP:20260424T232246Z
UID:da5677b1-9b51-4fe4-96f4-d16987144a94
DTSTART:20260715T183000
DTEND:20260715T200000
DESCRIPTION:
LOCATION:
SUMMARY:Board of Education Meeting
END:VEVENT
BEGIN:VEVENT
DTSTAMP:20260424T232246Z
UID:af762eab-6147-47b2-bc08-537951d4a337
DTSTART:20260716T160000
DTEND:20260716T200000
DESCRIPTION:
LOCATION:
SUMMARY:Domino's Pizza Fundraising Night
END:VEVENT
BEGIN:VEVENT
DTSTAMP:20260424T232246Z
UID:c35ab4fd-aa36-4dba-a7ce-6110751d61f3
DTSTART:20260727T183000
DTEND:20260727T200000
DESCRIPTION:<html><head><meta http-equiv="Content-Type" content="text/html\
 ; charset=utf-8"><meta name="ProgId" content="Word.Document"><meta name="G
 enerator" content="Microsoft Word 15"><meta name="Originator" content="Mic
 rosoft Word 15"><style><!--@font-face	{font-family:"Cambria Math"}@font-fa
 ce	{font-family:Calibri}p.MsoNormal\, li.MsoNormal\, div.MsoNormal	{margin
 :0in\;	margin-bottom:.0001pt\;	font-size:11.0pt\;	font-family:"Calibri"\,s
 ans-serif}a:link\, span.MsoHyperlink	{color:#0563C1\;	text-decoration:unde
 rline}a:visited\, span.MsoHyperlinkFollowed	{color:#954F72\;	text-decorati
 on:underline}span.EmailStyle17	{font-family:"Calibri"\,sans-serif\;	color:
 windowtext}.MsoChpDefault	{font-family:"Calibri"\,sans-serif}@page WordSec
 tion1	{margin:1.0in 1.0in 1.0in 1.0in}div.WordSection1	{}--></style></head
 ><body lang="EN-US" link="#0563C1" vlink="#954F72" style=""><div class="Wo
 rdSection1"><p class="MsoNormal">&nbsp\;</p></div></body></html>
LOCATION:
SUMMARY:PTA Meeting
END:VEVENT
BEGIN:VEVENT
DTSTAMP:20260424T232246Z
UID:56653267-1f1d-42ac-b9ab-9e410940cd09
DTSTART:20260819T183000
DTEND:20260819T200000
DESCRIPTION:
LOCATION:
SUMMARY:Board of Education Meeting
END:VEVENT
BEGIN:VEVENT
DTSTAMP:20260424T232246Z
UID:873bb38e-8210-4a81-bfc3-c484d792d3ce
DTSTART:20260820T160000
DTEND:20260820T200000
DESCRIPTION:
LOCATION:
SUMMARY:Domino's Pizza Fundraising Night
END:VEVENT
BEGIN:VEVENT
DTSTAMP:20260424T232246Z
UID:78843285-58bb-467a-88ca-eae90197743b
DTSTART:20260824T183000
DTEND:20260824T200000
DESCRIPTION:<html><head><meta http-equiv="Content-Type" content="text/html\
 ; charset=utf-8"><meta name="ProgId" content="Word.Document"><meta name="G
 enerator" content="Microsoft Word 15"><meta name="Originator" content="Mic
 rosoft Word 15"><style><!--@font-face	{font-family:"Cambria Math"}@font-fa
 ce	{font-family:Calibri}p.MsoNormal\, li.MsoNormal\, div.MsoNormal	{margin
 :0in\;	margin-bottom:.0001pt\;	font-size:11.0pt\;	font-family:"Calibri"\,s
 ans-serif}a:link\, span.MsoHyperlink	{color:#0563C1\;	text-decoration:unde
 rline}a:visited\, span.MsoHyperlinkFollowed	{color:#954F72\;	text-decorati
 on:underline}span.EmailStyle17	{font-family:"Calibri"\,sans-serif\;	color:
 windowtext}.MsoChpDefault	{font-family:"Calibri"\,sans-serif}@page WordSec
 tion1	{margin:1.0in 1.0in 1.0in 1.0in}div.WordSection1	{}--></style></head
 ><body lang="EN-US" link="#0563C1" vlink="#954F72" style=""><div class="Wo
 rdSection1"><p class="MsoNormal">&nbsp\;</p></div></body></html>
LOCATION:
SUMMARY:PTA Meeting
END:VEVENT
BEGIN:VEVENT
DTSTAMP:20260424T232246Z
UID:bbea5289-c092-421d-b439-1218cf83e818
DTSTART:20260916T183000
DTEND:20260916T200000
DESCRIPTION:
LOCATION:
SUMMARY:Board of Education Meeting
END:VEVENT
BEGIN:VEVENT
DTSTAMP:20260424T232246Z
UID:87db5595-98ad-4e55-949f-c5eea68596fa
DTSTART:20260917T160000
DTEND:20260917T200000
DESCRIPTION:
LOCATION:
SUMMARY:Domino's Pizza Fundraising Night
END:VEVENT
BEGIN:VEVENT
DTSTAMP:20260424T232246Z
UID:21728180-8360-4780-8e15-fa5088647c9c
DTSTART:20260928T183000
DTEND:20260928T200000
DESCRIPTION:<html><head><meta http-equiv="Content-Type" content="text/html\
 ; charset=utf-8"><meta name="ProgId" content="Word.Document"><meta name="G
 enerator" content="Microsoft Word 15"><meta name="Originator" content="Mic
 rosoft Word 15"><style><!--@font-face	{font-family:"Cambria Math"}@font-fa
 ce	{font-family:Calibri}p.MsoNormal\, li.MsoNormal\, div.MsoNormal	{margin
 :0in\;	margin-bottom:.0001pt\;	font-size:11.0pt\;	font-family:"Calibri"\,s
 ans-serif}a:link\, span.MsoHyperlink	{color:#0563C1\;	text-decoration:unde
 rline}a:visited\, span.MsoHyperlinkFollowed	{color:#954F72\;	text-decorati
 on:underline}span.EmailStyle17	{font-family:"Calibri"\,sans-serif\;	color:
 windowtext}.MsoChpDefault	{font-family:"Calibri"\,sans-serif}@page WordSec
 tion1	{margin:1.0in 1.0in 1.0in 1.0in}div.WordSection1	{}--></style></head
 ><body lang="EN-US" link="#0563C1" vlink="#954F72" style=""><div class="Wo
 rdSection1"><p class="MsoNormal">&nbsp\;</p></div></body></html>
LOCATION:
SUMMARY:PTA Meeting
END:VEVENT
BEGIN:VEVENT
DTSTAMP:20260424T232246Z
UID:e107c6ed-3f63-49e9-89fc-1d7ce27f64f4
DTSTART;VALUE=DATE:20261015
DTEND;VALUE=DATE:20261016
DESCRIPTION:
LOCATION:
SUMMARY:Deadline to turn in physicals & immunizations 
END:VEVENT
BEGIN:VEVENT
DTSTAMP:20260424T232246Z
UID:142fbf6a-4856-4ebf-8194-c38eb46e7cda
DTSTART:20261015T160000
DTEND:20261015T200000
DESCRIPTION:
LOCATION:
SUMMARY:Domino's Pizza Fundraising Night
END:VEVENT
BEGIN:VEVENT
DTSTAMP:20260424T232246Z
UID:83f31d32-d0b1-4499-a943-e741bdf334fd
DTSTART:20261021T183000
DTEND:20261021T200000
DESCRIPTION:
LOCATION:
SUMMARY:Board of Education Meeting
END:VEVENT
BEGIN:VEVENT
DTSTAMP:20260424T232246Z
UID:a7f5b109-babc-46bf-a6e0-b0c5b7b9a924
DTSTART:20261026T183000
DTEND:20261026T200000
DESCRIPTION:<html><head><meta http-equiv="Content-Type" content="text/html\
 ; charset=utf-8"><meta name="ProgId" content="Word.Document"><meta name="G
 enerator" content="Microsoft Word 15"><meta name="Originator" content="Mic
 rosoft Word 15"><style><!--@font-face	{font-family:"Cambria Math"}@font-fa
 ce	{font-family:Calibri}p.MsoNormal\, li.MsoNormal\, div.MsoNormal	{margin
 :0in\;	margin-bottom:.0001pt\;	font-size:11.0pt\;	font-family:"Calibri"\,s
 ans-serif}a:link\, span.MsoHyperlink	{color:#0563C1\;	text-decoration:unde
 rline}a:visited\, span.MsoHyperlinkFollowed	{color:#954F72\;	text-decorati
 on:underline}span.EmailStyle17	{font-family:"Calibri"\,sans-serif\;	color:
 windowtext}.MsoChpDefault	{font-family:"Calibri"\,sans-serif}@page WordSec
 tion1	{margin:1.0in 1.0in 1.0in 1.0in}div.WordSection1	{}--></style></head
 ><body lang="EN-US" link="#0563C1" vlink="#954F72" style=""><div class="Wo
 rdSection1"><p class="MsoNormal">&nbsp\;</p></div></body></html>
LOCATION:
SUMMARY:PTA Meeting
END:VEVENT
BEGIN:VEVENT
DTSTAMP:20260424T232246Z
UID:2a4e4d9c-a367-463a-a05c-f813c5cd93b7
DTSTART:20261031T131500
DTEND:20261031T134500
DESCRIPTION:
LOCATION:
SUMMARY:Quarterly celebration (Costume parade)
END:VEVENT
BEGIN:VEVENT
DTSTAMP:20260424T232246Z
UID:c1c2f2e5-f280-4296-85aa-1f6c61fc8a16
DTSTART;VALUE=DATE:20261118
DTEND;VALUE=DATE:20261119
DESCRIPTION:<html><head><meta http-equiv="Content-Type" content="text/html\
 ; charset=utf-8"></head><body><div class="elementToProof" style="font-fami
 ly:Tahoma\,Geneva\,sans-serif\; font-size:12pt\; color:rgb(0\,0\,0)\; back
 ground-color:rgb(255\,255\,255)"><br></div></body></html>
LOCATION:
SUMMARY:National ESP day
END:VEVENT
BEGIN:VEVENT
DTSTAMP:20260424T232246Z
UID:f9276d49-aac8-4eb4-a8dd-c2e9660f3c9f
DTSTART:20261118T183000
DTEND:20261118T200000
DESCRIPTION:
LOCATION:
SUMMARY:Board of Education Meeting
END:VEVENT
BEGIN:VEVENT
DTSTAMP:20260424T232246Z
UID:7927f39f-7448-4c9e-a7ec-890c187f4e58
DTSTART:20261119T160000
DTEND:20261119T200000
DESCRIPTION:
LOCATION:
SUMMARY:Domino's Pizza Fundraising Night
END:VEVENT
BEGIN:VEVENT
DTSTAMP:20260424T232246Z
UID:1764e609-a2b2-488a-8667-f4e8e8909b6f
DTSTART:20261123T183000
DTEND:20261123T200000
DESCRIPTION:<html><head><meta http-equiv="Content-Type" content="text/html\
 ; charset=utf-8"><meta name="ProgId" content="Word.Document"><meta name="G
 enerator" content="Microsoft Word 15"><meta name="Originator" content="Mic
 rosoft Word 15"><style><!--@font-face	{font-family:"Cambria Math"}@font-fa
 ce	{font-family:Calibri}p.MsoNormal\, li.MsoNormal\, div.MsoNormal	{margin
 :0in\;	margin-bottom:.0001pt\;	font-size:11.0pt\;	font-family:"Calibri"\,s
 ans-serif}a:link\, span.MsoHyperlink	{color:#0563C1\;	text-decoration:unde
 rline}a:visited\, span.MsoHyperlinkFollowed	{color:#954F72\;	text-decorati
 on:underline}span.EmailStyle17	{font-family:"Calibri"\,sans-serif\;	color:
 windowtext}.MsoChpDefault	{font-family:"Calibri"\,sans-serif}@page WordSec
 tion1	{margin:1.0in 1.0in 1.0in 1.0in}div.WordSection1	{}--></style></head
 ><body lang="EN-US" link="#0563C1" vlink="#954F72" style=""><div class="Wo
 rdSection1"><p class="MsoNormal">&nbsp\;</p></div></body></html>
LOCATION:
SUMMARY:PTA Meeting
END:VEVENT
END:VCALENDAR
