BEGIN:VCALENDAR
VERSION:2.0
PRODID:icalendar-ruby
CALSCALE:GREGORIAN
BEGIN:VTIMEZONE
TZID:America/Chicago
BEGIN:DAYLIGHT
DTSTART:20260308T030000
TZOFFSETFROM:-0600
TZOFFSETTO:-0500
RRULE:FREQ=YEARLY;BYDAY=2SU;BYMONTH=3
TZNAME:CDT
END:DAYLIGHT
BEGIN:STANDARD
DTSTART:20261101T010000
TZOFFSETFROM:-0500
TZOFFSETTO:-0600
RRULE:FREQ=YEARLY;BYDAY=1SU;BYMONTH=11
TZNAME:CST
END:STANDARD
END:VTIMEZONE
BEGIN:VEVENT
DTSTAMP:20260421T203402Z
UID:d27ba5b3-c1de-4f12-a3b4-9ca585446efd
DTSTART:20260423T160000
DTEND:20260423T200000
DESCRIPTION:
LOCATION:Effingham\, IL 62401\, USA
SUMMARY:CMS Track Triangular @ Effingham
END:VEVENT
BEGIN:VEVENT
DTSTAMP:20260421T203402Z
UID:fa35e685-f52a-4892-aea6-47c22bc1caa5
DTSTART:20260429T080000
DTEND:20260429T170000
DESCRIPTION:<html><head><meta http-equiv="Content-Type" content="text/html\
 ; charset=utf-8"></head><body><p>Scholastic Bowl Regionals more details to
  be announced later in the year. </p></body></html>
LOCATION:To Be Determined
SUMMARY:Scholastic Bowl Regionals
END:VEVENT
BEGIN:VEVENT
DTSTAMP:20260421T203402Z
UID:15623cab-8132-45e1-86cc-39f861b0835c
DTSTART:20260430T163000
DTEND:20260430T193000
DESCRIPTION:
LOCATION:Newton\, IL 62448\, USA
SUMMARY:CMS Track VS Paris Mayo\, Newton @ Newton
END:VEVENT
BEGIN:VEVENT
DTSTAMP:20260421T203402Z
UID:0bff8155-cc9b-4fdb-952e-779cb48ec2a2
DTSTART:20260501T083000
DTEND:20260501T132000
DESCRIPTION:
LOCATION:
SUMMARY:2 Hour Early Dismissal
END:VEVENT
BEGIN:VEVENT
DTSTAMP:20260421T203402Z
UID:65597119-e785-45ed-8a29-0b3459b2d92e
DTSTART:20260504T163000
DTEND:20260504T200000
DESCRIPTION:
LOCATION:
SUMMARY:CMS Track South Central Conference Away
END:VEVENT
BEGIN:VEVENT
DTSTAMP:20260421T203402Z
UID:76339dd3-86dc-48de-aa22-e5efbed6c2c1
DTSTART:20260507T160000
DTEND:20260507T190000
DESCRIPTION:
LOCATION:904 W Water St\, Teutopolis\, IL 62467\, USA
SUMMARY:CMS Track VS Teutopolis Away
END:VEVENT
BEGIN:VEVENT
DTSTAMP:20260421T203402Z
UID:51504fe1-6d97-4f6f-8f46-2546f3f6edd3
DTSTART:20260511T160000
DTEND:20260511T200000
DESCRIPTION:
LOCATION:920 Smith Dr\, Charleston\, IL 61920\, USA
SUMMARY:CMS Track Quad @ Home
END:VEVENT
BEGIN:VEVENT
DTSTAMP:20260421T203402Z
UID:c17df12a-db75-461c-a4a5-a9892f7fb913
DTSTART:20260515T083000
DTEND:20260515T114500
DESCRIPTION:
LOCATION:
SUMMARY:Half Day Student Attendance  CHS Commencement
END:VEVENT
BEGIN:VEVENT
DTSTAMP:20260421T203402Z
UID:4cc5c67b-a0c7-4023-9cae-1daf9b7a3aa3
DTSTART;VALUE=DATE:20260521
DTEND;VALUE=DATE:20260522
DESCRIPTION:
LOCATION:
SUMMARY:LAST DAY OF SCHOOL! (2 hour early dismissal)
END:VEVENT
END:VCALENDAR
