BEGIN:VCALENDAR
VERSION:2.0
PRODID:icalendar-ruby
CALSCALE:GREGORIAN
BEGIN:VTIMEZONE
TZID:America/Chicago
BEGIN:DAYLIGHT
DTSTART:20260308T030000
TZOFFSETFROM:-0600
TZOFFSETTO:-0500
RRULE:FREQ=YEARLY;BYDAY=2SU;BYMONTH=3
TZNAME:CDT
END:DAYLIGHT
BEGIN:STANDARD
DTSTART:20261101T010000
TZOFFSETFROM:-0500
TZOFFSETTO:-0600
RRULE:FREQ=YEARLY;BYDAY=1SU;BYMONTH=11
TZNAME:CST
END:STANDARD
END:VTIMEZONE
BEGIN:VEVENT
DTSTAMP:20260425T151020Z
UID:af6e86c6-ed3d-481f-9d38-93ca634a7ae3
DTSTART:20260427T130000
DTEND:20260427T133000
DESCRIPTION:
LOCATION:
SUMMARY:HS Golf (V) @ Inman (Hutchinson)
END:VEVENT
BEGIN:VEVENT
DTSTAMP:20260425T151020Z
UID:c1bc6f13-fd67-4948-a276-a35e81ccfbbc
DTSTART:20260427T160000
DTEND:20260427T163000
DESCRIPTION:
LOCATION:
SUMMARY:JV BSB vs Ellis
END:VEVENT
BEGIN:VEVENT
DTSTAMP:20260425T151020Z
UID:4c490393-b823-486e-986c-72908319d418
DTSTART:20260427T180000
DTEND:20260427T191500
DESCRIPTION:
LOCATION:
SUMMARY:JH Cheer Tryouts in Gym
END:VEVENT
BEGIN:VEVENT
DTSTAMP:20260425T151020Z
UID:64600731-84ee-45f8-9d7d-70f6379c7988
DTSTART:20260427T183000
DTEND:20260427T190000
DESCRIPTION:
LOCATION:
SUMMARY:HS Cheer Parent Meeting 
END:VEVENT
BEGIN:VEVENT
DTSTAMP:20260425T151020Z
UID:cee83276-523c-4343-a541-b0b2c916c222
DTSTART:20260428T130000
DTEND:20260428T133000
DESCRIPTION:
LOCATION:
SUMMARY:HS Golf (JV) @ Smith Center
END:VEVENT
BEGIN:VEVENT
DTSTAMP:20260425T151020Z
UID:79b06be0-7772-4c09-bd14-8c96dfb15d60
DTSTART:20260428T160000
DTEND:20260428T163000
DESCRIPTION:
LOCATION:
SUMMARY:HS BSB vs Plainville
END:VEVENT
BEGIN:VEVENT
DTSTAMP:20260425T151020Z
UID:3e7e7929-0f62-4f38-87c2-1af6a0c53260
DTSTART:20260428T160000
DTEND:20260428T163000
DESCRIPTION:
LOCATION:
SUMMARY:HS SB vs Larned
END:VEVENT
BEGIN:VEVENT
DTSTAMP:20260425T151020Z
UID:18414d65-c29a-4773-9408-981c52b761f6
DTSTART:20260428T180000
DTEND:20260428T191500
DESCRIPTION:
LOCATION:
SUMMARY:JH Cheer Tryouts in Gym
END:VEVENT
BEGIN:VEVENT
DTSTAMP:20260425T151020Z
UID:d38a92a4-4f27-4785-99bf-5907a8f103ab
DTSTART:20260428T183000
DTEND:20260428T193000
DESCRIPTION:
LOCATION:USD 407 Auditorium located at 400 N Elm St\, Russell\, KS 67665\, 
 USA
SUMMARY:Bickerdyke Bunch Concert 
END:VEVENT
BEGIN:VEVENT
DTSTAMP:20260425T151020Z
UID:8bbe4757-bb53-4fa5-a06c-5b25486882d6
DTSTART:20260428T183000
DTEND:20260428T193000
DESCRIPTION:
LOCATION:USD 407 Auditorium located at 400 N Elm St\, Russell\, KS 67665\, 
 USA
SUMMARY:Bickerdyke Bunch Concert 
END:VEVENT
BEGIN:VEVENT
DTSTAMP:20260425T151020Z
UID:ab5c04e9-6f11-452e-9336-264776032dd7
DTSTART:20260429T180000
DTEND:20260429T191500
DESCRIPTION:
LOCATION:
SUMMARY:JH Cheer Tryouts in Gym
END:VEVENT
BEGIN:VEVENT
DTSTAMP:20260425T151020Z
UID:93e71b71-9bd8-4d2d-981a-3945f95bc6af
DTSTART:20260430T100000
DTEND:20260430T103000
DESCRIPTION:
LOCATION:
SUMMARY:JH T&F @ Trego Invite
END:VEVENT
BEGIN:VEVENT
DTSTAMP:20260425T151020Z
UID:3e821197-ee07-48fc-a77f-8c059e82860b
DTSTART:20260430T110000
DTEND:20260430T113000
DESCRIPTION:
LOCATION:
SUMMARY:HS Golf Russell Invite
END:VEVENT
BEGIN:VEVENT
DTSTAMP:20260425T151020Z
UID:d00de15d-cc00-461b-9809-06da864ad8e7
DTSTART:20260430T160000
DTEND:20260430T163000
DESCRIPTION:
LOCATION:
SUMMARY:HS SB vs Goodland
END:VEVENT
BEGIN:VEVENT
DTSTAMP:20260425T151020Z
UID:d8cc7905-9c04-4368-8ed7-7cacbd2de8e7
DTSTART:20260501T100000
DTEND:20260501T103000
DESCRIPTION:
LOCATION:
SUMMARY:HS T&F @ Beloit Invite
END:VEVENT
BEGIN:VEVENT
DTSTAMP:20260425T151020Z
UID:44a22943-0947-4fb7-b423-1993bde7abea
DTSTART:20260501T160000
DTEND:20260501T163000
DESCRIPTION:
LOCATION:
SUMMARY:HS BSB vs TMP
END:VEVENT
BEGIN:VEVENT
DTSTAMP:20260425T151020Z
UID:365786a5-e58e-4880-b0b4-420796ace4c9
DTSTART:20260501T180000
DTEND:20260501T191500
DESCRIPTION:
LOCATION:
SUMMARY:JH Cheer Tryouts in Gym
END:VEVENT
BEGIN:VEVENT
DTSTAMP:20260425T151020Z
UID:76b71295-75a4-4723-9e8a-ad652320d66c
DTSTART:20260504T183000
DTEND:20260504T193000
DESCRIPTION:Ruppenthal Auditorium
LOCATION:
SUMMARY:RJSH Choir/Band Concert
END:VEVENT
BEGIN:VEVENT
DTSTAMP:20260425T151020Z
UID:d29b64ae-3001-4983-bc50-0de3114cae2c
DTSTART:20260505T150000
DTEND:20260505T153000
DESCRIPTION:
LOCATION:
SUMMARY:HS Golf (JV) Ellsworth
END:VEVENT
BEGIN:VEVENT
DTSTAMP:20260425T151020Z
UID:39833e18-7846-4319-af9e-33bf080a6f75
DTSTART:20260505T150000
DTEND:20260505T153000
DESCRIPTION:
LOCATION:
SUMMARY:JH T&F @ Ellsworth Invite
END:VEVENT
BEGIN:VEVENT
DTSTAMP:20260425T151020Z
UID:535a2163-df5b-4277-97ff-31649699476e
DTSTART:20260505T160000
DTEND:20260505T163000
DESCRIPTION:
LOCATION:
SUMMARY:HS BSB vs Larned
END:VEVENT
BEGIN:VEVENT
DTSTAMP:20260425T151020Z
UID:3bbdff4c-6618-4373-b63c-14464ddd3770
DTSTART:20260505T160000
DTEND:20260505T163000
DESCRIPTION:
LOCATION:
SUMMARY:HS SB vs Haven
END:VEVENT
BEGIN:VEVENT
DTSTAMP:20260425T151020Z
UID:4c10f7de-4b78-4a25-ae1a-eaf9ce907ef1
DTSTART:20260506T160000
DTEND:20260506T180000
DESCRIPTION:
LOCATION:Cafeteria - 400 N Elm\, Russell\, KS 67665
SUMMARY:Retirement Reception
END:VEVENT
BEGIN:VEVENT
DTSTAMP:20260425T151020Z
UID:16b69323-7d92-4984-a4bf-1c6629c2bcd0
DTSTART:20260507T150000
DTEND:20260507T153000
DESCRIPTION:
LOCATION:
SUMMARY:HS Golf (V) @ Ellsworth
END:VEVENT
BEGIN:VEVENT
DTSTAMP:20260425T151020Z
UID:d6ec8af5-32c3-4858-953a-7176f2673f54
DTSTART:20260507T150000
DTEND:20260507T153000
DESCRIPTION:
LOCATION:
SUMMARY:HS T&F @ Victoria Invite
END:VEVENT
BEGIN:VEVENT
DTSTAMP:20260425T151020Z
UID:6b1a36d5-fd16-4b7c-96bf-e4be74014969
DTSTART:20260507T153000
DTEND:20260507T170000
DESCRIPTION:
LOCATION:
SUMMARY:Breaktime Sessions Ends
END:VEVENT
BEGIN:VEVENT
DTSTAMP:20260425T151020Z
UID:a95e6e60-30c9-41c6-834c-0fea1e9649e6
DTSTART:20260507T160000
DTEND:20260507T163000
DESCRIPTION:
LOCATION:
SUMMARY:HS BSB vs Sacred Heart
END:VEVENT
BEGIN:VEVENT
DTSTAMP:20260425T151020Z
UID:a8e13d12-0030-4d32-b565-874ecbc13b25
DTSTART:20260507T160000
DTEND:20260507T163000
DESCRIPTION:
LOCATION:
SUMMARY:HS SB vs Sacred Heart
END:VEVENT
BEGIN:VEVENT
DTSTAMP:20260425T151020Z
UID:faf99575-9c36-4400-b552-5fe3abfae626
DTSTART:20260509T100000
DTEND:20260509T110000
DESCRIPTION:
LOCATION:
SUMMARY:RHS Graduation
END:VEVENT
BEGIN:VEVENT
DTSTAMP:20260425T151020Z
UID:253b01e9-a206-4a0f-8fb0-05db1ec96c4c
DTSTART:20260509T100000
DTEND:20260509T110000
DESCRIPTION:
LOCATION:
SUMMARY:RJSHS Graduation
END:VEVENT
BEGIN:VEVENT
DTSTAMP:20260425T151020Z
UID:dc8f3c5c-3e69-42b8-aed9-915bca5c8bbd
DTSTART:20260511T123000
DTEND:20260511T130000
DESCRIPTION:
LOCATION:
SUMMARY:JH Awards Assembly
END:VEVENT
BEGIN:VEVENT
DTSTAMP:20260425T151020Z
UID:1ce7f2e8-a8c5-4500-9e67-d9eccd71126f
DTSTART:20260511T173000
DTEND:20260511T200000
DESCRIPTION:
LOCATION:400 N Elm St\, Russell\, KS 67665\, USA
SUMMARY:BOE Meeting
END:VEVENT
BEGIN:VEVENT
DTSTAMP:20260425T151020Z
UID:f6be9fcc-3f24-4092-b435-cf11c8b9e89c
DTSTART:20260512T083000
DTEND:20260512T093000
DESCRIPTION:
LOCATION:
SUMMARY:HS Awards Ceremony 
END:VEVENT
BEGIN:VEVENT
DTSTAMP:20260425T151020Z
UID:652e38d6-cfac-47f6-95ef-2c58a8bc5e9f
DTSTART:20260512T100000
DTEND:20260512T103000
DESCRIPTION:
LOCATION:
SUMMARY:JH T&F @ MCEL Meet (Hill City)
END:VEVENT
BEGIN:VEVENT
DTSTAMP:20260425T151020Z
UID:227c9ddd-0af9-443a-a665-ae0455a31a33
DTSTART;VALUE=DATE:20260513
DTEND;VALUE=DATE:20260514
DESCRIPTION:
LOCATION:
SUMMARY:HS BSB Regional Quarterfinals (TBD)
END:VEVENT
BEGIN:VEVENT
DTSTAMP:20260425T151020Z
UID:10fde521-ab5b-4af0-9738-3078bc6621a9
DTSTART:20260513T080000
DTEND:20260513T113000
DESCRIPTION:
LOCATION:
SUMMARY:Last Day of School
END:VEVENT
BEGIN:VEVENT
DTSTAMP:20260425T151020Z
UID:6a9fb367-6a86-42b7-bb9d-913c741bb4f0
DTSTART:20260513T080000
DTEND:20260513T113000
DESCRIPTION:
LOCATION:
SUMMARY:Last Day of School
END:VEVENT
BEGIN:VEVENT
DTSTAMP:20260425T151020Z
UID:e513e479-a711-4046-9b3e-2e30d5c06ba6
DTSTART:20260513T120000
DTEND:20260513T154500
DESCRIPTION:
LOCATION:
SUMMARY:Teacher Workday
END:VEVENT
BEGIN:VEVENT
DTSTAMP:20260425T151020Z
UID:776903a2-1a20-46f6-bfa8-cc5688cf8e18
DTSTART:20260514T100000
DTEND:20260514T160000
DESCRIPTION:
LOCATION:
SUMMARY:Royals Alumni Baseball Clinic - FB & BSB Field
END:VEVENT
BEGIN:VEVENT
DTSTAMP:20260425T151020Z
UID:7a3f6a09-4683-44a3-b28e-dd5615e69656
DTSTART:20260514T130000
DTEND:20260514T133000
DESCRIPTION:
LOCATION:
SUMMARY:HS Golf (V) @ MCL (Hays)
END:VEVENT
BEGIN:VEVENT
DTSTAMP:20260425T151020Z
UID:678a38fd-0a21-44e9-8e6c-dd13d3e8985d
DTSTART:20260514T150000
DTEND:20260514T153000
DESCRIPTION:
LOCATION:
SUMMARY:HS T&F @ MCL Meet (Smith Center)
END:VEVENT
BEGIN:VEVENT
DTSTAMP:20260425T151020Z
UID:c996760b-6adb-43e6-813a-5ab0a8553188
DTSTART;VALUE=DATE:20260519
DTEND;VALUE=DATE:20260520
DESCRIPTION:
LOCATION:
SUMMARY:HS BSB Regional Finals (TBD)
END:VEVENT
BEGIN:VEVENT
DTSTAMP:20260425T151020Z
UID:1c82f1db-9987-4bd9-b63b-b3b3050d6fe8
DTSTART;VALUE=DATE:20260519
DTEND;VALUE=DATE:20260520
DESCRIPTION:
LOCATION:
SUMMARY:HS SB Regional Quarterfinals (TBD)
END:VEVENT
BEGIN:VEVENT
DTSTAMP:20260425T151020Z
UID:09796ce3-a150-49d8-b41b-c16c4a33a7e0
DTSTART;VALUE=DATE:20260522
DTEND;VALUE=DATE:20260523
DESCRIPTION:
LOCATION:
SUMMARY:HS SB Regional Finals (TBD)
END:VEVENT
BEGIN:VEVENT
DTSTAMP:20260425T151020Z
UID:d66ed7e3-fa55-47b8-afc2-f05a2a2cbca3
DTSTART;VALUE=DATE:20260523
DTEND;VALUE=DATE:20260524
DESCRIPTION:
LOCATION:
SUMMARY:Pay Period Ends
END:VEVENT
BEGIN:VEVENT
DTSTAMP:20260425T151020Z
UID:7bd90a1b-2fbc-49b2-b760-99057a79f614
DTSTART;VALUE=DATE:20260525
DTEND;VALUE=DATE:20260526
DESCRIPTION:
LOCATION:
SUMMARY:DO Closed - Memorial Day
END:VEVENT
BEGIN:VEVENT
DTSTAMP:20260425T151020Z
UID:0b657c67-2f22-4336-945b-6c8fd26e05b7
DTSTART;VALUE=DATE:20260525
DTEND;VALUE=DATE:20260526
DESCRIPTION:
LOCATION:
SUMMARY:HS BSB State Quarterfinals
END:VEVENT
BEGIN:VEVENT
DTSTAMP:20260425T151020Z
UID:c6b09c57-734e-404a-a4b0-a44e25c181bb
DTSTART;VALUE=DATE:20260525
DTEND;VALUE=DATE:20260526
DESCRIPTION:
LOCATION:
SUMMARY:HS SB State Quarterfinals
END:VEVENT
BEGIN:VEVENT
DTSTAMP:20260425T151020Z
UID:aa6229ad-70d0-488c-90f0-d34e04e6f472
DTSTART;VALUE=DATE:20260527
DTEND;VALUE=DATE:20260530
DESCRIPTION:
LOCATION:
SUMMARY:HS BSB State Semis/Finals @ KU
END:VEVENT
BEGIN:VEVENT
DTSTAMP:20260425T151020Z
UID:c20c570a-2d36-4179-a4fd-37ac82ccb406
DTSTART;VALUE=DATE:20260527
DTEND;VALUE=DATE:20260528
DESCRIPTION:
LOCATION:
SUMMARY:HS SB @ State Semis/Finals @ KU
END:VEVENT
BEGIN:VEVENT
DTSTAMP:20260425T151020Z
UID:c2b60c9c-e532-4c11-9200-7e0bfbee6be4
DTSTART:20260529T100000
DTEND:20260530T103000
DESCRIPTION:
LOCATION:
SUMMARY:State T&F @ Wichita
END:VEVENT
BEGIN:VEVENT
DTSTAMP:20260425T151020Z
UID:196c6d7d-2abe-4519-8ece-8166bcfe2617
DTSTART:20260608T170000
DTEND:20260608T200000
DESCRIPTION:
LOCATION:400 N Elm St\, Russell\, KS 67665\, USA
SUMMARY:BOE Meeting
END:VEVENT
BEGIN:VEVENT
DTSTAMP:20260425T151020Z
UID:4ca6b507-cc86-4df2-bfe4-3c90f3e9215a
DTSTART;VALUE=DATE:20260620
DTEND;VALUE=DATE:20260621
DESCRIPTION:
LOCATION:
SUMMARY:Pay Period Ends
END:VEVENT
BEGIN:VEVENT
DTSTAMP:20260425T151020Z
UID:f01564a6-fc5d-4d39-9a39-d44b52d0fb65
DTSTART:20260625T090000
DTEND:20260625T150000
DESCRIPTION:
LOCATION:
SUMMARY:JH/HS Girls BB Camp 
END:VEVENT
BEGIN:VEVENT
DTSTAMP:20260425T151020Z
UID:4c97bca1-e5a6-454a-a05f-e4cafd8228d3
DTSTART:20260626T090000
DTEND:20260626T150000
DESCRIPTION:
LOCATION:
SUMMARY:JH/HS Girls BB Camp
END:VEVENT
BEGIN:VEVENT
DTSTAMP:20260425T151020Z
UID:228bb336-63f6-4bb5-a727-6da40712c8f4
DTSTART;VALUE=DATE:20260629
DTEND;VALUE=DATE:20260706
DESCRIPTION:
LOCATION:
SUMMARY:KSHSAA Summer Moratorium 
END:VEVENT
BEGIN:VEVENT
DTSTAMP:20260425T151020Z
UID:ac0ac7df-f970-48d6-89c1-0a668ea140b4
DTSTART;VALUE=DATE:20260703
DTEND;VALUE=DATE:20260704
DESCRIPTION:
LOCATION:
SUMMARY:DO - CLOSED (4th of July)
END:VEVENT
BEGIN:VEVENT
DTSTAMP:20260425T151020Z
UID:463ef258-258e-43a1-af31-c8c91f3fb03d
DTSTART:20260706T080000
DTEND:20260706T120000
DESCRIPTION:
LOCATION:Simpson Elementary School\, 1323 N Main St\, Russell\, KS 67665\, 
 USA
SUMMARY:CAPS Elem Summer School
END:VEVENT
BEGIN:VEVENT
DTSTAMP:20260425T151020Z
UID:61027dd3-6f27-4738-bfc4-a931e1611165
DTSTART:20260707T080000
DTEND:20260707T120000
DESCRIPTION:
LOCATION:Simpson Elementary School\, 1323 N Main St\, Russell\, KS 67665\, 
 USA
SUMMARY:CAPS Elem Summer School
END:VEVENT
BEGIN:VEVENT
DTSTAMP:20260425T151020Z
UID:248368a3-4cd3-4d96-81e2-456957fe4644
DTSTART:20260708T080000
DTEND:20260708T120000
DESCRIPTION:
LOCATION:Simpson Elementary School\, 1323 N Main St\, Russell\, KS 67665\, 
 USA
SUMMARY:CAPS Elem Summer School
END:VEVENT
BEGIN:VEVENT
DTSTAMP:20260425T151020Z
UID:33db547a-dd11-4851-aa17-0c786aaeee2b
DTSTART:20260709T080000
DTEND:20260709T120000
DESCRIPTION:
LOCATION:Simpson Elementary School\, 1323 N Main St\, Russell\, KS 67665\, 
 USA
SUMMARY:CAPS Elem Summer School
END:VEVENT
BEGIN:VEVENT
DTSTAMP:20260425T151020Z
UID:93d9a929-c19e-419c-8572-e8e710c1d251
DTSTART:20260713T080000
DTEND:20260713T120000
DESCRIPTION:
LOCATION:Simpson Elementary School\, 1323 N Main St\, Russell\, KS 67665\, 
 USA
SUMMARY:CAPS Elem Summer School
END:VEVENT
BEGIN:VEVENT
DTSTAMP:20260425T151020Z
UID:7fea8166-6814-4797-af65-dbbf917a474b
DTSTART:20260713T173000
DTEND:20260713T200000
DESCRIPTION:
LOCATION:400 N Elm St\, Russell\, KS 67665\, USA
SUMMARY:BOE Meeting
END:VEVENT
BEGIN:VEVENT
DTSTAMP:20260425T151020Z
UID:a2b58b8c-dea2-4912-aaad-0defa40631eb
DTSTART:20260714T080000
DTEND:20260714T120000
DESCRIPTION:
LOCATION:Simpson Elementary School\, 1323 N Main St\, Russell\, KS 67665\, 
 USA
SUMMARY:CAPS Elem Summer School
END:VEVENT
BEGIN:VEVENT
DTSTAMP:20260425T151020Z
UID:978b8907-60d1-442b-bed6-3cf60884bcb8
DTSTART:20260715T080000
DTEND:20260715T120000
DESCRIPTION:
LOCATION:Simpson Elementary School\, 1323 N Main St\, Russell\, KS 67665\, 
 USA
SUMMARY:CAPS Elem Summer School
END:VEVENT
BEGIN:VEVENT
DTSTAMP:20260425T151020Z
UID:2668fe1f-a6f5-4607-ab69-50c6f81b7129
DTSTART:20260716T080000
DTEND:20260716T120000
DESCRIPTION:
LOCATION:Simpson Elementary School\, 1323 N Main St\, Russell\, KS 67665\, 
 USA
SUMMARY:CAPS Elem Summer School
END:VEVENT
BEGIN:VEVENT
DTSTAMP:20260425T151020Z
UID:cff04f3d-b5a2-4a9b-94d6-9b4a66e14ee0
DTSTART:20260720T080000
DTEND:20260720T120000
DESCRIPTION:
LOCATION:Simpson Elementary School\, 1323 N Main St\, Russell\, KS 67665\, 
 USA
SUMMARY:CAPS Elem Summer School
END:VEVENT
BEGIN:VEVENT
DTSTAMP:20260425T151020Z
UID:471a3a47-49b0-4601-ae62-1b1f6af550c8
DTSTART:20260721T080000
DTEND:20260721T120000
DESCRIPTION:
LOCATION:Simpson Elementary School\, 1323 N Main St\, Russell\, KS 67665\, 
 USA
SUMMARY:CAPS Elem Summer School
END:VEVENT
BEGIN:VEVENT
DTSTAMP:20260425T151020Z
UID:9a51881c-9b6b-424f-8a07-f15e92a143f5
DTSTART:20260722T080000
DTEND:20260722T120000
DESCRIPTION:
LOCATION:Simpson Elementary School\, 1323 N Main St\, Russell\, KS 67665\, 
 USA
SUMMARY:CAPS Elem Summer School
END:VEVENT
BEGIN:VEVENT
DTSTAMP:20260425T151020Z
UID:33094e51-9fb3-45a2-bb22-35ec5528e96d
DTSTART:20260723T080000
DTEND:20260723T120000
DESCRIPTION:
LOCATION:Simpson Elementary School\, 1323 N Main St\, Russell\, KS 67665\, 
 USA
SUMMARY:CAPS Elem Summer School
END:VEVENT
BEGIN:VEVENT
DTSTAMP:20260425T151020Z
UID:1980e6cb-a634-4af3-a29e-de072c03cace
DTSTART:20260810T173000
DTEND:20260810T200000
DESCRIPTION:
LOCATION:400 N Elm St\, Russell\, KS 67665\, USA
SUMMARY:BOE Meeting
END:VEVENT
BEGIN:VEVENT
DTSTAMP:20260425T151020Z
UID:86d9c167-e1c5-46c3-8989-1e7a772ecdc4
DTSTART:20260903T104200
DTEND:20260903T105700
DESCRIPTION:
LOCATION:
SUMMARY:Josten's to meet with Sophomores on Class Rings
END:VEVENT
BEGIN:VEVENT
DTSTAMP:20260425T151020Z
UID:d2675d41-34ed-4543-9bd6-dfff02100a73
DTSTART:20260903T111200
DTEND:20260903T121200
DESCRIPTION:
LOCATION:
SUMMARY:Seniors to Meet with Seniors on Graduation Supplies
END:VEVENT
BEGIN:VEVENT
DTSTAMP:20260425T151020Z
UID:3c834525-7f49-4615-a624-364719a75a95
DTSTART:20260914T173000
DTEND:20260914T200000
DESCRIPTION:
LOCATION:400 N Elm St\, Russell\, KS 67665\, USA
SUMMARY:BOE Meeting
END:VEVENT
BEGIN:VEVENT
DTSTAMP:20260425T151020Z
UID:a0531f02-4cec-454f-a2c4-3b2341351021
DTSTART:20261012T173000
DTEND:20261012T200000
DESCRIPTION:
LOCATION:400 N Elm St\, Russell\, KS 67665\, USA
SUMMARY:BOE Meeting
END:VEVENT
BEGIN:VEVENT
DTSTAMP:20260425T151020Z
UID:480ee64a-3590-48b0-bb25-6615ea85d382
DTSTART:20261109T173000
DTEND:20261109T200000
DESCRIPTION:
LOCATION:400 N Elm St\, Russell\, KS 67665\, USA
SUMMARY:BOE Meeting
END:VEVENT
BEGIN:VEVENT
DTSTAMP:20260425T151020Z
UID:29629b90-fba6-4d22-ab7d-23d52d5218c9
DTSTART:20261214T173000
DTEND:20261214T200000
DESCRIPTION:
LOCATION:400 N Elm St\, Russell\, KS 67665\, USA
SUMMARY:BOE Meeting
END:VEVENT
BEGIN:VEVENT
DTSTAMP:20260425T151020Z
UID:52e9601c-5747-46fd-9aa8-6f95a7392381
DTSTART;VALUE=DATE:20270424
DTEND;VALUE=DATE:20270425
DESCRIPTION:
LOCATION:
SUMMARY:Prom
END:VEVENT
END:VCALENDAR
