BEGIN:VCALENDAR
VERSION:2.0
PRODID:icalendar-ruby
CALSCALE:GREGORIAN
BEGIN:VTIMEZONE
TZID:America/New_York
BEGIN:DAYLIGHT
DTSTART:20260308T030000
TZOFFSETFROM:-0500
TZOFFSETTO:-0400
RRULE:FREQ=YEARLY;BYDAY=2SU;BYMONTH=3
TZNAME:EDT
END:DAYLIGHT
BEGIN:STANDARD
DTSTART:20261101T010000
TZOFFSETFROM:-0400
TZOFFSETTO:-0500
RRULE:FREQ=YEARLY;BYDAY=1SU;BYMONTH=11
TZNAME:EST
END:STANDARD
END:VTIMEZONE
BEGIN:VEVENT
DTSTAMP:20260419T153445Z
UID:77d12970-2dff-48be-9962-fe6477f54b90
DTSTART:20260419T100000
DTEND:20260419T110000
DESCRIPTION:
LOCATION:
SUMMARY:Trapshooting
END:VEVENT
BEGIN:VEVENT
DTSTAMP:20260419T153445Z
UID:1bd65596-c23a-4072-8be5-7ed2fab07480
DTSTART:20260420T160000
DTEND:20260420T170000
DESCRIPTION:
LOCATION:
SUMMARY:JH T/F Peck Quad
END:VEVENT
BEGIN:VEVENT
DTSTAMP:20260419T153445Z
UID:4a09553a-22dc-4342-aec4-e5682b138b66
DTSTART:20260421T160000
DTEND:20260421T170000
DESCRIPTION:
LOCATION:
SUMMARY:Varsity T/F Peck Invite
END:VEVENT
BEGIN:VEVENT
DTSTAMP:20260419T153445Z
UID:86610758-0e7b-4483-a613-d4ab35f53ed0
DTSTART:20260422T160000
DTEND:20260422T170000
DESCRIPTION:
LOCATION:
SUMMARY:HS Band Festival @ USA HS bus leaves 1:45
END:VEVENT
BEGIN:VEVENT
DTSTAMP:20260419T153445Z
UID:94f0a007-cfa0-42d2-a52c-be4c6136e868
DTSTART:20260422T160000
DTEND:20260422T170000
DESCRIPTION:
LOCATION:
SUMMARY:JH T/F CPS Quad (STC 2:45)
END:VEVENT
BEGIN:VEVENT
DTSTAMP:20260419T153445Z
UID:d934768e-4d8b-4443-a711-45f27fb323ec
DTSTART:20260422T160000
DTEND:20260422T170000
DESCRIPTION:
LOCATION:
SUMMARY:JVBB @ Richmond (no bus)
END:VEVENT
BEGIN:VEVENT
DTSTAMP:20260419T153445Z
UID:dcad32f7-21d8-441e-acf1-311c71f46388
DTSTART:20260423T160000
DTEND:20260423T170000
DESCRIPTION:
LOCATION:
SUMMARY:VBB vs Mayville 
END:VEVENT
BEGIN:VEVENT
DTSTAMP:20260419T153445Z
UID:e06d87ff-e5b6-423d-a50d-e3af39ca0b8e
DTSTART:20260424T190000
DTEND:20260424T193000
DESCRIPTION:
LOCATION:
SUMMARY:JH Band Festival @ Imlay City HS 
END:VEVENT
BEGIN:VEVENT
DTSTAMP:20260419T153445Z
UID:8ed12a86-f153-4e44-b36d-c2e3886b87e1
DTSTART;VALUE=DATE:20260425
DTEND;VALUE=DATE:20260426
DESCRIPTION:
LOCATION:
SUMMARY:Prom-Lakeview Hills
END:VEVENT
BEGIN:VEVENT
DTSTAMP:20260419T153445Z
UID:ad0865e6-492c-48e9-8715-f0b15ab1cf12
DTSTART:20260425T110000
DTEND:20260425T120000
DESCRIPTION:
LOCATION:
SUMMARY:VBB vs Brown City (1 game)
END:VEVENT
BEGIN:VEVENT
DTSTAMP:20260419T153445Z
UID:c5cae79c-b6df-4c62-a297-102fb294b94e
DTSTART:20260426T100000
DTEND:20260426T110000
DESCRIPTION:
LOCATION:
SUMMARY:Trapshooting
END:VEVENT
BEGIN:VEVENT
DTSTAMP:20260419T153445Z
UID:0ad77bf9-0071-473d-b08b-f99f50b4c0ff
DTSTART:20260427T160000
DTEND:20260427T170000
DESCRIPTION:
LOCATION:
SUMMARY:JHT @ Brown City Quad
END:VEVENT
BEGIN:VEVENT
DTSTAMP:20260419T153445Z
UID:7c7060b0-f43a-421f-b648-f9f63f16e3cb
DTSTART:20260427T160000
DTEND:20260427T170000
DESCRIPTION:
LOCATION:
SUMMARY:JVBB vs Unionville Sebewaing
END:VEVENT
BEGIN:VEVENT
DTSTAMP:20260419T153445Z
UID:470d7ca7-ecfb-4659-89c0-e90db899504c
DTSTART:20260428T160000
DTEND:20260428T170000
DESCRIPTION:
LOCATION:
SUMMARY:Varsity T/F Dryden Quad CANCELED
END:VEVENT
BEGIN:VEVENT
DTSTAMP:20260419T153445Z
UID:37c4a425-c5c5-4d35-a2b8-c0fc9dd77473
DTSTART:20260429T110000
DTEND:20260429T133000
DESCRIPTION:
LOCATION:Beagio's Pizza\, 5795 Sanilac Rd\, Kingston\, MI 48741\, USA
SUMMARY:Academic All-Conference Banquet
END:VEVENT
BEGIN:VEVENT
DTSTAMP:20260419T153445Z
UID:83fb3aaa-5bea-4eb5-8493-ee41151ad7dd
DTSTART:20260429T160000
DTEND:20260429T170000
DESCRIPTION:
LOCATION:
SUMMARY:JH T/F Mayville Quad
END:VEVENT
BEGIN:VEVENT
DTSTAMP:20260419T153445Z
UID:27b42a6a-63a2-40ca-b097-c6d11364eecd
DTSTART:20260429T160000
DTEND:20260429T170000
DESCRIPTION:
LOCATION:
SUMMARY:JVBB @ North Branch
END:VEVENT
BEGIN:VEVENT
DTSTAMP:20260419T153445Z
UID:9fca4194-f0b2-4fa1-b559-6f20b55382a9
DTSTART:20260430T160000
DTEND:20260430T170000
DESCRIPTION:
LOCATION:
SUMMARY:VBB @ Deckerville
END:VEVENT
BEGIN:VEVENT
DTSTAMP:20260419T153445Z
UID:08331190-44b1-47b3-82ad-f961d20dad84
DTSTART;VALUE=DATE:20260502
DTEND;VALUE=DATE:20260503
DESCRIPTION:
LOCATION:
SUMMARY:VBB Wood Bat Tournament @ Mayville Time TBD
END:VEVENT
BEGIN:VEVENT
DTSTAMP:20260419T153445Z
UID:a9fda9f2-481f-495f-994d-3e605b55b3bb
DTSTART:20260503T100000
DTEND:20260503T110000
DESCRIPTION:
LOCATION:
SUMMARY:Trapshooting
END:VEVENT
BEGIN:VEVENT
DTSTAMP:20260419T153445Z
UID:ee7b0e4b-9bff-4f2b-b083-e35496910a4b
DTSTART:20260504T160000
DTEND:20260504T170000
DESCRIPTION:
LOCATION:
SUMMARY:JH T/F CPS Quad
END:VEVENT
BEGIN:VEVENT
DTSTAMP:20260419T153445Z
UID:d15b9869-dd5b-4292-b2cd-776624e7b270
DTSTART:20260504T160000
DTEND:20260504T170000
DESCRIPTION:
LOCATION:
SUMMARY:VBB vs Akron
END:VEVENT
BEGIN:VEVENT
DTSTAMP:20260419T153445Z
UID:fb536357-c7ec-4c67-b20d-21b38922180d
DTSTART:20260505T160000
DTEND:20260505T170000
DESCRIPTION:
LOCATION:
SUMMARY:Varsity T/F CPS Quad
END:VEVENT
BEGIN:VEVENT
DTSTAMP:20260419T153445Z
UID:e5bde9db-c64e-48ed-aa89-8bd5b9a09480
DTSTART:20260505T183000
DTEND:20260505T193000
DESCRIPTION:
LOCATION:
SUMMARY:Booster Club Meeting
END:VEVENT
BEGIN:VEVENT
DTSTAMP:20260419T153445Z
UID:b29ae2c0-b8a9-49a7-8e03-cfcb73d4af30
DTSTART:20260506T090000
DTEND:20260506T110000
DESCRIPTION:
LOCATION:
SUMMARY:Bar of Excellence Brunch Media Center (Grades 9-12)
END:VEVENT
BEGIN:VEVENT
DTSTAMP:20260419T153445Z
UID:65e0f718-f155-4cb6-b376-82f2526ff89d
DTSTART:20260506T190000
DTEND:20260506T201500
DESCRIPTION:
LOCATION:
SUMMARY:Spring Band Concert
END:VEVENT
BEGIN:VEVENT
DTSTAMP:20260419T153445Z
UID:f4bf6f72-e31f-43da-ba9a-156b044ea94b
DTSTART:20260507T160000
DTEND:20260507T170000
DESCRIPTION:
LOCATION:
SUMMARY:JH T/F Dare Meet @ Cros-Lex
END:VEVENT
BEGIN:VEVENT
DTSTAMP:20260419T153445Z
UID:545f48be-09bb-4531-902b-f6dfac063782
DTSTART:20260507T160000
DTEND:20260507T170000
DESCRIPTION:
LOCATION:
SUMMARY:VBB @ Kingston
END:VEVENT
BEGIN:VEVENT
DTSTAMP:20260419T153445Z
UID:248ac363-f73c-4052-a011-49879e1dfe31
DTSTART:20260510T100000
DTEND:20260510T110000
DESCRIPTION:
LOCATION:
SUMMARY:Trapshooting
END:VEVENT
BEGIN:VEVENT
DTSTAMP:20260419T153445Z
UID:3b829ca2-d994-4f6e-985c-4600b9a135f0
DTSTART:20260511T160000
DTEND:20260511T170000
DESCRIPTION:
LOCATION:
SUMMARY:JVBB @ Kingston
END:VEVENT
BEGIN:VEVENT
DTSTAMP:20260419T153445Z
UID:2ee195e2-5d0b-4cc3-a665-4d81a566bf39
DTSTART:20260511T180000
DTEND:20260511T200000
DESCRIPTION:
LOCATION:
SUMMARY:Honors Night (Grades 6-12 Invitation Only)
END:VEVENT
BEGIN:VEVENT
DTSTAMP:20260419T153445Z
UID:6aa9344f-c817-4b4e-8dcd-28a8b907d151
DTSTART:20260512T160000
DTEND:20260512T170000
DESCRIPTION:
LOCATION:
SUMMARY:Varsity T/F League Meet @ Dryden
END:VEVENT
BEGIN:VEVENT
DTSTAMP:20260419T153445Z
UID:e2c47147-1bf1-46bb-8bce-df19fde7455c
DTSTART:20260513T160000
DTEND:20260513T170000
DESCRIPTION:
LOCATION:
SUMMARY:JH T/F League Meet @ Kingston
END:VEVENT
BEGIN:VEVENT
DTSTAMP:20260419T153445Z
UID:83a01b80-5ec6-4a35-880f-a750367ecfe3
DTSTART:20260514T160000
DTEND:20260514T170000
DESCRIPTION:
LOCATION:
SUMMARY:VBB @ Dryden
END:VEVENT
BEGIN:VEVENT
DTSTAMP:20260419T153445Z
UID:e31a0459-4581-4f33-a255-b555ba91f9b1
DTSTART:20260515T150000
DTEND:20260515T160000
DESCRIPTION:
LOCATION:
SUMMARY:Varsity T/F Regional Meet @ Vassar
END:VEVENT
BEGIN:VEVENT
DTSTAMP:20260419T153445Z
UID:bfe8f5a8-04f6-4745-ad7b-515c8a982483
DTSTART:20260516T100000
DTEND:20260516T110000
DESCRIPTION:
LOCATION:
SUMMARY:VBB vs Memphis @ Jimmy Johns Field
END:VEVENT
BEGIN:VEVENT
DTSTAMP:20260419T153445Z
UID:0f176f1f-73e1-4e37-9139-ec013fb542e3
DTSTART:20260517T090000
DTEND:20260517T100000
DESCRIPTION:
LOCATION:
SUMMARY:Trapshooting
END:VEVENT
BEGIN:VEVENT
DTSTAMP:20260419T153445Z
UID:6b8062b7-053e-4667-9a38-ee4e934092c8
DTSTART:20260517T130000
DTEND:20260517T140000
DESCRIPTION:
LOCATION:
SUMMARY:High School Graduation
END:VEVENT
BEGIN:VEVENT
DTSTAMP:20260419T153445Z
UID:c22d18c7-0b5c-403f-b3cf-d3158d78c168
DTSTART:20260518T160000
DTEND:20260518T170000
DESCRIPTION:
LOCATION:
SUMMARY:JH T/F Peck Invite
END:VEVENT
BEGIN:VEVENT
DTSTAMP:20260419T153445Z
UID:0cde0ba9-35db-43d6-9aa2-209ca0c7ef2c
DTSTART:20260518T160000
DTEND:20260518T170000
DESCRIPTION:
LOCATION:
SUMMARY:VBB vs BCAS
END:VEVENT
BEGIN:VEVENT
DTSTAMP:20260419T153445Z
UID:4f42953f-0e68-4951-b484-781d93fda03f
DTSTART:20260519T160000
DTEND:20260519T170000
DESCRIPTION:
LOCATION:
SUMMARY:JVBB vs Sandusky
END:VEVENT
BEGIN:VEVENT
DTSTAMP:20260419T153445Z
UID:e3a9bdc0-859f-43e2-aee0-5676c8c58816
DTSTART:20260519T180000
DTEND:20260519T190000
DESCRIPTION:
LOCATION:
SUMMARY:Kindergarten Graduation
END:VEVENT
BEGIN:VEVENT
DTSTAMP:20260419T153445Z
UID:3b4f16e5-ff30-4992-9b92-42e701e440a6
DTSTART:20260520T160000
DTEND:20260520T170000
DESCRIPTION:
LOCATION:
SUMMARY:VBB @ Caseville MAKEUP
END:VEVENT
BEGIN:VEVENT
DTSTAMP:20260419T153445Z
UID:05bf50a0-b088-4977-9081-ddfcaed3342b
DTSTART:20260520T180000
DTEND:20260520T190000
DESCRIPTION:
LOCATION:
SUMMARY:Elementary Awards
END:VEVENT
BEGIN:VEVENT
DTSTAMP:20260419T153445Z
UID:667421ac-66ad-4748-8764-2abe11b2646b
DTSTART:20260521T160000
DTEND:20260521T170000
DESCRIPTION:
LOCATION:
SUMMARY:Varsity T/F Bluewater Meet of Champs @ Marysville
END:VEVENT
BEGIN:VEVENT
DTSTAMP:20260419T153445Z
UID:fd8ef011-05ba-413d-8426-5c00599464e8
DTSTART:20260521T160000
DTEND:20260521T170000
DESCRIPTION:
LOCATION:
SUMMARY:VBB @ Merritt CANCELED
END:VEVENT
BEGIN:VEVENT
DTSTAMP:20260419T153445Z
UID:a2e4f617-df27-4e77-9bf4-2443584e57ad
DTSTART:20260522T160000
DTEND:20260522T170000
DESCRIPTION:
LOCATION:
SUMMARY:VBB vs North Huron MAKEUP
END:VEVENT
BEGIN:VEVENT
DTSTAMP:20260419T153445Z
UID:3adfc32a-d926-4f9d-b4d4-1e2424a2cafb
DTSTART:20260526T160000
DTEND:20260526T170000
DESCRIPTION:
LOCATION:
SUMMARY:Varsity T/F Thumb Meet of Champs @ Caro
END:VEVENT
BEGIN:VEVENT
DTSTAMP:20260419T153445Z
UID:0769034a-b5ac-4207-9483-4139d13b2925
DTSTART:20260526T160000
DTEND:20260526T170000
DESCRIPTION:
LOCATION:
SUMMARY:VBB vs Memphis (1 Game)
END:VEVENT
BEGIN:VEVENT
DTSTAMP:20260419T153445Z
UID:3e3c7861-4219-4d23-82b1-ff3382bdbd76
DTSTART:20260527T180000
DTEND:20260527T190000
DESCRIPTION:
LOCATION:
SUMMARY:VBB @ Bad Axe (Single Game) MAKEUP
END:VEVENT
BEGIN:VEVENT
DTSTAMP:20260419T153445Z
UID:3199112f-1d2f-4902-8b56-a1f4b0805530
DTSTART;VALUE=DATE:20260529
DTEND;VALUE=DATE:20260530
DESCRIPTION:
LOCATION:
SUMMARY:VBB Districts at Marlette HS Time TBD
END:VEVENT
BEGIN:VEVENT
DTSTAMP:20260419T153445Z
UID:b6b133c3-d23f-47ca-b0d0-7e9fa74a49ac
DTSTART;VALUE=DATE:20260530
DTEND;VALUE=DATE:20260531
DESCRIPTION:
LOCATION:
SUMMARY:Varsity T/F State Finals
END:VEVENT
BEGIN:VEVENT
DTSTAMP:20260419T153445Z
UID:3e38a7f8-a906-4633-81fb-fbce9f8c6f32
DTSTART;VALUE=DATE:20260708
DTEND;VALUE=DATE:20260709
DESCRIPTION:
LOCATION:
SUMMARY:VFB 5 on 5 at Peck
END:VEVENT
BEGIN:VEVENT
DTSTAMP:20260419T153445Z
UID:c1f8727b-02e9-4855-a9b2-81b699d746a9
DTSTART;VALUE=DATE:20260727
DTEND;VALUE=DATE:20260801
DESCRIPTION:
LOCATION:
SUMMARY:Band Camp
END:VEVENT
BEGIN:VEVENT
DTSTAMP:20260419T153445Z
UID:c752f7a5-db56-40c4-9bb7-cfea0ed2599d
DTSTART;VALUE=DATE:20260727
DTEND;VALUE=DATE:20260730
DESCRIPTION:Sandusky High School\n8:00 AM - 4:00 PM Daily
LOCATION:
SUMMARY:Cheer Camp
END:VEVENT
BEGIN:VEVENT
DTSTAMP:20260419T153445Z
UID:3eca5a8d-1844-48f8-b396-8a86ce25ab65
DTSTART;VALUE=DATE:20260812
DTEND;VALUE=DATE:20260813
DESCRIPTION:
LOCATION:
SUMMARY:JVVVB: MHSAA First Allowable Practice
END:VEVENT
BEGIN:VEVENT
DTSTAMP:20260419T153445Z
UID:e19cca65-e246-4fee-928e-6b5216d4dd14
DTSTART;VALUE=DATE:20260819
DTEND;VALUE=DATE:20260820
DESCRIPTION:
LOCATION:
SUMMARY:Volleyball's First Practice
END:VEVENT
BEGIN:VEVENT
DTSTAMP:20260419T153445Z
UID:82113265-cfd4-43e7-8c36-af1d925e6e2e
DTSTART;VALUE=DATE:20260822
DTEND;VALUE=DATE:20260823
DESCRIPTION:No JV\, Varsity Only Tournament
LOCATION:
SUMMARY:Varsity Volleyball @ Bad Axe Tournament Time TBD
END:VEVENT
BEGIN:VEVENT
DTSTAMP:20260419T153445Z
UID:5571f4a2-d2d4-44cc-bee8-e87ef14cfb6b
DTSTART:20260824T180000
DTEND:20260824T210000
DESCRIPTION:
LOCATION:
SUMMARY:Tall Cop @ Marlette HS
END:VEVENT
BEGIN:VEVENT
DTSTAMP:20260419T153445Z
UID:fec46f7b-f49d-4355-9d7e-85f0390bcea4
DTSTART:20260828T190000
DTEND:20260828T200000
DESCRIPTION:
LOCATION:
SUMMARY:VFB @ Dryden
END:VEVENT
BEGIN:VEVENT
DTSTAMP:20260419T153445Z
UID:7341165c-2af7-456a-bf2e-67f93c475403
DTSTART:20260903T190000
DTEND:20260903T200000
DESCRIPTION:
LOCATION:
SUMMARY:VFB vs North Huron
END:VEVENT
BEGIN:VEVENT
DTSTAMP:20260419T153445Z
UID:55caaaf5-096f-4086-9c11-3dbee95bd699
DTSTART:20260908T180000
DTEND:20260908T190000
DESCRIPTION:
LOCATION:
SUMMARY:JVVVB vs Owengage
END:VEVENT
BEGIN:VEVENT
DTSTAMP:20260419T153445Z
UID:fcdb3515-7be1-454e-b019-54eaac05a874
DTSTART:20260910T180000
DTEND:20260910T190000
DESCRIPTION:
LOCATION:
SUMMARY:JVVVB @ North Huron
END:VEVENT
BEGIN:VEVENT
DTSTAMP:20260419T153445Z
UID:58c9f398-4c5b-4198-8b9d-0510d1b9f1dd
DTSTART:20260911T190000
DTEND:20260911T200000
DESCRIPTION:
LOCATION:
SUMMARY:VFB vs BC Academy
END:VEVENT
BEGIN:VEVENT
DTSTAMP:20260419T153445Z
UID:e8d5388b-0e72-423d-b7bf-ed105166f10e
DTSTART;VALUE=DATE:20260912
DTEND;VALUE=DATE:20260913
DESCRIPTION:
LOCATION:
SUMMARY:Varsity Volleyball SC4 Showcase Time TBD
END:VEVENT
BEGIN:VEVENT
DTSTAMP:20260419T153445Z
UID:58edc5dc-a9e5-48b7-b4ef-b7dcc27b4f78
DTSTART:20260915T180000
DTEND:20260915T190000
DESCRIPTION:
LOCATION:
SUMMARY:JVVVB vs BC Academy
END:VEVENT
BEGIN:VEVENT
DTSTAMP:20260419T153445Z
UID:81eb586f-f84f-4471-aff3-c162bfaf8f40
DTSTART:20260917T180000
DTEND:20260917T190000
DESCRIPTION:
LOCATION:
SUMMARY:JVVVB vs Akron-Fairgrove
END:VEVENT
BEGIN:VEVENT
DTSTAMP:20260419T153445Z
UID:f2952312-86ea-4bb0-9ce3-7f7ce48e0b7e
DTSTART:20260918T190000
DTEND:20260918T200000
DESCRIPTION:
LOCATION:
SUMMARY:VFB @ Akron-Fairgrove
END:VEVENT
BEGIN:VEVENT
DTSTAMP:20260419T153445Z
UID:737409b2-1d58-498b-a9ad-958a3fef7546
DTSTART:20260922T180000
DTEND:20260922T190000
DESCRIPTION:
LOCATION:
SUMMARY:JVVVB @ CPS
END:VEVENT
BEGIN:VEVENT
DTSTAMP:20260419T153445Z
UID:537d5fbc-ae3a-4c5a-8172-7092180fc893
DTSTART:20260924T180000
DTEND:20260924T190000
DESCRIPTION:
LOCATION:
SUMMARY:JVVVB vs BCAS
END:VEVENT
BEGIN:VEVENT
DTSTAMP:20260419T153445Z
UID:be354b03-75ca-4bc0-bbd2-436d8bcb2917
DTSTART:20260925T190000
DTEND:20260925T200000
DESCRIPTION:
LOCATION:
SUMMARY:VFB vs Caseville
END:VEVENT
BEGIN:VEVENT
DTSTAMP:20260419T153445Z
UID:7f8b5738-3fbd-459b-8b43-b80b693c64a8
DTSTART:20260929T180000
DTEND:20260929T190000
DESCRIPTION:
LOCATION:
SUMMARY:JVVVB @ Caseville
END:VEVENT
BEGIN:VEVENT
DTSTAMP:20260419T153445Z
UID:02636db8-1f06-4bdc-b425-26020403b715
DTSTART:20261006T180000
DTEND:20261006T190000
DESCRIPTION:
LOCATION:
SUMMARY:JVVVB @ Owengage
END:VEVENT
BEGIN:VEVENT
DTSTAMP:20260419T153445Z
UID:ab62b85b-0288-4a3a-a9da-27b618ba5dde
DTSTART:20261008T180000
DTEND:20261008T190000
DESCRIPTION:
LOCATION:
SUMMARY:JVVVB vs North Huron
END:VEVENT
BEGIN:VEVENT
DTSTAMP:20260419T153445Z
UID:33becada-eb1a-49f0-ad99-d9051bff3a8e
DTSTART:20261009T190000
DTEND:20261009T200000
DESCRIPTION:
LOCATION:
SUMMARY:VFB @ BCAS
END:VEVENT
BEGIN:VEVENT
DTSTAMP:20260419T153445Z
UID:6e82af81-ae98-462c-8723-a705d0dc4883
DTSTART:20261013T180000
DTEND:20261013T190000
DESCRIPTION:
LOCATION:
SUMMARY:JVVVB @ BC Academy
END:VEVENT
BEGIN:VEVENT
DTSTAMP:20260419T153445Z
UID:ef9f8e65-2c6c-49ea-bb07-c351e59590d4
DTSTART:20261015T180000
DTEND:20261015T190000
DESCRIPTION:
LOCATION:
SUMMARY:JVVVB @ Akron-Fairgrove
END:VEVENT
BEGIN:VEVENT
DTSTAMP:20260419T153445Z
UID:09ddc5c7-4b55-42a1-b70c-8404a9a48e80
DTSTART:20261016T190000
DTEND:20261016T200000
DESCRIPTION:
LOCATION:
SUMMARY:VFB vs CPS
END:VEVENT
BEGIN:VEVENT
DTSTAMP:20260419T153445Z
UID:097185ec-7c8d-4111-b6be-d836404a2bd9
DTSTART:20261020T180000
DTEND:20261020T190000
DESCRIPTION:
LOCATION:
SUMMARY:JVVVB vs CPS
END:VEVENT
BEGIN:VEVENT
DTSTAMP:20260419T153445Z
UID:8d21fb61-f2a1-4398-97e8-978eb7f111ce
DTSTART:20261022T180000
DTEND:20261022T190000
DESCRIPTION:
LOCATION:
SUMMARY:JVVVB @ BCAS
END:VEVENT
BEGIN:VEVENT
DTSTAMP:20260419T153445Z
UID:9e76b993-d9bd-42d6-807a-d68496efd9a7
DTSTART:20261023T190000
DTEND:20261023T200000
DESCRIPTION:
LOCATION:
SUMMARY:VFB @ Mayville
END:VEVENT
BEGIN:VEVENT
DTSTAMP:20260419T153445Z
UID:d10ff989-9169-4d0a-b4f3-c9d07a992485
DTSTART:20261027T180000
DTEND:20261027T190000
DESCRIPTION:
LOCATION:
SUMMARY:JVVVB vs Caseville
END:VEVENT
BEGIN:VEVENT
DTSTAMP:20260419T153445Z
UID:2d0bb491-d834-4f1c-a023-6265f0245eb1
DTSTART;VALUE=DATE:20261102
DTEND;VALUE=DATE:20261107
DESCRIPTION:
LOCATION:
SUMMARY:Varsity Volleyball Districts Week
END:VEVENT
BEGIN:VEVENT
DTSTAMP:20260419T153445Z
UID:94bfb418-7a64-464d-8dc4-365fc7489050
DTSTART;VALUE=DATE:20261104
DTEND;VALUE=DATE:20261107
DESCRIPTION:
LOCATION:
SUMMARY:JVVVB: MHSAA Tournament Start Date
END:VEVENT
BEGIN:VEVENT
DTSTAMP:20260419T153445Z
UID:9d81ca3f-4503-4b68-8ff2-18810825037f
DTSTART;VALUE=DATE:20261115
DTEND;VALUE=DATE:20261116
DESCRIPTION:
LOCATION:
SUMMARY:Varsity Volleyball All Conference Selection Meeting Time TBD
END:VEVENT
BEGIN:VEVENT
DTSTAMP:20260419T153445Z
UID:c566dcbf-571e-41a7-a4f4-cd9bf024a29a
DTSTART;VALUE=DATE:20270818
DTEND;VALUE=DATE:20270819
DESCRIPTION:
LOCATION:
SUMMARY:JVVVB First Practice
END:VEVENT
BEGIN:VEVENT
DTSTAMP:20260419T153445Z
UID:789a0e05-156c-4876-abf8-56d522de8c80
DTSTART:20270909T180000
DTEND:20270909T190000
DESCRIPTION:
LOCATION:
SUMMARY:JVVVB @ Owengage
END:VEVENT
BEGIN:VEVENT
DTSTAMP:20260419T153445Z
UID:85f75a6e-da84-4025-bfdd-6df2dae72442
DTSTART:20270914T180000
DTEND:20270914T190000
DESCRIPTION:
LOCATION:
SUMMARY:JVVVB vs North Huron
END:VEVENT
BEGIN:VEVENT
DTSTAMP:20260419T153445Z
UID:c7283239-a04e-4ffb-9f81-d9f5a094db81
DTSTART:20270916T180000
DTEND:20270916T190000
DESCRIPTION:
LOCATION:
SUMMARY:JVVVB @ BC Academy
END:VEVENT
BEGIN:VEVENT
DTSTAMP:20260419T153445Z
UID:c95fe8ab-e67a-4a6f-b640-a44cbceef970
DTSTART:20270921T180000
DTEND:20270921T190000
DESCRIPTION:
LOCATION:
SUMMARY:JVVVB @ Akron-Fairgrove
END:VEVENT
BEGIN:VEVENT
DTSTAMP:20260419T153445Z
UID:a3b82ade-f135-430e-9972-7a6c8eeb72ed
DTSTART:20270923T180000
DTEND:20270923T190000
DESCRIPTION:
LOCATION:
SUMMARY:JVVVB vs CPS
END:VEVENT
BEGIN:VEVENT
DTSTAMP:20260419T153445Z
UID:ec56a06d-ae78-404a-9f24-df0e323b83aa
DTSTART:20270928T180000
DTEND:20270928T190000
DESCRIPTION:
LOCATION:
SUMMARY:JVVVB @ BCAS
END:VEVENT
BEGIN:VEVENT
DTSTAMP:20260419T153445Z
UID:50d052c3-3eab-4088-af1e-076da753658d
DTSTART:20270930T180000
DTEND:20270930T190000
DESCRIPTION:
LOCATION:
SUMMARY:JVVVB vs Caseville
END:VEVENT
BEGIN:VEVENT
DTSTAMP:20260419T153445Z
UID:9f299a81-d601-490e-ad2a-fbb5f94e798c
DTSTART:20271007T180000
DTEND:20271007T190000
DESCRIPTION:
LOCATION:
SUMMARY:JVVVB vs Owengage
END:VEVENT
BEGIN:VEVENT
DTSTAMP:20260419T153445Z
UID:49071d89-806e-4feb-a523-64274bb184fc
DTSTART:20271012T180000
DTEND:20271012T190000
DESCRIPTION:
LOCATION:
SUMMARY:JVVVB @ North Huron
END:VEVENT
BEGIN:VEVENT
DTSTAMP:20260419T153445Z
UID:82be7027-1d74-44b2-ac4d-ed7eea62a93e
DTSTART:20271014T180000
DTEND:20271014T190000
DESCRIPTION:
LOCATION:
SUMMARY:JVVVB vs BC Academy
END:VEVENT
BEGIN:VEVENT
DTSTAMP:20260419T153445Z
UID:fd2a0c01-6dc9-40ea-8520-76ce724a4ce3
DTSTART:20271019T180000
DTEND:20271019T190000
DESCRIPTION:
LOCATION:
SUMMARY:JVVVB vs Akron-Fairgrove
END:VEVENT
BEGIN:VEVENT
DTSTAMP:20260419T153445Z
UID:af518bd1-66d3-4a53-aaae-c3a20162b5f9
DTSTART:20271021T180000
DTEND:20271021T190000
DESCRIPTION:
LOCATION:
SUMMARY:JVVVB @ CPS
END:VEVENT
BEGIN:VEVENT
DTSTAMP:20260419T153445Z
UID:761adc61-8748-4c8c-af10-4a3e65dfbc5c
DTSTART:20271026T180000
DTEND:20271026T190000
DESCRIPTION:
LOCATION:
SUMMARY:JVVVB vs BCAS
END:VEVENT
BEGIN:VEVENT
DTSTAMP:20260419T153445Z
UID:2da419fa-3f9d-4bc4-852c-5971a2d26b4b
DTSTART:20271028T180000
DTEND:20271028T190000
DESCRIPTION:
LOCATION:
SUMMARY:JVVVB vs Caseville
END:VEVENT
BEGIN:VEVENT
DTSTAMP:20260419T153445Z
UID:a941cec1-61f2-4d17-8b63-461a31c9e490
DTSTART;VALUE=DATE:20271101
DTEND;VALUE=DATE:20271106
DESCRIPTION:
LOCATION:
SUMMARY:Varsity Volleyball Districts Week
END:VEVENT
BEGIN:VEVENT
DTSTAMP:20260419T153445Z
UID:b369fa05-7a1f-45c1-b6d7-d6cc97bb297d
DTSTART;VALUE=DATE:20271114
DTEND;VALUE=DATE:20271115
DESCRIPTION:
LOCATION:
SUMMARY:Varsity Volleyball All Conference Selection Meeting Time TBD
END:VEVENT
END:VCALENDAR
