BEGIN:VCALENDAR
VERSION:2.0
PRODID:icalendar-ruby
CALSCALE:GREGORIAN
BEGIN:VTIMEZONE
TZID:America/Chicago
BEGIN:DAYLIGHT
DTSTART:20260308T030000
TZOFFSETFROM:-0600
TZOFFSETTO:-0500
RRULE:FREQ=YEARLY;BYDAY=2SU;BYMONTH=3
TZNAME:CDT
END:DAYLIGHT
BEGIN:STANDARD
DTSTART:20261101T010000
TZOFFSETFROM:-0500
TZOFFSETTO:-0600
RRULE:FREQ=YEARLY;BYDAY=1SU;BYMONTH=11
TZNAME:CST
END:STANDARD
END:VTIMEZONE
BEGIN:VEVENT
DTSTAMP:20260422T085004Z
UID:8844e6a2-da5a-4326-8f0e-9afbe0888e4a
DTSTART;VALUE=DATE:20260501
DTEND;VALUE=DATE:20260502
DESCRIPTION:
LOCATION:
SUMMARY:2 Hour Early Dismissal
END:VEVENT
BEGIN:VEVENT
DTSTAMP:20260422T085004Z
UID:1017106a-683b-4d75-b555-52b598510be8
DTSTART;VALUE=DATE:20260515
DTEND;VALUE=DATE:20260516
DESCRIPTION:
LOCATION:
SUMMARY:Half Day Student Attendance - CHS Commencement
END:VEVENT
BEGIN:VEVENT
DTSTAMP:20260422T085004Z
UID:074136bb-c129-48c7-88f7-6a41efc6a5e2
DTSTART;VALUE=DATE:20260521
DTEND;VALUE=DATE:20260522
DESCRIPTION:
LOCATION:
SUMMARY:2 Hour Early Dismissal - Last Day of School
END:VEVENT
END:VCALENDAR
