BEGIN:VCALENDAR
VERSION:2.0
PRODID:icalendar-ruby
CALSCALE:GREGORIAN
BEGIN:VTIMEZONE
TZID:America/New_York
BEGIN:DAYLIGHT
DTSTART:20260308T030000
TZOFFSETFROM:-0500
TZOFFSETTO:-0400
RRULE:FREQ=YEARLY;BYDAY=2SU;BYMONTH=3
TZNAME:EDT
END:DAYLIGHT
BEGIN:STANDARD
DTSTART:20261101T010000
TZOFFSETFROM:-0400
TZOFFSETTO:-0500
RRULE:FREQ=YEARLY;BYDAY=1SU;BYMONTH=11
TZNAME:EST
END:STANDARD
END:VTIMEZONE
BEGIN:VEVENT
DTSTAMP:20260420T102322Z
UID:b00e7703-4538-4748-9425-bd18cca3ac19
DTSTART;VALUE=DATE:20260420
DTEND;VALUE=DATE:20260425
DESCRIPTION:
LOCATION:
SUMMARY:Spring Break
END:VEVENT
BEGIN:VEVENT
DTSTAMP:20260420T102322Z
UID:f8f95a93-de5c-4221-99ac-04aa04f4e11c
DTSTART:20260504T180000
DTEND:20260504T185000
DESCRIPTION:
LOCATION:
SUMMARY:School Committee
END:VEVENT
BEGIN:VEVENT
DTSTAMP:20260420T102322Z
UID:113c92dc-9d44-4547-8655-447595cdbc0a
DTSTART;VALUE=DATE:20260506
DTEND;VALUE=DATE:20260507
DESCRIPTION:
LOCATION:
SUMMARY:½ Day All Schools
END:VEVENT
BEGIN:VEVENT
DTSTAMP:20260420T102322Z
UID:b1bd0b34-6f15-4067-af20-074ccd335de1
DTSTART;VALUE=DATE:20260525
DTEND;VALUE=DATE:20260526
DESCRIPTION:
LOCATION:
SUMMARY:Memorial Day
END:VEVENT
BEGIN:VEVENT
DTSTAMP:20260420T102322Z
UID:be95cc52-bf34-41db-9f4e-23059da6bd83
DTSTART;VALUE=DATE:20260529
DTEND;VALUE=DATE:20260530
DESCRIPTION:
LOCATION:
SUMMARY:Graduation Ceremony
END:VEVENT
BEGIN:VEVENT
DTSTAMP:20260420T102322Z
UID:fec81d38-7075-468d-9bb7-c02147e085a3
DTSTART:20260601T180000
DTEND:20260601T185000
DESCRIPTION:
LOCATION:
SUMMARY:School Committee
END:VEVENT
BEGIN:VEVENT
DTSTAMP:20260420T102322Z
UID:da5a49d3-f206-4999-8824-f245c01dd837
DTSTART;VALUE=DATE:20260603
DTEND;VALUE=DATE:20260604
DESCRIPTION:
LOCATION:
SUMMARY:½ Day All Schools
END:VEVENT
BEGIN:VEVENT
DTSTAMP:20260420T102322Z
UID:9663ccc6-25a2-4e29-aec2-b4f0077549ce
DTSTART;VALUE=DATE:20260610
DTEND;VALUE=DATE:20260611
DESCRIPTION:
LOCATION:
SUMMARY:Scheduled Last Day
END:VEVENT
BEGIN:VEVENT
DTSTAMP:20260420T102322Z
UID:b769dce9-3029-4437-b775-45d00f2bf2a9
DTSTART;VALUE=DATE:20260619
DTEND;VALUE=DATE:20260620
DESCRIPTION:
LOCATION:
SUMMARY:Juneteenth
END:VEVENT
END:VCALENDAR
