BEGIN:VCALENDAR
VERSION:2.0
PRODID:icalendar-ruby
CALSCALE:GREGORIAN
BEGIN:VTIMEZONE
TZID:America/New_York
BEGIN:DAYLIGHT
DTSTART:20260308T030000
TZOFFSETFROM:-0500
TZOFFSETTO:-0400
RRULE:FREQ=YEARLY;BYDAY=2SU;BYMONTH=3
TZNAME:EDT
END:DAYLIGHT
BEGIN:STANDARD
DTSTART:20261101T010000
TZOFFSETFROM:-0400
TZOFFSETTO:-0500
RRULE:FREQ=YEARLY;BYDAY=1SU;BYMONTH=11
TZNAME:EST
END:STANDARD
END:VTIMEZONE
BEGIN:VEVENT
DTSTAMP:20260419T163443Z
UID:07edc646-2f85-4256-9285-d24a119cbcd6
DTSTART:20260419T143000
DTEND:20260419T163000
DESCRIPTION:
LOCATION:540 E Main St\, Middleburg\, PA 17842\, USA
SUMMARY:Sound of Music
END:VEVENT
BEGIN:VEVENT
DTSTAMP:20260419T163443Z
UID:1f8e4d8a-9e5c-44fc-ad41-d409e8c2ec50
DTSTART:20260506T180000
DTEND:20260506T190000
DESCRIPTION:
LOCATION:
SUMMARY:Vocal Collective Concert
END:VEVENT
BEGIN:VEVENT
DTSTAMP:20260419T163443Z
UID:eb3c05ed-17c2-417b-88fa-dce407a389d3
DTSTART:20260506T190000
DTEND:20260506T210000
DESCRIPTION:
LOCATION:
SUMMARY:Senior Solo Concert
END:VEVENT
BEGIN:VEVENT
DTSTAMP:20260419T163443Z
UID:fca6b13e-b03f-4557-b736-caab6566f1d1
DTSTART:20260508T190000
DTEND:20260508T210000
DESCRIPTION:
LOCATION:
SUMMARY:Spring High School Vocal Music Concert (Grades 8 to 12)
END:VEVENT
BEGIN:VEVENT
DTSTAMP:20260419T163443Z
UID:43b2aa4f-fba4-43f2-b5da-c6229dd9c220
DTSTART:20260525T080000
DTEND:20260525T090000
DESCRIPTION:
LOCATION:
SUMMARY:All Schools Closed
END:VEVENT
BEGIN:VEVENT
DTSTAMP:20260419T163443Z
UID:1c8fc12c-7221-4434-a5f2-4424f67c8f96
DTSTART:20260528T111500
DTEND:20260528T113000
DESCRIPTION:
LOCATION:
SUMMARY:Last Day of Classes / Early Dismissal
END:VEVENT
END:VCALENDAR
