BEGIN:VCALENDAR
VERSION:2.0
PRODID:icalendar-ruby
CALSCALE:GREGORIAN
BEGIN:VTIMEZONE
TZID:America/Denver
BEGIN:DAYLIGHT
DTSTART:20260308T030000
TZOFFSETFROM:-0700
TZOFFSETTO:-0600
RRULE:FREQ=YEARLY;BYDAY=2SU;BYMONTH=3
TZNAME:MDT
END:DAYLIGHT
BEGIN:STANDARD
DTSTART:20261101T010000
TZOFFSETFROM:-0600
TZOFFSETTO:-0700
RRULE:FREQ=YEARLY;BYDAY=1SU;BYMONTH=11
TZNAME:MST
END:STANDARD
END:VTIMEZONE
BEGIN:VEVENT
DTSTAMP:20260420T111919Z
UID:9296e631-ba9c-4ede-b785-ffd0f69eacb6
DTSTART;VALUE=DATE:20260420
DTEND;VALUE=DATE:20260421
DESCRIPTION:
LOCATION:138 Wolfcreek Rd\, 138 Wolfcreek Rd\, Pine Ridge\, South Dakota\, 
 57770
SUMMARY:Middle School Track Meet - Wolf Creek & Batesland Combined Meet
END:VEVENT
BEGIN:VEVENT
DTSTAMP:20260420T111919Z
UID:821d1518-06e8-475b-aaf4-045d8fb088f6
DTSTART:20260422T140000
DTEND:20260422T150000
DESCRIPTION:<html><head><meta http-equiv="Content-Type" content="text/html\
 ; charset=utf-8"></head><body><div class="elementToProof" style="font-fami
 ly:Aptos\,Aptos_EmbeddedFont\,Aptos_MSFontService\,Calibri\,Helvetica\,san
 s-serif\; font-size:12pt\; color:rgb(0\,0\,0)">Please get all information 
 for announcements to our student council sponsor Bre in the Legends Room.&
 nbsp\;</div></body></html>
LOCATION:
SUMMARY:Student Council - KILI RADIO HOUR 2pm to 3pm
END:VEVENT
BEGIN:VEVENT
DTSTAMP:20260420T111919Z
UID:7afc0d28-4c17-4a93-8f81-5b139e4fd071
DTSTART;VALUE=DATE:20260423
DTEND;VALUE=DATE:20260424
DESCRIPTION:
LOCATION:Belle Fourche Country Club\, 10941 SD-34\, Belle Fourche\, SD\, 57
 717
SUMMARY:GOLF - Belle Fourche Pre-Region 
END:VEVENT
BEGIN:VEVENT
DTSTAMP:20260420T111919Z
UID:8f1e76e2-4173-490c-83c5-6fa665d9faef
DTSTART;VALUE=DATE:20260427
DTEND;VALUE=DATE:20260428
DESCRIPTION:
LOCATION:prairie ridge golf club
SUMMARY:Golf - LNI @ Prairie Ridge Golf Clud Box Elder
END:VEVENT
BEGIN:VEVENT
DTSTAMP:20260420T111919Z
UID:2b3aa4ca-f98c-4915-8e8f-713d47772a4a
DTSTART;VALUE=DATE:20260428
DTEND;VALUE=DATE:20260429
DESCRIPTION:
LOCATION:prairie ridge golf course
SUMMARY:Golf @ Douglas Invite\, Box Elder
END:VEVENT
BEGIN:VEVENT
DTSTAMP:20260420T111919Z
UID:4cc9e146-09da-4d73-90b4-fedc13c314ce
DTSTART:20260429T140000
DTEND:20260429T150000
DESCRIPTION:<html><head><meta http-equiv="Content-Type" content="text/html\
 ; charset=utf-8"></head><body><div class="elementToProof" style="font-fami
 ly:Aptos\,Aptos_EmbeddedFont\,Aptos_MSFontService\,Calibri\,Helvetica\,san
 s-serif\; font-size:12pt\; color:rgb(0\,0\,0)">Please get all information 
 for announcements to our student council sponsor Bre in the Legends Room.&
 nbsp\;</div></body></html>
LOCATION:
SUMMARY:Student Council - KILI RADIO HOUR 2pm to 3pm
END:VEVENT
BEGIN:VEVENT
DTSTAMP:20260420T111919Z
UID:cd56fe02-dd6b-418a-92a0-bcb998acd611
DTSTART;VALUE=DATE:20260430
DTEND;VALUE=DATE:20260501
DESCRIPTION:
LOCATION:138 Wolfcreek Rd\, 138 Wolfcreek Rd\, Pine Ridge\, South Dakota\, 
 57770
SUMMARY:Middle School Track Meet - Wolf Creek & Batesland Combined Meet
END:VEVENT
BEGIN:VEVENT
DTSTAMP:20260420T111919Z
UID:06338ddf-ae88-4b70-a4a9-2c3333937c26
DTSTART:20260430T150000
DTEND:20260430T180000
DESCRIPTION:<html><head><meta http-equiv="Content-Type" content="text/html\
 ; charset=utf-8"></head><body><p>Board Meeting A @ LTHS Library </p></body
 ></html>
LOCATION:138 Wolfcreek Rd\, Pine Ridge\, SD 57770\, USA
SUMMARY:OLCSD School Board Meeting 
END:VEVENT
BEGIN:VEVENT
DTSTAMP:20260420T111919Z
UID:434718ac-22d5-4501-a77a-2ced52f291b7
DTSTART:20260506T140000
DTEND:20260506T150000
DESCRIPTION:<html><head><meta http-equiv="Content-Type" content="text/html\
 ; charset=utf-8"></head><body><div class="elementToProof" style="font-fami
 ly:Aptos\,Aptos_EmbeddedFont\,Aptos_MSFontService\,Calibri\,Helvetica\,san
 s-serif\; font-size:12pt\; color:rgb(0\,0\,0)">Please get all information 
 for announcements to our student council sponsor Bre in the Legends Room.&
 nbsp\;</div></body></html>
LOCATION:
SUMMARY:Student Council - KILI RADIO HOUR 2pm to 3pm
END:VEVENT
BEGIN:VEVENT
DTSTAMP:20260420T111919Z
UID:3cd7f079-ded3-44ea-8e81-872f08b68c53
DTSTART;VALUE=DATE:20260507
DTEND;VALUE=DATE:20260509
DESCRIPTION:
LOCATION:14 New Wolf Cr School Rd\, Pine Ridge\, SD 57770\, USA
SUMMARY:Finals Days - All Classes 
END:VEVENT
BEGIN:VEVENT
DTSTAMP:20260420T111919Z
UID:a4c9fc3e-32c1-4a39-80b9-d4c891ca8a78
DTSTART;VALUE=DATE:20260508
DTEND;VALUE=DATE:20260509
DESCRIPTION:
LOCATION:
SUMMARY:Senior Confirmed Graduates Final Day
END:VEVENT
BEGIN:VEVENT
DTSTAMP:20260420T111919Z
UID:9a8b5e96-4406-45ed-80a7-3de0df3db603
DTSTART:20260508T110000
DTEND:20260508T130000
DESCRIPTION:
LOCATION:14 New Wolf Cr School Rd\, Pine Ridge\, SD 57770\, USA
SUMMARY:Locker Clean out during 7th Period
END:VEVENT
BEGIN:VEVENT
DTSTAMP:20260420T111919Z
UID:5ab287e6-792e-4806-9066-f671b36cce14
DTSTART;VALUE=DATE:20260509
DTEND;VALUE=DATE:20260514
DESCRIPTION:
LOCATION:
SUMMARY:Senior Class Trip 
END:VEVENT
BEGIN:VEVENT
DTSTAMP:20260420T111919Z
UID:9ce1cdbc-3e5d-43c9-bae4-a40c19680bb9
DTSTART;VALUE=DATE:20260511
DTEND;VALUE=DATE:20260514
DESCRIPTION:<p>TBD</p>
LOCATION:TBD
SUMMARY:CTE Field Day
END:VEVENT
BEGIN:VEVENT
DTSTAMP:20260420T111919Z
UID:e5c1eee8-343b-45fd-85d1-71bdcd54daad
DTSTART:20260513T140000
DTEND:20260513T150000
DESCRIPTION:<html><head><meta http-equiv="Content-Type" content="text/html\
 ; charset=utf-8"></head><body><div class="elementToProof" style="font-fami
 ly:Aptos\,Aptos_EmbeddedFont\,Aptos_MSFontService\,Calibri\,Helvetica\,san
 s-serif\; font-size:12pt\; color:rgb(0\,0\,0)">Please get all information 
 for announcements to our student council sponsor Bre in the Legends Room.&
 nbsp\;</div></body></html>
LOCATION:
SUMMARY:Student Council - KILI RADIO HOUR 2pm to 3pm
END:VEVENT
BEGIN:VEVENT
DTSTAMP:20260420T111919Z
UID:c06c67dc-f938-488a-895e-5423f5ee8263
DTSTART;VALUE=DATE:20260514
DTEND;VALUE=DATE:20260515
DESCRIPTION:<html><head><meta http-equiv="Content-Type" content="text/html\
 ; charset=utf-8"></head><body><div class="elementToProof" style="font-fami
 ly:Aptos\,Aptos_EmbeddedFont\,Aptos_MSFontService\,Calibri\,Helvetica\,san
 s-serif\; font-size:12pt\; color:rgb(0\,0\,0)">Various presenters\, make &
 amp\; takes\, sessions will take place 8am-2:00pm&nbsp\;</div></body></htm
 l>
LOCATION:
SUMMARY:Family Engagement Culture Conferences Day
END:VEVENT
BEGIN:VEVENT
DTSTAMP:20260420T111919Z
UID:f3cfa3e7-4d7f-4355-8c4d-eb0aeda818c6
DTSTART;VALUE=DATE:20260514
DTEND;VALUE=DATE:20260515
DESCRIPTION:
LOCATION:TBD
SUMMARY:FUN FIELD DAY 
END:VEVENT
BEGIN:VEVENT
DTSTAMP:20260420T111919Z
UID:1eb148dd-032a-469b-af5a-aaab3c4f85f3
DTSTART:20260514T140000
DTEND:20260514T153000
DESCRIPTION:<html><head><meta http-equiv="Content-Type" content="text/html\
 ; charset=utf-8"></head><body><div class="elementToProof" style="font-fami
 ly:Aptos\,Aptos_EmbeddedFont\,Aptos_MSFontService\,Calibri\,Helvetica\,san
 s-serif\; font-size:12pt\; color:rgb(0\,0\,0)">All families are invited to
  attend the end of year awards for all their students and athletes&nbsp\;<
 /div></body></html>
LOCATION:
SUMMARY:Awards Banquet for all Academics & Athletics 
END:VEVENT
BEGIN:VEVENT
DTSTAMP:20260420T111919Z
UID:fc001713-75d1-4101-9941-f7643d8b029e
DTSTART;VALUE=DATE:20260515
DTEND;VALUE=DATE:20260516
DESCRIPTION:
LOCATION:14 New Wolf Cr School Rd\, Pine Ridge\, SD 57770\, USA
SUMMARY:End of 4th Quarter - Students Last Day of School
END:VEVENT
BEGIN:VEVENT
DTSTAMP:20260420T111919Z
UID:32386a18-a333-4c35-896d-4e74fcd04d34
DTSTART:20260515T080000
DTEND:20260515T130000
DESCRIPTION:
LOCATION:
SUMMARY:1pm Early Dismissal for all Students
END:VEVENT
BEGIN:VEVENT
DTSTAMP:20260420T111919Z
UID:46d92525-bffa-4141-87de-8719d12b054a
DTSTART:20260515T080000
DTEND:20260515T120000
DESCRIPTION:
LOCATION:138 Wolfcreek Rd\, 138 Wolfcreek Rd\, Pine Ridge\, South Dakota\, 
 57770
SUMMARY:Field Day presented by Tatanka Student Council 
END:VEVENT
BEGIN:VEVENT
DTSTAMP:20260420T111919Z
UID:07349cf1-da90-462b-bc44-e71587a31f13
DTSTART:20260515T130000
DTEND:20260515T130000
DESCRIPTION:
LOCATION:14 New Wolf Cr School Rd\, Pine Ridge\, SD 57770\, USA
SUMMARY:1:00pm Dismissal for Students
END:VEVENT
BEGIN:VEVENT
DTSTAMP:20260420T111919Z
UID:7f718402-1497-4cf5-bab0-69550a0edf44
DTSTART:20260515T140000
DTEND:20260515T170000
DESCRIPTION:
LOCATION:14 New Wolf Cr School Rd\, Pine Ridge\, SD 57770\, USA
SUMMARY:2:00pm Feather Tying & Senior Award/Scholarships for Class of 2026
END:VEVENT
BEGIN:VEVENT
DTSTAMP:20260420T111919Z
UID:cfc7060d-5f35-4690-8082-862d45646986
DTSTART:20260515T140000
DTEND:20260515T200000
DESCRIPTION:
LOCATION:
SUMMARY:Feather Tying Ceremony
END:VEVENT
BEGIN:VEVENT
DTSTAMP:20260420T111919Z
UID:38101cd9-7a3c-4cc2-ad04-32c7fabdcd76
DTSTART:20260516T120000
DTEND:20260516T140000
DESCRIPTION:
LOCATION:14 New Wolf Cr School Rd\, Pine Ridge\, SD 57770\, USA
SUMMARY:Graduation Class of 2026
END:VEVENT
BEGIN:VEVENT
DTSTAMP:20260420T111919Z
UID:8fccbb3e-d76a-4c23-ba55-eea3d3520cfb
DTSTART;VALUE=DATE:20260518
DTEND;VALUE=DATE:20260519
DESCRIPTION:
LOCATION:14 New Wolf Cr School Rd\, Pine Ridge\, SD 57770\, USA
SUMMARY:Teachers/Bus Drivers Last Day of Work
END:VEVENT
BEGIN:VEVENT
DTSTAMP:20260420T111919Z
UID:1bb11fb6-24bd-482d-96a0-9f321eaf5bb1
DTSTART;VALUE=DATE:20260525
DTEND;VALUE=DATE:20260526
DESCRIPTION:<p>Memorial Day Holiday </p>
LOCATION:14 New Wolf Cr School Rd\, Pine Ridge\, SD 57770\, USA
SUMMARY:NO WORK -BUILDING CLOSED
END:VEVENT
END:VCALENDAR
