BEGIN:VCALENDAR
VERSION:2.0
PRODID:icalendar-ruby
CALSCALE:GREGORIAN
BEGIN:VTIMEZONE
TZID:America/New_York
BEGIN:DAYLIGHT
DTSTART:20260308T030000
TZOFFSETFROM:-0500
TZOFFSETTO:-0400
RRULE:FREQ=YEARLY;BYDAY=2SU;BYMONTH=3
TZNAME:EDT
END:DAYLIGHT
BEGIN:STANDARD
DTSTART:20261101T010000
TZOFFSETFROM:-0400
TZOFFSETTO:-0500
RRULE:FREQ=YEARLY;BYDAY=1SU;BYMONTH=11
TZNAME:EST
END:STANDARD
END:VTIMEZONE
BEGIN:VEVENT
DTSTAMP:20260421T163104Z
UID:a1af3297-af2b-49fb-8a18-d26ea3c32321
DTSTART:20260511T180000
DTEND:20260511T193000
DESCRIPTION:<p>Every January\, March\, May\, and September\, school board m
 embers from across the state come together to discuss important topics\, c
 onnect with one another\, and learn about critical issues affecting Maine 
 schools. Formerly known as "Regional School Board Meetings"\, the School B
 oard Support &amp\; Development meetings are designed for all board member
 s.</p><p>Choose the date and time that works the best for your schedule an
 d join board members from all nine regions. These 90 minute meetings are h
 eld via Zoom and begin at 6:00 p.m. Agendas and Zoom information will be s
 ent to all board members at the start of each meeting month.</p><p>For add
 itional information\, contact <a target="_blank" rel="noopener noreferrer 
 nofollow" href="mailto:msba@msmaweb.com">msba@msmaweb.com</a>. </p>
LOCATION:Zoom
SUMMARY:MSBA School Board Support & Development Meeting
END:VEVENT
BEGIN:VEVENT
DTSTAMP:20260421T163104Z
UID:fddf6da7-31cd-4eb1-b00f-82d0fe5063d9
DTSTART:20260519T180000
DTEND:20260519T200000
DESCRIPTION:<p>Registration is open for the upcoming <strong>Essentials of 
 Parliamentary Procedure for School Boards Part II workshop</strong>\, sche
 duled for <strong>May 19th from 6:00-8:00 p.m. via Zoom</strong>.&nbsp\;</
 p><p>This workshop will benefit school board members and superintendents w
 ho are looking to strengthen the effectiveness and efficiency&nbsp\;of the
 ir meetings. Join us for this second session with registered parliamentari
 an Carl Pease\, who will address your most pressing questions.</p><p>You a
 re encouraged to submit questions in advance to <a target="_blank" rel="no
 opener noreferrer nofollow" href="mailto:msma@msmaweb.com">msma@msmaweb.co
 m</a>\; Carl will answer them during the workshop. Did you miss the first 
 workshop on April 2nd?&nbsp\;Don’t worry! We will send you the YouTube l
 ink from April 2nd when you register for Part II.&nbsp\;&nbsp\;</p><p>Cont
 act <a target="_blank" rel="noopener noreferrer nofollow" href="mailto:msm
 a@msmaweb.com">msma@msmaweb.com</a> for the registration information. Plea
 se register\, and submit any questions\, <strong>by Friday\, May 15th</str
 ong>.</p>
LOCATION:Zoom
SUMMARY:Essentials of Parliamentary Procedure for School Boards Part II Wor
 kshop
END:VEVENT
BEGIN:VEVENT
DTSTAMP:20260421T163104Z
UID:a662bb59-bb6f-451c-a7b6-b29b25660d8c
DTSTART:20260520T180000
DTEND:20260520T193000
DESCRIPTION:<p>Every January\, March\, May\, and September\, school board m
 embers from across the state come together to discuss important topics\, c
 onnect with one another\, and learn about critical issues affecting Maine 
 schools. Formerly known as "Regional School Board Meetings"\, the School B
 oard Support &amp\; Development meetings are designed for all board member
 s.</p><p>Choose the date and time that works the best for your schedule an
 d join board members from all nine regions. These 90 minute meetings are h
 eld via Zoom and begin at 6:00 p.m. Agendas and Zoom information will be s
 ent to all board members at the start of each meeting month.</p><p>For add
 itional information\, contact <a target="_blank" rel="noopener noreferrer 
 nofollow" href="mailto:msba@msmaweb.com">msba@msmaweb.com</a>. </p>
LOCATION:Zoom
SUMMARY:MSBA School Board Support & Development Meeting
END:VEVENT
BEGIN:VEVENT
DTSTAMP:20260421T163104Z
UID:3c5f1da6-a6d3-4788-a3d3-b1dd12f2c627
DTSTART:20260528T180000
DTEND:20260528T193000
DESCRIPTION:<p>Every January\, March\, May\, and September\, school board m
 embers from across the state come together to discuss important topics\, c
 onnect with one another\, and learn about critical issues affecting Maine 
 schools. Formerly known as "Regional School Board Meetings"\, the School B
 oard Support &amp\; Development meetings are designed for all board member
 s.</p><p>Choose the date and time that works the best for your schedule an
 d join board members from all nine regions. These 90 minute meetings are h
 eld via Zoom and begin at 6:00 p.m. Agendas and Zoom information will be s
 ent to all board members at the start of each meeting month.</p><p>For add
 itional information\, contact <a target="_blank" rel="noopener noreferrer 
 nofollow" href="mailto:msba@msmaweb.com">msba@msmaweb.com</a>. </p>
LOCATION:Zoom
SUMMARY:MSBA School Board Support & Development Meeting
END:VEVENT
BEGIN:VEVENT
DTSTAMP:20260421T163104Z
UID:8fe151fa-f111-4ac3-be4c-7c4ce444a21a
DTSTART:20260909T180000
DTEND:20260909T193000
DESCRIPTION:<p>Every January\, March\, May\, and September\, school board m
 embers from across the state come together to discuss important topics\, c
 onnect with one another\, and learn about critical issues affecting Maine 
 schools. Formerly known as "Regional School Board Meetings"\, the School B
 oard Support &amp\; Development meetings are designed for all board member
 s.</p><p>Choose the date and time that works the best for your schedule an
 d join board members from all nine regions. These 90 minute meetings are h
 eld via Zoom and begin at 6:00 p.m. Agendas and Zoom information will be s
 ent to all board members at the start of each meeting month.</p><p>For add
 itional information\, contact <a target="_blank" rel="noopener noreferrer 
 nofollow" href="mailto:msba@msmaweb.com">msba@msmaweb.com</a>. </p>
LOCATION:Zoom
SUMMARY:MSBA School Board Support & Development Meeting
END:VEVENT
BEGIN:VEVENT
DTSTAMP:20260421T163104Z
UID:9f62ce9d-9288-4851-94f0-6b610d99ab67
DTSTART:20260914T180000
DTEND:20260914T193000
DESCRIPTION:<p>Every January\, March\, May\, and September\, school board m
 embers from across the state come together to discuss important topics\, c
 onnect with one another\, and learn about critical issues affecting Maine 
 schools. Formerly known as "Regional School Board Meetings"\, the School B
 oard Support &amp\; Development meetings are designed for all board member
 s.</p><p>Choose the date and time that works the best for your schedule an
 d join board members from all nine regions. These 90 minute meetings are h
 eld via Zoom and begin at 6:00 p.m. Agendas and Zoom information will be s
 ent to all board members at the start of each meeting month.</p><p>For add
 itional information\, contact <a target="_blank" rel="noopener noreferrer 
 nofollow" href="mailto:msba@msmaweb.com">msba@msmaweb.com</a>. </p>
LOCATION:Zoom
SUMMARY:MSBA School Board Support & Development Meeting
END:VEVENT
BEGIN:VEVENT
DTSTAMP:20260421T163104Z
UID:06ca51af-66d4-41a6-afad-670dcf6a748f
DTSTART:20260917T180000
DTEND:20260917T193000
DESCRIPTION:<p>Every January\, March\, May\, and September\, school board m
 embers from across the state come together to discuss important topics\, c
 onnect with one another\, and learn about critical issues affecting Maine 
 schools. Formerly known as "Regional School Board Meetings"\, the School B
 oard Support &amp\; Development meetings are designed for all board member
 s.</p><p>Choose the date and time that works the best for your schedule an
 d join board members from all nine regions. These 90 minute meetings are h
 eld via Zoom and begin at 6:00 p.m. Agendas and Zoom information will be s
 ent to all board members at the start of each meeting month.</p><p>For add
 itional information\, contact <a target="_blank" rel="noopener noreferrer 
 nofollow" href="mailto:msba@msmaweb.com">msba@msmaweb.com</a>.</p>
LOCATION:Zoom
SUMMARY:MSBA School Board Support & Development Meeting
END:VEVENT
BEGIN:VEVENT
DTSTAMP:20260421T163104Z
UID:47c14669-580a-4895-b657-166fbc46e471
DTSTART;VALUE=DATE:20261029
DTEND;VALUE=DATE:20261031
DESCRIPTION:
LOCATION:76 Community Dr\, Augusta\, ME 04330\, USA
SUMMARY:MSMA Annual Fall Conference
END:VEVENT
END:VCALENDAR
