BEGIN:VCALENDAR
VERSION:2.0
PRODID:icalendar-ruby
CALSCALE:GREGORIAN
BEGIN:VTIMEZONE
TZID:America/New_York
BEGIN:DAYLIGHT
DTSTART:20260308T030000
TZOFFSETFROM:-0500
TZOFFSETTO:-0400
RRULE:FREQ=YEARLY;BYDAY=2SU;BYMONTH=3
TZNAME:EDT
END:DAYLIGHT
BEGIN:STANDARD
DTSTART:20261101T010000
TZOFFSETFROM:-0400
TZOFFSETTO:-0500
RRULE:FREQ=YEARLY;BYDAY=1SU;BYMONTH=11
TZNAME:EST
END:STANDARD
END:VTIMEZONE
BEGIN:VEVENT
DTSTAMP:20260422T211926Z
UID:9a007866-4894-486c-8821-5e4a6059c099
DTSTART;VALUE=DATE:20260508
DTEND;VALUE=DATE:20260509
DESCRIPTION:
LOCATION:CEMS-Middle School Public Calendar
SUMMARY:Student Early Release
END:VEVENT
BEGIN:VEVENT
DTSTAMP:20260422T211926Z
UID:257988c5-f3e7-4b8c-978b-b147dfa383d6
DTSTART:20260618T000000
DTEND:20260618T000000
DESCRIPTION:<p>Will be an early release day.</p><p>Storm day #1 was 12/2/20
 25.</p><p>Storm day #2 was 1/7/2026.</p><p><br></p>
LOCATION:
SUMMARY:Last Student Day (with 2 storm days used)
END:VEVENT
BEGIN:VEVENT
DTSTAMP:20260422T211926Z
UID:92e64349-0e88-4132-93ec-deda138aa139
DTSTART:20260827T000000
DTEND:20260828T000000
DESCRIPTION:half day
LOCATION:CEMS-Middle School Public Calendar
SUMMARY:gr 5 Students' First Day
END:VEVENT
BEGIN:VEVENT
DTSTAMP:20260422T211926Z
UID:203f6501-9ccf-49eb-b3d6-ef5ebecf2100
DTSTART:20260831T000000
DTEND:20260901T000000
DESCRIPTION:
LOCATION:CEMS-Middle School Public Calendar
SUMMARY:Students' First Day (gr 1-12)
END:VEVENT
BEGIN:VEVENT
DTSTAMP:20260422T211926Z
UID:e0fffad9-17e9-419c-a232-ee31d34505ce
DTSTART:20260907T000000
DTEND:20260908T000000
DESCRIPTION:
LOCATION:CEMS-Middle School Public Calendar
SUMMARY:No School - Labor Day Holiday
END:VEVENT
BEGIN:VEVENT
DTSTAMP:20260422T211926Z
UID:a61bf6f0-dbd4-482e-a6bc-518c6d0a88a6
DTSTART:20260908T183000
DTEND:20260908T203000
DESCRIPTION:Please follow <a href="https://www.google.com/url?q=https://www
 .cape.k12.me.us/page/school-board-agenda-minutes&amp\;sa=D&amp\;source=cal
 endar&amp\;ust=1774961797729411&amp\;usg=AOvVaw0ZBGEKn7pQ9v5AQZgEy5hk" tar
 get="_blank"><u>this link</u></a> for the meeting agenda and any related m
 aterials. Meeting will be recorded\, technology permitting.
LOCATION:Town Council Chambers (320 Ocean House Rd)\, CEMS-Middle School Pu
 blic Calendar
SUMMARY:School Board Business Meeting
END:VEVENT
BEGIN:VEVENT
DTSTAMP:20260422T211926Z
UID:6fe485b0-12cf-46e8-bab5-bf4d4a0b4bab
DTSTART:20260922T183000
DTEND:20260922T203000
DESCRIPTION:Please follow <a href="https://www.google.com/url?q=https://ww
 w.cape.k12.me.us/page/school-board-agenda-minutes&amp\;sa=D&amp\;source=ca
 lendar&amp\;ust=1774962021818540&amp\;usg=AOvVaw0gI3djuCItrvsO2QrlcZTW" ta
 rget="_blank"><u><u>this link</u></u></a> for the meeting agenda and any 
 related materials. Meeting will be recorded\, technology permitting.
LOCATION:HS Library\, CEMS-Middle School Public Calendar
SUMMARY:School Board Workshop
END:VEVENT
BEGIN:VEVENT
DTSTAMP:20260422T211926Z
UID:c3ae5f0b-e39d-434c-a010-d0720b3817e5
DTSTART:20261009T000000
DTEND:20261010T000000
DESCRIPTION:<p></p>
LOCATION:CEMS-Middle School Public Calendar
SUMMARY:No Students - Staff Professional Development
END:VEVENT
BEGIN:VEVENT
DTSTAMP:20260422T211926Z
UID:248e2ef5-ec8f-4209-85fc-449efb2ecfed
DTSTART:20261012T000000
DTEND:20261013T000000
DESCRIPTION:
LOCATION:CEMS-Middle School Public Calendar
SUMMARY:No School - Indigenous Peoples' Day
END:VEVENT
BEGIN:VEVENT
DTSTAMP:20260422T211926Z
UID:d700232c-9656-4ff2-ae28-22e8cef5d8b6
DTSTART:20261013T183000
DTEND:20261013T203000
DESCRIPTION:Please follow <a href="https://www.google.com/url?q=https://www
 .cape.k12.me.us/page/school-board-agenda-minutes&amp\;sa=D&amp\;source=cal
 endar&amp\;ust=1774961797729411&amp\;usg=AOvVaw0ZBGEKn7pQ9v5AQZgEy5hk" tar
 get="_blank"><u>this link</u></a> for the meeting agenda and any related m
 aterials. Meeting will be recorded\, technology permitting.
LOCATION:Town Council Chambers (320 Ocean House Rd)\, CEMS-Middle School Pu
 blic Calendar
SUMMARY:School Board Business Meeting
END:VEVENT
BEGIN:VEVENT
DTSTAMP:20260422T211926Z
UID:31da62c4-7cfc-456d-94b1-a8280dd92707
DTSTART:20261027T183000
DTEND:20261027T203000
DESCRIPTION:Please follow <a href="https://www.google.com/url?q=https://ww
 w.cape.k12.me.us/page/school-board-agenda-minutes&amp\;sa=D&amp\;source=ca
 lendar&amp\;ust=1774962021818540&amp\;usg=AOvVaw0gI3djuCItrvsO2QrlcZTW" ta
 rget="_blank"><u><u>this link</u></u></a> for the meeting agenda and any 
 related materials. Meeting will be recorded\, technology permitting.
LOCATION:HS Library\, CEMS-Middle School Public Calendar
SUMMARY:School Board Workshop
END:VEVENT
BEGIN:VEVENT
DTSTAMP:20260422T211926Z
UID:3482d088-2e85-43d0-85b8-02ffa2d4d9ae
DTSTART:20261105T000000
DTEND:20261106T000000
DESCRIPTION:<p>Each school will share conference plan &amp\; times.</p>
LOCATION:CEMS-Middle School Public Calendar
SUMMARY:K-12 Student Early Release  [conferences]
END:VEVENT
BEGIN:VEVENT
DTSTAMP:20260422T211926Z
UID:a0cfbee6-476a-4f98-8582-9da25854d5a7
DTSTART:20261106T000000
DTEND:20261107T000000
DESCRIPTION:PM staff comp
LOCATION:CEMS-Middle School Public Calendar
SUMMARY:No Students - AM conferences
END:VEVENT
BEGIN:VEVENT
DTSTAMP:20260422T211926Z
UID:3d097fe1-ac97-434b-a401-002a5c0fd6de
DTSTART:20261110T183000
DTEND:20261110T203000
DESCRIPTION:Please follow <a href="https://www.google.com/url?q=https://www
 .cape.k12.me.us/page/school-board-agenda-minutes&amp\;sa=D&amp\;source=cal
 endar&amp\;ust=1774961797729411&amp\;usg=AOvVaw0ZBGEKn7pQ9v5AQZgEy5hk" tar
 get="_blank"><u>this link</u></a> for the meeting agenda and any related m
 aterials. Meeting will be recorded\, technology permitting.
LOCATION:Town Council Chambers (320 Ocean House Rd)\, CEMS-Middle School Pu
 blic Calendar
SUMMARY:School Board Business Meeting
END:VEVENT
BEGIN:VEVENT
DTSTAMP:20260422T211926Z
UID:69698c1f-3d51-4ba7-b13c-3bef01ffda5b
DTSTART:20261111T000000
DTEND:20261112T000000
DESCRIPTION:
LOCATION:CEMS-Middle School Public Calendar
SUMMARY:No School - Veterans Day
END:VEVENT
BEGIN:VEVENT
DTSTAMP:20260422T211926Z
UID:72946dbc-0386-42a3-929d-9b6cab336099
DTSTART:20261125T000000
DTEND:20261128T000000
DESCRIPTION:
LOCATION:CEMS-Middle School Public Calendar
SUMMARY:No School - Thanksgiving break
END:VEVENT
BEGIN:VEVENT
DTSTAMP:20260422T211926Z
UID:f05e4d29-704e-4d63-ae0d-91411e09c059
DTSTART:20261208T183000
DTEND:20261208T203000
DESCRIPTION:Please follow <a href="https://www.google.com/url?q=https://www
 .cape.k12.me.us/page/school-board-agenda-minutes&amp\;sa=D&amp\;source=cal
 endar&amp\;ust=1774961797729411&amp\;usg=AOvVaw0ZBGEKn7pQ9v5AQZgEy5hk" tar
 get="_blank"><u>this link</u></a> for the meeting agenda and any related m
 aterials. Meeting will be recorded\, technology permitting.
LOCATION:Town Council Chambers (320 Ocean House Rd)\, CEMS-Middle School Pu
 blic Calendar
SUMMARY:School Board Business Meeting
END:VEVENT
BEGIN:VEVENT
DTSTAMP:20260422T211926Z
UID:b68b8570-2cb5-48a5-b2bb-9a576e30b246
DTSTART:20261209T000000
DTEND:20261210T000000
DESCRIPTION:
LOCATION:CEMS-Middle School Public Calendar
SUMMARY:Student Early Release - Staff PD
END:VEVENT
BEGIN:VEVENT
DTSTAMP:20260422T211926Z
UID:22c8468a-d09a-47f1-9c44-94c0ac9f187a
DTSTART:20261223T000000
DTEND:20270101T000000
DESCRIPTION:
LOCATION:CEMS-Middle School Public Calendar
SUMMARY:No School - December break
END:VEVENT
BEGIN:VEVENT
DTSTAMP:20260422T211926Z
UID:9b24cb69-8fb1-4e53-a8c0-c651af3b6041
DTSTART:20270101T000000
DTEND:20270102T000000
DESCRIPTION:
LOCATION:CEMS-Middle School Public Calendar
SUMMARY:No School - New Year's Day
END:VEVENT
BEGIN:VEVENT
DTSTAMP:20260422T211926Z
UID:5dfd8e87-37c6-47e9-9994-9b7f8c75444a
DTSTART:20270112T183000
DTEND:20270112T203000
DESCRIPTION:Please follow <a href="https://www.google.com/url?q=https://www
 .cape.k12.me.us/page/school-board-agenda-minutes&amp\;sa=D&amp\;source=cal
 endar&amp\;ust=1774961797729411&amp\;usg=AOvVaw0ZBGEKn7pQ9v5AQZgEy5hk" tar
 get="_blank"><u>this link</u></a> for the meeting agenda and any related m
 aterials. Meeting will be recorded\, technology permitting.
LOCATION:Town Council Chambers (320 Ocean House Rd)\, CEMS-Middle School Pu
 blic Calendar
SUMMARY:School Board Business Meeting
END:VEVENT
BEGIN:VEVENT
DTSTAMP:20260422T211926Z
UID:1cc7fc2a-9bc5-49fc-8052-03524a1c7520
DTSTART:20270118T000000
DTEND:20270119T000000
DESCRIPTION:
LOCATION:CEMS-Middle School Public Calendar
SUMMARY:No School - Martin Luther King Jr Day
END:VEVENT
BEGIN:VEVENT
DTSTAMP:20260422T211926Z
UID:88b06d1f-c5c6-4d7a-a660-f7a9b7118608
DTSTART:20270126T183000
DTEND:20270126T203000
DESCRIPTION:Please follow <a href="https://www.google.com/url?q=https://ww
 w.cape.k12.me.us/page/school-board-agenda-minutes&amp\;sa=D&amp\;source=ca
 lendar&amp\;ust=1774962021818540&amp\;usg=AOvVaw0gI3djuCItrvsO2QrlcZTW" ta
 rget="_blank"><u><u>this link</u></u></a> for the meeting agenda and any 
 related materials. Meeting will be recorded\, technology permitting.
LOCATION:HS Library\, CEMS-Middle School Public Calendar
SUMMARY:School Board Workshop [tent]
END:VEVENT
BEGIN:VEVENT
DTSTAMP:20260422T211926Z
UID:a0994983-6c05-4045-8cf9-4884442e16c4
DTSTART:20270201T000000
DTEND:20270202T000000
DESCRIPTION:
LOCATION:CEMS-Middle School Public Calendar
SUMMARY:No Students - Staff Professional Development
END:VEVENT
BEGIN:VEVENT
DTSTAMP:20260422T211926Z
UID:103d48cc-c063-41a9-8e0a-2f1df27a961d
DTSTART:20270202T180000
DTEND:20270202T203000
DESCRIPTION:<p>Please follow <a href="https://www.google.com/url?q=https://
 www.cape.k12.me.us/page/school-board-agenda-minutes&amp\;sa=D&amp\;source=
 calendar&amp\;ust=1775395050794828&amp\;usg=AOvVaw20EbyTmWJ7oqqVbd587JBg" 
 target="_blank">this link</a> for the meeting agenda and any related mater
 ials. Meeting will be recorded\, technology permitting.</p>
LOCATION:HS Library\, CEMS-Middle School Public Calendar
SUMMARY:School Board FY28 Budget Workshop [tent]
END:VEVENT
BEGIN:VEVENT
DTSTAMP:20260422T211926Z
UID:73d9d973-21d0-41a0-b4f9-9b7d52b6b205
DTSTART:20270209T183000
DTEND:20270209T203000
DESCRIPTION:Please follow <a href="https://www.google.com/url?q=https://www
 .cape.k12.me.us/page/school-board-agenda-minutes&amp\;sa=D&amp\;source=cal
 endar&amp\;ust=1774961797729411&amp\;usg=AOvVaw0ZBGEKn7pQ9v5AQZgEy5hk" tar
 get="_blank"><u>this link</u></a> for the meeting agenda and any related m
 aterials. Meeting will be recorded\, technology permitting.
LOCATION:Town Council Chambers (320 Ocean House Rd)\, CEMS-Middle School Pu
 blic Calendar
SUMMARY:School Board Business Meeting
END:VEVENT
BEGIN:VEVENT
DTSTAMP:20260422T211926Z
UID:7f311b2d-2389-4383-88a9-aa2758384221
DTSTART:20270215T000000
DTEND:20270216T000000
DESCRIPTION:
LOCATION:CEMS-Middle School Public Calendar
SUMMARY:No School - Presidents' Day
END:VEVENT
BEGIN:VEVENT
DTSTAMP:20260422T211926Z
UID:d7f2d593-1d1c-44b6-b4a9-053c0b54e491
DTSTART:20270216T000000
DTEND:20270220T000000
DESCRIPTION:
LOCATION:CEMS-Middle School Public Calendar
SUMMARY:No School -  Winter break
END:VEVENT
BEGIN:VEVENT
DTSTAMP:20260422T211926Z
UID:970879fa-7a5c-47d8-9401-0fcd07f65c33
DTSTART:20270223T183000
DTEND:20270223T203000
DESCRIPTION:Please follow <a href="https://www.google.com/url?q=https://ww
 w.cape.k12.me.us/page/school-board-agenda-minutes&amp\;sa=D&amp\;source=ca
 lendar&amp\;ust=1774962021818540&amp\;usg=AOvVaw0gI3djuCItrvsO2QrlcZTW" ta
 rget="_blank"><u><u>this link</u></u></a> for the meeting agenda and any 
 related materials. Meeting will be recorded\, technology permitting.
LOCATION:HS Library\, CEMS-Middle School Public Calendar
SUMMARY: School Board FY28 Budget Workshop [tent]
END:VEVENT
BEGIN:VEVENT
DTSTAMP:20260422T211926Z
UID:2717703a-0012-4af1-8ea9-616293bb9a4b
DTSTART:20270302T183000
DTEND:20270302T203000
DESCRIPTION:Please follow <a href="https://www.google.com/url?q=https://ww
 w.cape.k12.me.us/page/school-board-agenda-minutes&amp\;sa=D&amp\;source=ca
 lendar&amp\;ust=1775395816404917&amp\;usg=AOvVaw1N73xgJAMU4imlEDHUVrCU" ta
 rget="_blank"><u><u>this link</u></u></a> for the meeting agenda and any 
 related materials. Meeting will be recorded\, technology permitting.
LOCATION:CEMS-Middle School Public Calendar
SUMMARY: School Board FY28 Budget Workshop (if needed) [tent]
END:VEVENT
BEGIN:VEVENT
DTSTAMP:20260422T211926Z
UID:ee241782-af25-4a1d-827d-291b3aa8ce5e
DTSTART:20270309T183000
DTEND:20270309T203000
DESCRIPTION:Please follow <a href="https://www.google.com/url?q=https://www
 .cape.k12.me.us/page/school-board-agenda-minutes&amp\;sa=D&amp\;source=cal
 endar&amp\;ust=1774961797729411&amp\;usg=AOvVaw0ZBGEKn7pQ9v5AQZgEy5hk" tar
 get="_blank"><u>this link</u></a> for the meeting agenda and any related m
 aterials. Meeting will be recorded\, technology permitting.
LOCATION:Town Council Chambers (320 Ocean House Rd)\, CEMS-Middle School Pu
 blic Calendar
SUMMARY:School Board Business Meeting
END:VEVENT
BEGIN:VEVENT
DTSTAMP:20260422T211926Z
UID:9cf12257-d1f9-4384-a5dc-d6e68237ee35
DTSTART:20270319T000000
DTEND:20270320T000000
DESCRIPTION:
LOCATION:CEMS-Middle School Public Calendar
SUMMARY:No Students - Staff Professional Development
END:VEVENT
BEGIN:VEVENT
DTSTAMP:20260422T211926Z
UID:66ed39ce-194f-4782-88ae-85999e3581ec
DTSTART:20270323T183000
DTEND:20270323T203000
DESCRIPTION:Please follow <a href="https://www.google.com/url?q=https://ww
 w.cape.k12.me.us/page/school-board-agenda-minutes&amp\;sa=D&amp\;source=ca
 lendar&amp\;ust=1774962021818540&amp\;usg=AOvVaw0gI3djuCItrvsO2QrlcZTW" ta
 rget="_blank"><u><u>this link</u></u></a> for the meeting agenda and any 
 related materials. Meeting will be recorded\, technology permitting.
LOCATION:HS Library\, CEMS-Middle School Public Calendar
SUMMARY:School Board Workshop
END:VEVENT
BEGIN:VEVENT
DTSTAMP:20260422T211926Z
UID:a0dbc525-3757-4a30-9a4a-9fc7e8ca9d4b
DTSTART:20270324T000000
DTEND:20270325T000000
DESCRIPTION:<p>K-8 conferences in afternoon &amp\; evening. Each school wil
 l share conference plan &amp\; times.</p>
LOCATION:CEMS-Middle School Public Calendar
SUMMARY:K-8 Student Early Release  [Regular student day - grades 9-12]
END:VEVENT
BEGIN:VEVENT
DTSTAMP:20260422T211926Z
UID:60162d9c-b088-4730-8b79-7b83b99874fe
DTSTART:20270330T183000
DTEND:20270330T203000
DESCRIPTION:<p>Please follow <a href="https://www.google.com/url?q=https://
 www.cape.k12.me.us/page/school-board-agenda-minutes&amp\;sa=D&amp\;source=
 calendar&amp\;ust=1775396211926460&amp\;usg=AOvVaw0TB0PUgCto35dfudV5ruCP" 
 target="_blank">this link</a> for the meeting agenda and any related mater
 ials. Meeting will be recorded\, technology permitting.</p>
LOCATION:CEMS-Middle School Public Calendar
SUMMARY:School Board FY28 Budget Workshop (if needed) [tent]
END:VEVENT
BEGIN:VEVENT
DTSTAMP:20260422T211926Z
UID:3a8c3043-e9e5-4df1-8061-f2f040bf6c36
DTSTART:20270406T183000
DTEND:20270406T203000
DESCRIPTION:<p>Please follow <a href="https://www.google.com/url?q=https://
 www.cape.k12.me.us/page/school-board-agenda-minutes&amp\;sa=D&amp\;source=
 calendar&amp\;ust=1775396393879155&amp\;usg=AOvVaw2cNMRef3IL98AJiAPn7VQP" 
 target="_blank">this link</a> for the meeting agenda and any related mater
 ials. Meeting will be recorded\, technology permitting.</p>
LOCATION:CEMS-Middle School Public Calendar
SUMMARY:School Board FY28 Budget Workshop (if needed) [tent]
END:VEVENT
BEGIN:VEVENT
DTSTAMP:20260422T211926Z
UID:a968a599-36e4-4f70-b250-3268aeb0da47
DTSTART:20270413T183000
DTEND:20270413T203000
DESCRIPTION:Please follow <a href="https://www.google.com/url?q=https://www
 .cape.k12.me.us/page/school-board-agenda-minutes&amp\;sa=D&amp\;source=cal
 endar&amp\;ust=1774961797729411&amp\;usg=AOvVaw0ZBGEKn7pQ9v5AQZgEy5hk" tar
 get="_blank"><u>this link</u></a> for the meeting agenda and any related m
 aterials. Meeting will be recorded\, technology permitting.
LOCATION:Town Council Chambers (320 Ocean House Rd)\, CEMS-Middle School Pu
 blic Calendar
SUMMARY:School Board Business Meeting
END:VEVENT
BEGIN:VEVENT
DTSTAMP:20260422T211926Z
UID:081b937c-9b5d-42c8-ba7e-4e42902c0450
DTSTART:20270415T000000
DTEND:20270416T000000
DESCRIPTION:
LOCATION:CEMS-Middle School Public Calendar
SUMMARY:Student Early Release
END:VEVENT
BEGIN:VEVENT
DTSTAMP:20260422T211926Z
UID:88f2fa1e-1d99-4a1e-bb67-577e3a47571f
DTSTART:20270416T000000
DTEND:20270417T000000
DESCRIPTION:Staff comp day for conferences
LOCATION:CEMS-Middle School Public Calendar
SUMMARY:No Students
END:VEVENT
BEGIN:VEVENT
DTSTAMP:20260422T211926Z
UID:1e8d38e8-3282-4616-981a-3327a4d45088
DTSTART:20270419T000000
DTEND:20270420T000000
DESCRIPTION:
LOCATION:CEMS-Middle School Public Calendar
SUMMARY:No School - Patriots Day Holiday
END:VEVENT
BEGIN:VEVENT
DTSTAMP:20260422T211926Z
UID:f7f7270b-dfd6-46b8-ab69-3b33d39c9266
DTSTART:20270420T000000
DTEND:20270424T000000
DESCRIPTION:
LOCATION:CEMS-Middle School Public Calendar
SUMMARY:No School - Spring break
END:VEVENT
BEGIN:VEVENT
DTSTAMP:20260422T211926Z
UID:3fe0b722-fe6b-4c1c-89b5-4fc8826aa717
DTSTART:20270427T183000
DTEND:20270427T203000
DESCRIPTION:Please follow <a href="https://www.google.com/url?q=https://ww
 w.cape.k12.me.us/page/school-board-agenda-minutes&amp\;sa=D&amp\;source=ca
 lendar&amp\;ust=1774962021818540&amp\;usg=AOvVaw0gI3djuCItrvsO2QrlcZTW" ta
 rget="_blank"><u><u>this link</u></u></a> for the meeting agenda and any 
 related materials. Meeting will be recorded\, technology permitting.
LOCATION:HS Library\, CEMS-Middle School Public Calendar
SUMMARY:School Board Workshop
END:VEVENT
BEGIN:VEVENT
DTSTAMP:20260422T211926Z
UID:c1669f4c-0f45-48a7-b891-ffce8c8cb01c
DTSTART:20270507T000000
DTEND:20270508T000000
DESCRIPTION:
LOCATION:CEMS-Middle School Public Calendar
SUMMARY:Student Early Release - Staff PD
END:VEVENT
BEGIN:VEVENT
DTSTAMP:20260422T211926Z
UID:d7ddc736-25cd-4ba0-9571-84f2b1243c7f
DTSTART:20270511T183000
DTEND:20270511T203000
DESCRIPTION:Please follow <a href="https://www.google.com/url?q=https://www
 .cape.k12.me.us/page/school-board-agenda-minutes&amp\;sa=D&amp\;source=cal
 endar&amp\;ust=1774961797729411&amp\;usg=AOvVaw0ZBGEKn7pQ9v5AQZgEy5hk" tar
 get="_blank"><u>this link</u></a> for the meeting agenda and any related m
 aterials. Meeting will be recorded\, technology permitting.
LOCATION:Town Council Chambers (320 Ocean House Rd)\, CEMS-Middle School Pu
 blic Calendar
SUMMARY:School Board Business Meeting
END:VEVENT
BEGIN:VEVENT
DTSTAMP:20260422T211926Z
UID:586de4ce-a670-4b5f-a924-2313bae33e1b
DTSTART:20270525T183000
DTEND:20270525T203000
DESCRIPTION:Please follow <a href="https://www.google.com/url?q=https://ww
 w.cape.k12.me.us/page/school-board-agenda-minutes&amp\;sa=D&amp\;source=ca
 lendar&amp\;ust=1774962021818540&amp\;usg=AOvVaw0gI3djuCItrvsO2QrlcZTW" ta
 rget="_blank"><u><u>this link</u></u></a> for the meeting agenda and any 
 related materials. Meeting will be recorded\, technology permitting.
LOCATION:HS Library\, CEMS-Middle School Public Calendar
SUMMARY:School Board Workshop
END:VEVENT
BEGIN:VEVENT
DTSTAMP:20260422T211926Z
UID:f024290a-2d4a-4a54-8f6f-bcfc26bf063c
DTSTART:20270531T000000
DTEND:20270601T000000
DESCRIPTION:
LOCATION:CEMS-Middle School Public Calendar
SUMMARY:No School - Memorial Day Holiday
END:VEVENT
BEGIN:VEVENT
DTSTAMP:20260422T211926Z
UID:2f733ee5-8825-4dbb-9e42-a7acabfe4221
DTSTART:20270608T183000
DTEND:20270608T203000
DESCRIPTION:Please follow <a href="https://www.google.com/url?q=https://www
 .cape.k12.me.us/page/school-board-agenda-minutes&amp\;sa=D&amp\;source=cal
 endar&amp\;ust=1774961797729411&amp\;usg=AOvVaw0ZBGEKn7pQ9v5AQZgEy5hk" tar
 get="_blank"><u>this link</u></a> for the meeting agenda and any related m
 aterials. Meeting will be recorded\, technology permitting.
LOCATION:Town Council Chambers (320 Ocean House Rd)\, CEMS-Middle School Pu
 blic Calendar
SUMMARY:School Board Business Meeting
END:VEVENT
BEGIN:VEVENT
DTSTAMP:20260422T211926Z
UID:72d55224-487b-427e-b0b2-3c3bb2de166e
DTSTART:20270615T000000
DTEND:20270616T000000
DESCRIPTION:<p>Will be an early release day.</p><p><br></p>
LOCATION:CEMS-Middle School Public Calendar
SUMMARY:Last Student Day (if zero storm days used)
END:VEVENT
BEGIN:VEVENT
DTSTAMP:20260422T211926Z
UID:9c56f460-f247-45cc-b303-7b88e8c3d988
DTSTART:20270618T000000
DTEND:20270619T000000
DESCRIPTION:
LOCATION:CEMS-Middle School Public Calendar
SUMMARY:Juneteenth Holiday (obs)
END:VEVENT
BEGIN:VEVENT
DTSTAMP:20260422T211926Z
UID:135c3379-c98f-466f-8c50-e771ca8cfb58
DTSTART:20270622T183000
DTEND:20270622T203000
DESCRIPTION:Please follow <a href="https://www.google.com/url?q=https://ww
 w.cape.k12.me.us/page/school-board-agenda-minutes&amp\;sa=D&amp\;source=ca
 lendar&amp\;ust=1774962021818540&amp\;usg=AOvVaw0gI3djuCItrvsO2QrlcZTW" ta
 rget="_blank"><u><u>this link</u></u></a> for the meeting agenda and any 
 related materials. Meeting will be recorded\, technology permitting.
LOCATION:HS Library\, CEMS-Middle School Public Calendar
SUMMARY:School Board Workshop
END:VEVENT
END:VCALENDAR
