BEGIN:VCALENDAR
VERSION:2.0
PRODID:icalendar-ruby
CALSCALE:GREGORIAN
BEGIN:VTIMEZONE
TZID:America/New_York
BEGIN:DAYLIGHT
DTSTART:20260308T030000
TZOFFSETFROM:-0500
TZOFFSETTO:-0400
RRULE:FREQ=YEARLY;BYDAY=2SU;BYMONTH=3
TZNAME:EDT
END:DAYLIGHT
BEGIN:STANDARD
DTSTART:20261101T010000
TZOFFSETFROM:-0400
TZOFFSETTO:-0500
RRULE:FREQ=YEARLY;BYDAY=1SU;BYMONTH=11
TZNAME:EST
END:STANDARD
END:VTIMEZONE
BEGIN:VEVENT
DTSTAMP:20260421T173011Z
UID:420559d4-a08e-4188-a269-84e450a00183
DTSTART;VALUE=DATE:20260511
DTEND;VALUE=DATE:20260512
DESCRIPTION:
LOCATION:
SUMMARY:Edgar Orchestra Concert at Metuchen High School
END:VEVENT
BEGIN:VEVENT
DTSTAMP:20260421T173011Z
UID:0ddf6e59-4059-4c77-a62f-642e113f5125
DTSTART:20260513T190000
DTEND:20260513T203000
DESCRIPTION:
LOCATION:
SUMMARY:District Choir Spring Concert at Metuchen High School
END:VEVENT
BEGIN:VEVENT
DTSTAMP:20260421T173011Z
UID:b8bf4fac-df87-48a5-a21e-1295d7ad238b
DTSTART:20260514T190000
DTEND:20260514T203000
DESCRIPTION:
LOCATION:
SUMMARY:Edgar Band Spring Concert at Metuchen High School
END:VEVENT
BEGIN:VEVENT
DTSTAMP:20260421T173011Z
UID:4da4097f-730b-4a06-a880-f61f90290306
DTSTART;VALUE=DATE:20260522
DTEND;VALUE=DATE:20260523
DESCRIPTION:
LOCATION:
SUMMARY:No School for Students/Staff Inservice Day
END:VEVENT
BEGIN:VEVENT
DTSTAMP:20260421T173011Z
UID:f8fc7277-13a7-4058-b59e-b5364661f554
DTSTART;VALUE=DATE:20260527
DTEND;VALUE=DATE:20260530
DESCRIPTION:
LOCATION:
SUMMARY:5th grade- Camp Mason
END:VEVENT
BEGIN:VEVENT
DTSTAMP:20260421T173011Z
UID:bb3e1e1d-2efd-4ced-b517-0867e12a6283
DTSTART;VALUE=DATE:20260619
DTEND;VALUE=DATE:20260620
DESCRIPTION:
LOCATION:
SUMMARY:School Closed -Juneteenth
END:VEVENT
BEGIN:VEVENT
DTSTAMP:20260421T173011Z
UID:7446dc0e-8874-41f0-a9da-188053a9a635
DTSTART;VALUE=DATE:20260623
DTEND;VALUE=DATE:20260624
DESCRIPTION:
LOCATION:
SUMMARY:Edgar Promotion Ceremony
END:VEVENT
BEGIN:VEVENT
DTSTAMP:20260421T173011Z
UID:47ff83bd-12ad-41ce-b70b-3ca415f1059f
DTSTART:20260624T080000
DTEND:20260624T090000
DESCRIPTION:
LOCATION:
SUMMARY:Last Day of School - early dismissal 12:15 - no lunch served
END:VEVENT
END:VCALENDAR
