BEGIN:VCALENDAR
VERSION:2.0
PRODID:icalendar-ruby
CALSCALE:GREGORIAN
BEGIN:VTIMEZONE
TZID:America/Chicago
BEGIN:DAYLIGHT
DTSTART:20260308T030000
TZOFFSETFROM:-0600
TZOFFSETTO:-0500
RRULE:FREQ=YEARLY;BYDAY=2SU;BYMONTH=3
TZNAME:CDT
END:DAYLIGHT
BEGIN:STANDARD
DTSTART:20261101T010000
TZOFFSETFROM:-0500
TZOFFSETTO:-0600
RRULE:FREQ=YEARLY;BYDAY=1SU;BYMONTH=11
TZNAME:CST
END:STANDARD
END:VTIMEZONE
BEGIN:VEVENT
DTSTAMP:20260424T095802Z
UID:0cfcae4f-38f6-409d-b31a-f3a510e946d4
DTSTART;VALUE=DATE:20260424
DTEND;VALUE=DATE:20260425
DESCRIPTION:
LOCATION:
SUMMARY:Baseball - Round 1
END:VEVENT
BEGIN:VEVENT
DTSTAMP:20260424T095802Z
UID:b924cf9e-abf8-4edf-b7dc-e692196ef1a7
DTSTART;VALUE=DATE:20260424
DTEND;VALUE=DATE:20260425
DESCRIPTION:
LOCATION:
SUMMARY:Holiday (No School)
END:VEVENT
BEGIN:VEVENT
DTSTAMP:20260424T095802Z
UID:65c567fa-2b3d-4cd2-b6f3-9ca0090d0b7c
DTSTART;VALUE=DATE:20260424
DTEND;VALUE=DATE:20260426
DESCRIPTION:
LOCATION:
SUMMARY:Sectional Track Meet
END:VEVENT
BEGIN:VEVENT
DTSTAMP:20260424T095802Z
UID:4aaf0b44-ffd3-41d5-b137-13287bc1114a
DTSTART:20260424T170000
DTEND:20260424T200000
DESCRIPTION:
LOCATION:Athens\, AL\, USA
SUMMARY:Winfield Softball I-65 Showdown
END:VEVENT
BEGIN:VEVENT
DTSTAMP:20260424T095802Z
UID:fdc483f9-301b-4aa8-a795-176bd5adf55b
DTSTART;VALUE=DATE:20260425
DTEND;VALUE=DATE:20260426
DESCRIPTION:
LOCATION:
SUMMARY:Baseball - Round 1
END:VEVENT
BEGIN:VEVENT
DTSTAMP:20260424T095802Z
UID:736c04c4-5bd4-4486-af02-be47fc5b9089
DTSTART;VALUE=DATE:20260425
DTEND;VALUE=DATE:20260426
DESCRIPTION:
LOCATION:Athens\, AL\, USA
SUMMARY:Winfield Softball I-65 Showdown
END:VEVENT
BEGIN:VEVENT
DTSTAMP:20260424T095802Z
UID:bd9da4d1-0a68-417e-ac86-c000d8b6f793
DTSTART:20260430T163000
DTEND:20260430T203000
DESCRIPTION:
LOCATION:Winfield City High School\, 232 Pirate Cove\, Winfield\, AL 35594\
 , USA
SUMMARY:Winfield Softball vs Belgreen
END:VEVENT
BEGIN:VEVENT
DTSTAMP:20260424T095802Z
UID:74e5957f-8cbd-4d98-8bf4-ec02097b720a
DTSTART:20260430T173000
DTEND:20260430T193000
DESCRIPTION:
LOCATION:
SUMMARY:Art/STEAM Expo
END:VEVENT
BEGIN:VEVENT
DTSTAMP:20260424T095802Z
UID:f83dec87-3027-45ea-9600-91a57fb80b05
DTSTART;VALUE=DATE:20260501
DTEND;VALUE=DATE:20260502
DESCRIPTION:
LOCATION:
SUMMARY:Baseball - Round 2
END:VEVENT
BEGIN:VEVENT
DTSTAMP:20260424T095802Z
UID:7b492e4a-4e16-4759-a5b7-7367451ae226
DTSTART;VALUE=DATE:20260501
DTEND;VALUE=DATE:20260503
DESCRIPTION:
LOCATION:
SUMMARY:State Track Meet
END:VEVENT
BEGIN:VEVENT
DTSTAMP:20260424T095802Z
UID:d75e26f5-e341-4301-814f-ee271347917d
DTSTART;VALUE=DATE:20260502
DTEND;VALUE=DATE:20260503
DESCRIPTION:
LOCATION:
SUMMARY:Baseball - Round 2
END:VEVENT
BEGIN:VEVENT
DTSTAMP:20260424T095802Z
UID:7e3a1cc5-d432-4752-a6d3-a0af79f85521
DTSTART;VALUE=DATE:20260508
DTEND;VALUE=DATE:20260509
DESCRIPTION:
LOCATION:
SUMMARY:Baseball - Round 3
END:VEVENT
BEGIN:VEVENT
DTSTAMP:20260424T095802Z
UID:f9116957-4dbb-49be-b50d-40312ba2db4f
DTSTART;VALUE=DATE:20260508
DTEND;VALUE=DATE:20260509
DESCRIPTION:Exact times to be added soon.
LOCATION:
SUMMARY:Career Fair & Hair Show
END:VEVENT
BEGIN:VEVENT
DTSTAMP:20260424T095802Z
UID:2da44c71-7d47-42c0-8769-3254242664d8
DTSTART;VALUE=DATE:20260509
DTEND;VALUE=DATE:20260510
DESCRIPTION:
LOCATION:
SUMMARY:Baseball - Round 3
END:VEVENT
BEGIN:VEVENT
DTSTAMP:20260424T095802Z
UID:85ce3ea2-d78b-4552-8a98-52a4d511fb05
DTSTART:20260510T190000
DTEND:20260510T200000
DESCRIPTION:
LOCATION:
SUMMARY:Baccalaureate
END:VEVENT
BEGIN:VEVENT
DTSTAMP:20260424T095802Z
UID:5fce2875-2be1-434c-adba-b864b182817b
DTSTART:20260511T180000
DTEND:20260511T200000
DESCRIPTION:
LOCATION:
SUMMARY:Senior Awards Night
END:VEVENT
BEGIN:VEVENT
DTSTAMP:20260424T095802Z
UID:9f380fcf-87f2-46d8-b01f-e35dbe77c627
DTSTART:20260512T093000
DTEND:20260512T120000
DESCRIPTION:
LOCATION:
SUMMARY:WCHS Awards Day
END:VEVENT
BEGIN:VEVENT
DTSTAMP:20260424T095802Z
UID:5fa20b2a-a720-4d76-9486-e411adf4e4af
DTSTART:20260514T180000
DTEND:20260514T193000
DESCRIPTION:
LOCATION:
SUMMARY:Class Night
END:VEVENT
BEGIN:VEVENT
DTSTAMP:20260424T095802Z
UID:9ba5e4ca-d7b4-41e8-8191-dd6d6f79aeab
DTSTART;VALUE=DATE:20260515
DTEND;VALUE=DATE:20260516
DESCRIPTION:
LOCATION:
SUMMARY:Baseball - Round 4
END:VEVENT
BEGIN:VEVENT
DTSTAMP:20260424T095802Z
UID:51bb27e7-2061-4b90-bade-c0b8407207c4
DTSTART;VALUE=DATE:20260516
DTEND;VALUE=DATE:20260517
DESCRIPTION:
LOCATION:
SUMMARY:Baseball - Round 4
END:VEVENT
BEGIN:VEVENT
DTSTAMP:20260424T095802Z
UID:0dc5eb26-1b26-4acf-8252-fcceffbba911
DTSTART:20260517T150000
DTEND:20260517T160000
DESCRIPTION:
LOCATION:
SUMMARY:Graduation
END:VEVENT
BEGIN:VEVENT
DTSTAMP:20260424T095802Z
UID:e4ef3122-78d1-4c7b-951a-5ec77ddb7fd3
DTSTART;VALUE=DATE:20260522
DTEND;VALUE=DATE:20260523
DESCRIPTION:
LOCATION:
SUMMARY:Last Day of School 60% Day
END:VEVENT
BEGIN:VEVENT
DTSTAMP:20260424T095802Z
UID:2a531cbd-ecc9-4d83-bdbf-b38ae45ee0fe
DTSTART;VALUE=DATE:20260525
DTEND;VALUE=DATE:20260526
DESCRIPTION:
LOCATION:
SUMMARY:Memorial Day (School Closed)
END:VEVENT
BEGIN:VEVENT
DTSTAMP:20260424T095802Z
UID:6addd510-d46d-41b5-9684-062bb42dac9b
DTSTART;VALUE=DATE:20260704
DTEND;VALUE=DATE:20260705
DESCRIPTION:
LOCATION:
SUMMARY:Independence Day
END:VEVENT
END:VCALENDAR
