BEGIN:VCALENDAR
VERSION:2.0
PRODID:icalendar-ruby
CALSCALE:GREGORIAN
BEGIN:VTIMEZONE
TZID:America/Chicago
BEGIN:DAYLIGHT
DTSTART:20260308T030000
TZOFFSETFROM:-0600
TZOFFSETTO:-0500
RRULE:FREQ=YEARLY;BYDAY=2SU;BYMONTH=3
TZNAME:CDT
END:DAYLIGHT
BEGIN:STANDARD
DTSTART:20261101T010000
TZOFFSETFROM:-0500
TZOFFSETTO:-0600
RRULE:FREQ=YEARLY;BYDAY=1SU;BYMONTH=11
TZNAME:CST
END:STANDARD
END:VTIMEZONE
BEGIN:VEVENT
DTSTAMP:20260423T000540Z
UID:463c2ec8-14df-4572-a281-109dfbc02be2
DTSTART;VALUE=DATE:20260505
DTEND;VALUE=DATE:20260506
DESCRIPTION:
LOCATION:
SUMMARY:Elementary Showcase
END:VEVENT
BEGIN:VEVENT
DTSTAMP:20260423T000540Z
UID:d81c36ad-0479-4390-a257-c5fc92c0c1eb
DTSTART;VALUE=DATE:20260507
DTEND;VALUE=DATE:20260508
DESCRIPTION:
LOCATION:
SUMMARY:Elementary Showcase
END:VEVENT
BEGIN:VEVENT
DTSTAMP:20260423T000540Z
UID:17427a72-0d35-484b-9f08-43b52970ccb5
DTSTART:20260513T180000
DTEND:20260513T190000
DESCRIPTION:
LOCATION:Albert Johnson Sr. Conference Center Professional Development Cent
 er for Lawton Public Schools\, 91 NE Maine St\, Lawton\, OK 73507\, USA
SUMMARY:Second Start Recognition Ceremony
END:VEVENT
BEGIN:VEVENT
DTSTAMP:20260423T000540Z
UID:f23fb47b-fc40-48f8-b562-dfb0f34e7fa2
DTSTART;VALUE=DATE:20260521
DTEND;VALUE=DATE:20260522
DESCRIPTION:
LOCATION:
SUMMARY:Last Day of School for Students 
END:VEVENT
BEGIN:VEVENT
DTSTAMP:20260423T000540Z
UID:83a7fb89-094c-4b7e-9313-b811a7f89aeb
DTSTART:20260521T170000
DTEND:20260521T190000
DESCRIPTION:
LOCATION:GREAT PLAINS COLISEUM ANNEX\, 920 SW Sheridan Rd\, Lawton\, OK 735
 05\, USA
SUMMARY:Lawton High School Graduation
END:VEVENT
BEGIN:VEVENT
DTSTAMP:20260423T000540Z
UID:5e39a1c7-df99-4d61-b695-1189ef3d5ae4
DTSTART:20260522T100000
DTEND:20260522T120000
DESCRIPTION:
LOCATION:GREAT PLAINS COLISEUM ANNEX\, 920 SW Sheridan Rd\, Lawton\, OK 735
 05\, USA
SUMMARY:Eisenhower High School Graduation
END:VEVENT
BEGIN:VEVENT
DTSTAMP:20260423T000540Z
UID:2731d97d-f57d-48bd-bdde-f53d13257761
DTSTART:20260522T150000
DTEND:20260522T170000
DESCRIPTION:
LOCATION:GREAT PLAINS COLISEUM ANNEX\, 920 SW Sheridan Rd\, Lawton\, OK 735
 05\, USA
SUMMARY:MacArthur High School Graduation 
END:VEVENT
BEGIN:VEVENT
DTSTAMP:20260423T000540Z
UID:8c47ddcb-4567-44e8-97a3-5431893e0dd4
DTSTART;VALUE=DATE:20260525
DTEND;VALUE=DATE:20260526
DESCRIPTION:
LOCATION:
SUMMARY:Memorial Day
END:VEVENT
BEGIN:VEVENT
DTSTAMP:20260423T000540Z
UID:ab66e48a-ed27-44f3-8a28-be8e6f5ee6cf
DTSTART;VALUE=DATE:20260619
DTEND;VALUE=DATE:20260620
DESCRIPTION:
LOCATION:
SUMMARY:Juneteenth
END:VEVENT
END:VCALENDAR
