BEGIN:VCALENDAR
VERSION:2.0
PRODID:icalendar-ruby
CALSCALE:GREGORIAN
BEGIN:VTIMEZONE
TZID:America/Chicago
BEGIN:DAYLIGHT
DTSTART:20260308T030000
TZOFFSETFROM:-0600
TZOFFSETTO:-0500
RRULE:FREQ=YEARLY;BYDAY=2SU;BYMONTH=3
TZNAME:CDT
END:DAYLIGHT
BEGIN:STANDARD
DTSTART:20261101T010000
TZOFFSETFROM:-0500
TZOFFSETTO:-0600
RRULE:FREQ=YEARLY;BYDAY=1SU;BYMONTH=11
TZNAME:CST
END:STANDARD
END:VTIMEZONE
BEGIN:VEVENT
DTSTAMP:20260423T125838Z
UID:411fa3d3-bdb7-467c-8c7d-24c53050ba01
DTSTART;VALUE=DATE:20260525
DTEND;VALUE=DATE:20260526
DESCRIPTION:
LOCATION:
SUMMARY:Memorial Day-No School
END:VEVENT
BEGIN:VEVENT
DTSTAMP:20260423T125838Z
UID:5722b4d2-f55d-42a7-be95-9e33cad71198
DTSTART;VALUE=DATE:20260601
DTEND;VALUE=DATE:20260602
DESCRIPTION:
LOCATION:
SUMMARY:End of Fourth Term-Last Day for Students
END:VEVENT
BEGIN:VEVENT
DTSTAMP:20260423T125838Z
UID:7ff451bc-cda1-454d-b2b8-2347b6ecfb86
DTSTART;VALUE=DATE:20260602
DTEND;VALUE=DATE:20260603
DESCRIPTION:
LOCATION:
SUMMARY:Records Day
END:VEVENT
BEGIN:VEVENT
DTSTAMP:20260423T125838Z
UID:86f5ac0d-c014-445b-8018-4ff1a6de1f72
DTSTART;VALUE=DATE:20260603
DTEND;VALUE=DATE:20260606
DESCRIPTION:
LOCATION:
SUMMARY:Summer School
END:VEVENT
BEGIN:VEVENT
DTSTAMP:20260423T125838Z
UID:f16d5d72-f0ea-41f6-bf73-d0605390a115
DTSTART;VALUE=DATE:20260608
DTEND;VALUE=DATE:20260613
DESCRIPTION:
LOCATION:
SUMMARY:Summer School
END:VEVENT
BEGIN:VEVENT
DTSTAMP:20260423T125838Z
UID:7209ebff-720c-43ca-9262-78e7fddea586
DTSTART;VALUE=DATE:20260615
DTEND;VALUE=DATE:20260620
DESCRIPTION:
LOCATION:
SUMMARY:Summer School
END:VEVENT
BEGIN:VEVENT
DTSTAMP:20260423T125838Z
UID:6203522e-d53d-42c3-aa28-faba95f27478
DTSTART;VALUE=DATE:20260622
DTEND;VALUE=DATE:20260624
DESCRIPTION:
LOCATION:
SUMMARY:Summer School
END:VEVENT
BEGIN:VEVENT
DTSTAMP:20260423T125838Z
UID:0fe26a0d-4483-4744-b48f-1ce7a74c1101
DTSTART;VALUE=DATE:20260727
DTEND;VALUE=DATE:20260801
DESCRIPTION:
LOCATION:
SUMMARY:Jump Start
END:VEVENT
BEGIN:VEVENT
DTSTAMP:20260423T125838Z
UID:7b98f32f-1cdb-43d2-8204-9fba24a1b123
DTSTART;VALUE=DATE:20260803
DTEND;VALUE=DATE:20260808
DESCRIPTION:
LOCATION:
SUMMARY:Jump Start
END:VEVENT
BEGIN:VEVENT
DTSTAMP:20260423T125838Z
UID:a7d66a81-21e9-4e9d-96f9-ff8490899254
DTSTART;VALUE=DATE:20260806
DTEND;VALUE=DATE:20260807
DESCRIPTION:
LOCATION:
SUMMARY:Elementary Back to School Night
END:VEVENT
BEGIN:VEVENT
DTSTAMP:20260423T125838Z
UID:4a34bfdd-226b-4462-a23d-c7986f682397
DTSTART;VALUE=DATE:20260806
DTEND;VALUE=DATE:20260807
DESCRIPTION:
LOCATION:
SUMMARY:Kindergarten/6th Grade/New High School Student Orientation
END:VEVENT
BEGIN:VEVENT
DTSTAMP:20260423T125838Z
UID:4cac2bf3-d71d-4863-83a3-3bd436687b7d
DTSTART;VALUE=DATE:20260812
DTEND;VALUE=DATE:20260813
DESCRIPTION:
LOCATION:
SUMMARY:First Day of School
END:VEVENT
BEGIN:VEVENT
DTSTAMP:20260423T125838Z
UID:58007db3-ff40-46d5-abb2-dab247eb4f1c
DTSTART;VALUE=DATE:20260813
DTEND;VALUE=DATE:20260814
DESCRIPTION:
LOCATION:
SUMMARY:HS/MS Back to School Night
END:VEVENT
BEGIN:VEVENT
DTSTAMP:20260423T125838Z
UID:f8646138-85e1-493e-ae4b-d4bc99c12e10
DTSTART;VALUE=DATE:20260907
DTEND;VALUE=DATE:20260908
DESCRIPTION:
LOCATION:
SUMMARY:Labor Day-No School
END:VEVENT
BEGIN:VEVENT
DTSTAMP:20260423T125838Z
UID:d1b8b4a2-cccf-4698-a403-0d8cfa103c92
DTSTART;VALUE=DATE:20260909
DTEND;VALUE=DATE:20260910
DESCRIPTION:
LOCATION:
SUMMARY:Elementary Progress Reports
END:VEVENT
BEGIN:VEVENT
DTSTAMP:20260423T125838Z
UID:9910b3f0-cb5a-47c0-b841-602fdf26b6e2
DTSTART;VALUE=DATE:20260924
DTEND;VALUE=DATE:20260926
DESCRIPTION:
LOCATION:
SUMMARY:5th Grade Camp Tecumseh
END:VEVENT
BEGIN:VEVENT
DTSTAMP:20260423T125838Z
UID:6b139bc2-80d3-41de-8235-48b0bbd1cbb5
DTSTART;VALUE=DATE:20261009
DTEND;VALUE=DATE:20261010
DESCRIPTION:
LOCATION:
SUMMARY:End of First Term
END:VEVENT
BEGIN:VEVENT
DTSTAMP:20260423T125838Z
UID:8f06105a-f275-42ca-848e-e96db3c1d749
DTSTART;VALUE=DATE:20261012
DTEND;VALUE=DATE:20261017
DESCRIPTION:
LOCATION:
SUMMARY:Fall Break-No School
END:VEVENT
BEGIN:VEVENT
DTSTAMP:20260423T125838Z
UID:a78885a4-e104-4640-842a-313e54a3da44
DTSTART;VALUE=DATE:20261019
DTEND;VALUE=DATE:20261020
DESCRIPTION:
LOCATION:
SUMMARY:First Day of Second Term
END:VEVENT
BEGIN:VEVENT
DTSTAMP:20260423T125838Z
UID:8321a3cb-8eed-4900-9642-9913122dc539
DTSTART:20261020T151500
DTEND:20261020T180000
DESCRIPTION:
LOCATION:
SUMMARY:MS/HS Fall Parent/Teacher Conferences 
END:VEVENT
BEGIN:VEVENT
DTSTAMP:20260423T125838Z
UID:ceb336ce-3bf7-4737-9efc-462f91a49dea
DTSTART:20261027T140000
DTEND:20261027T183000
DESCRIPTION:
LOCATION:
SUMMARY:Elementary-Parent/Teacher Conferences
END:VEVENT
BEGIN:VEVENT
DTSTAMP:20260423T125838Z
UID:0e2d9e29-cb31-413d-bc7e-69690e1ff95c
DTSTART;VALUE=DATE:20261118
DTEND;VALUE=DATE:20261119
DESCRIPTION:
LOCATION:
SUMMARY:Elementary Progress Reports
END:VEVENT
BEGIN:VEVENT
DTSTAMP:20260423T125838Z
UID:408a8cb0-9c8b-4e91-ad1c-d28f9cae5b3d
DTSTART;VALUE=DATE:20261125
DTEND;VALUE=DATE:20261128
DESCRIPTION:
LOCATION:
SUMMARY:Thanksgiving Vacation-No School
END:VEVENT
BEGIN:VEVENT
DTSTAMP:20260423T125838Z
UID:d5e590ea-4dd4-4a6f-a8b5-5ffece7b10b1
DTSTART;VALUE=DATE:20261215
DTEND;VALUE=DATE:20261216
DESCRIPTION:
LOCATION:
SUMMARY:Meister Elemntary Holiday Program
END:VEVENT
BEGIN:VEVENT
DTSTAMP:20260423T125838Z
UID:66c57d05-b6af-4bf7-beb4-3c0a05ca896c
DTSTART;VALUE=DATE:20261216
DTEND;VALUE=DATE:20261217
DESCRIPTION:
LOCATION:
SUMMARY:Evans Elementary Holiday Program
END:VEVENT
BEGIN:VEVENT
DTSTAMP:20260423T125838Z
UID:ac3e9757-0390-4fb3-9513-55ff81c1226a
DTSTART;VALUE=DATE:20261218
DTEND;VALUE=DATE:20261219
DESCRIPTION:
LOCATION:
SUMMARY:End of Second Term
END:VEVENT
BEGIN:VEVENT
DTSTAMP:20260423T125838Z
UID:674b0663-d107-4041-ab14-005615b9fbe4
DTSTART;VALUE=DATE:20261221
DTEND;VALUE=DATE:20270105
DESCRIPTION:
LOCATION:
SUMMARY:Winter Break-No School
END:VEVENT
BEGIN:VEVENT
DTSTAMP:20260423T125838Z
UID:e7268e82-d3bd-4d0c-86a6-19f656eaaec5
DTSTART;VALUE=DATE:20270104
DTEND;VALUE=DATE:20270105
DESCRIPTION:
LOCATION:
SUMMARY:Second Semester Orientation Day
END:VEVENT
BEGIN:VEVENT
DTSTAMP:20260423T125838Z
UID:d760282b-bf4a-48ad-a6e7-f3f8afc614f4
DTSTART;VALUE=DATE:20270105
DTEND;VALUE=DATE:20270106
DESCRIPTION:
LOCATION:
SUMMARY:Class Resumes-First Day of 3rd Term
END:VEVENT
BEGIN:VEVENT
DTSTAMP:20260423T125838Z
UID:e284d27f-aec2-4669-ac14-fa59bb15b72f
DTSTART;VALUE=DATE:20270118
DTEND;VALUE=DATE:20270119
DESCRIPTION:
LOCATION:
SUMMARY:Martin Luther King\, Jr. Day-No School
END:VEVENT
BEGIN:VEVENT
DTSTAMP:20260423T125838Z
UID:189927ee-63d3-43ca-8273-9b99c520707b
DTSTART;VALUE=DATE:20270203
DTEND;VALUE=DATE:20270204
DESCRIPTION:
LOCATION:
SUMMARY:Elementary Progress Reports
END:VEVENT
BEGIN:VEVENT
DTSTAMP:20260423T125838Z
UID:b0fc6401-2f50-4b38-a2ca-6681b395fe8c
DTSTART;VALUE=DATE:20270212
DTEND;VALUE=DATE:20270213
DESCRIPTION:
LOCATION:
SUMMARY:No School
END:VEVENT
BEGIN:VEVENT
DTSTAMP:20260423T125838Z
UID:10d418fc-6636-4a29-98fa-7a0ed011ee75
DTSTART;VALUE=DATE:20270215
DTEND;VALUE=DATE:20270216
DESCRIPTION:
LOCATION:
SUMMARY:Presidents' Day-No School
END:VEVENT
BEGIN:VEVENT
DTSTAMP:20260423T125838Z
UID:84ab5602-c7ed-4387-8650-2a3d746956ac
DTSTART;VALUE=DATE:20270319
DTEND;VALUE=DATE:20270320
DESCRIPTION:
LOCATION:
SUMMARY:End of 3rd Term
END:VEVENT
BEGIN:VEVENT
DTSTAMP:20260423T125838Z
UID:58022441-504d-4be0-9c2d-f73a9c6b67e4
DTSTART;VALUE=DATE:20270322
DTEND;VALUE=DATE:20270327
DESCRIPTION:
LOCATION:
SUMMARY:Spring Break-No School
END:VEVENT
BEGIN:VEVENT
DTSTAMP:20260423T125838Z
UID:055067d7-67ef-4d2c-bfee-59adf08fae26
DTSTART;VALUE=DATE:20270329
DTEND;VALUE=DATE:20270330
DESCRIPTION:
LOCATION:
SUMMARY:First Day of 4th Term
END:VEVENT
BEGIN:VEVENT
DTSTAMP:20260423T125838Z
UID:e19fe679-ed84-4a55-960f-96d5eee28fac
DTSTART:20270330T151500
DTEND:20270330T180000
DESCRIPTION:
LOCATION:
SUMMARY:MS/HS Spring Parent/Teacher Conferences
END:VEVENT
BEGIN:VEVENT
DTSTAMP:20260423T125838Z
UID:92abed09-1a1b-4d35-bd84-7d99933c31f2
DTSTART:20270406T140000
DTEND:20270406T183000
DESCRIPTION:
LOCATION:
SUMMARY:Elementary Parent/Teacher Conferences
END:VEVENT
BEGIN:VEVENT
DTSTAMP:20260423T125838Z
UID:8f34fe3d-699a-434f-9382-e351da816f46
DTSTART;VALUE=DATE:20270413
DTEND;VALUE=DATE:20270414
DESCRIPTION:
LOCATION:
SUMMARY:Kindergarten Registration
END:VEVENT
BEGIN:VEVENT
DTSTAMP:20260423T125838Z
UID:e488a2d8-cb42-4821-bc73-ed426805e865
DTSTART;VALUE=DATE:20270415
DTEND;VALUE=DATE:20270416
DESCRIPTION:
LOCATION:
SUMMARY:Kindergarten Registration
END:VEVENT
BEGIN:VEVENT
DTSTAMP:20260423T125838Z
UID:d8d03923-9e83-4fa5-8a15-0c8ddea06e7e
DTSTART;VALUE=DATE:20270430
DTEND;VALUE=DATE:20270501
DESCRIPTION:
LOCATION:
SUMMARY:Pre-Kindergarten Registration
END:VEVENT
BEGIN:VEVENT
DTSTAMP:20260423T125838Z
UID:752d6609-5530-4d77-88c7-59b0dadc7979
DTSTART;VALUE=DATE:20270527
DTEND;VALUE=DATE:20270528
DESCRIPTION:
LOCATION:
SUMMARY:End of 4th Term-Last Day for Students
END:VEVENT
BEGIN:VEVENT
DTSTAMP:20260423T125838Z
UID:f4dbacb9-1f36-4494-81d3-0f2c640f96cf
DTSTART;VALUE=DATE:20270528
DTEND;VALUE=DATE:20270529
DESCRIPTION:
LOCATION:
SUMMARY:Records Day
END:VEVENT
BEGIN:VEVENT
DTSTAMP:20260423T125838Z
UID:f600ad5a-b2d7-4881-bf28-be3c75590319
DTSTART;VALUE=DATE:20270601
DTEND;VALUE=DATE:20270605
DESCRIPTION:
LOCATION:
SUMMARY:Summer School
END:VEVENT
BEGIN:VEVENT
DTSTAMP:20260423T125838Z
UID:c2e7ab81-973e-481b-9b94-14721149aed1
DTSTART;VALUE=DATE:20270603
DTEND;VALUE=DATE:20270604
DESCRIPTION:
LOCATION:
SUMMARY:Graduation
END:VEVENT
BEGIN:VEVENT
DTSTAMP:20260423T125838Z
UID:6f1259e4-36bd-4b3a-9227-a88314bfe516
DTSTART;VALUE=DATE:20270607
DTEND;VALUE=DATE:20270612
DESCRIPTION:
LOCATION:
SUMMARY:Summer School
END:VEVENT
BEGIN:VEVENT
DTSTAMP:20260423T125838Z
UID:7da9edf8-9704-48ce-b2b2-6092c368c7d9
DTSTART;VALUE=DATE:20270614
DTEND;VALUE=DATE:20270619
DESCRIPTION:
LOCATION:
SUMMARY:Summer School
END:VEVENT
BEGIN:VEVENT
DTSTAMP:20260423T125838Z
UID:fa4b5962-832b-44c8-94bd-d6ec4ddf0490
DTSTART;VALUE=DATE:20270726
DTEND;VALUE=DATE:20270731
DESCRIPTION:
LOCATION:
SUMMARY:Jump Start
END:VEVENT
BEGIN:VEVENT
DTSTAMP:20260423T125838Z
UID:829cef74-3abb-4c08-8938-fd55f4ded4ba
DTSTART;VALUE=DATE:20270802
DTEND;VALUE=DATE:20270807
DESCRIPTION:
LOCATION:
SUMMARY:Jump Start
END:VEVENT
END:VCALENDAR
