BEGIN:VCALENDAR
VERSION:2.0
PRODID:icalendar-ruby
CALSCALE:GREGORIAN
BEGIN:VTIMEZONE
TZID:America/Chicago
BEGIN:DAYLIGHT
DTSTART:20260308T030000
TZOFFSETFROM:-0600
TZOFFSETTO:-0500
RRULE:FREQ=YEARLY;BYDAY=2SU;BYMONTH=3
TZNAME:CDT
END:DAYLIGHT
BEGIN:STANDARD
DTSTART:20261101T010000
TZOFFSETFROM:-0500
TZOFFSETTO:-0600
RRULE:FREQ=YEARLY;BYDAY=1SU;BYMONTH=11
TZNAME:CST
END:STANDARD
END:VTIMEZONE
BEGIN:VEVENT
DTSTAMP:20260424T075438Z
UID:fb2f3e66-c2c5-420f-8f3e-26e45067b83d
DTSTART:20260424T190000
DTEND:20260424T200000
DESCRIPTION:
LOCATION:
SUMMARY:OJSHS Spring Concert
END:VEVENT
BEGIN:VEVENT
DTSTAMP:20260424T075438Z
UID:f8dfe951-d893-40f4-a97b-407b5ccee465
DTSTART;VALUE=DATE:20260427
DTEND;VALUE=DATE:20260428
DESCRIPTION:
LOCATION:
SUMMARY:No School- Teacher Inservice
END:VEVENT
BEGIN:VEVENT
DTSTAMP:20260424T075438Z
UID:593ef3e0-7d01-4ac8-9e94-c02d6276411a
DTSTART:20260427T150000
DTEND:20260427T200000
DESCRIPTION:
LOCATION:
SUMMARY:Boys JV Golf @ Fredonia
END:VEVENT
BEGIN:VEVENT
DTSTAMP:20260424T075438Z
UID:6212afe5-4318-41ef-8c01-5b1415948d1c
DTSTART:20260427T150000
DTEND:20260427T160000
DESCRIPTION:
LOCATION:Neodesha\, KS 66757\, USA
SUMMARY:JH Track @ Neodesha
END:VEVENT
BEGIN:VEVENT
DTSTAMP:20260424T075438Z
UID:d22dc9e3-3199-49f8-9508-f927a0bad7e0
DTSTART:20260427T163000
DTEND:20260427T173000
DESCRIPTION:
LOCATION:Central Heights High School\, 3521 Ellis Rd\, Richmond\, KS 66080\
 , USA
SUMMARY:HS Softball/Baseball @ Central Heights
END:VEVENT
BEGIN:VEVENT
DTSTAMP:20260424T075438Z
UID:9f5cff98-2c29-4c0c-83c9-7dd8d682633e
DTSTART;VALUE=DATE:20260428
DTEND;VALUE=DATE:20260429
DESCRIPTION:
LOCATION:Pittsburg\, KS 66762\, USA
SUMMARY:Kay Club @ Special Olympics 
END:VEVENT
BEGIN:VEVENT
DTSTAMP:20260424T075438Z
UID:1c15af7a-558b-4aff-9cc7-8daaac4aed42
DTSTART:20260428T140000
DTEND:20260428T150000
DESCRIPTION:
LOCATION:Caney Valley High School\, 601 Bullpup Blvd\, Caney\, KS 67333\, U
 SA
SUMMARY:HS Track @ Caney
END:VEVENT
BEGIN:VEVENT
DTSTAMP:20260424T075438Z
UID:39924a50-f9a8-4fc2-a4f2-798bbf6ebbe5
DTSTART:20260428T180000
DTEND:20260428T190000
DESCRIPTION:
LOCATION:
SUMMARY:NeHi PTO Meeting
END:VEVENT
BEGIN:VEVENT
DTSTAMP:20260424T075438Z
UID:d7b0ca33-e0e4-47c1-99b1-58ed9c190b80
DTSTART;VALUE=DATE:20260429
DTEND;VALUE=DATE:20260430
DESCRIPTION:
LOCATION:Pittsburg State University\, 1701 S Broadway St\, Pittsburg\, KS 6
 6762\, USA
SUMMARY:Special Olympics Track & Field @ PSU
END:VEVENT
BEGIN:VEVENT
DTSTAMP:20260424T075438Z
UID:a981d1c9-ac1b-440c-b40d-5be8c6e1ff98
DTSTART:20260429T180000
DTEND:20260429T193000
DESCRIPTION:
LOCATION:
SUMMARY:FCA Event
END:VEVENT
BEGIN:VEVENT
DTSTAMP:20260424T075438Z
UID:3a4a97c0-de60-41c7-8272-4b90e27d0ea0
DTSTART:20260430T130000
DTEND:20260430T180000
DESCRIPTION:
LOCATION:
SUMMARY:Boys V Golf @ LCHS-Oswego Golf Course
END:VEVENT
BEGIN:VEVENT
DTSTAMP:20260424T075438Z
UID:bb2be6d9-9085-45ab-be99-88bc469ff984
DTSTART:20260430T150000
DTEND:20260430T160000
DESCRIPTION:
LOCATION:Neosho Heights Elementary School\, 100 Oregon St\, Oswego\, KS 673
 56\, USA
SUMMARY:JH Track @ Oswego
END:VEVENT
BEGIN:VEVENT
DTSTAMP:20260424T075438Z
UID:861e26f1-5142-4d7a-8a6f-19640fa020ea
DTSTART:20260430T163000
DTEND:20260430T173000
DESCRIPTION:
LOCATION:Southeast High School\, 126 W 400 Hwy\, Cherokee\, KS 66724\, USA
SUMMARY:HS Softball/Baseball @ Southeast
END:VEVENT
BEGIN:VEVENT
DTSTAMP:20260424T075438Z
UID:6a3e1487-be12-4f78-9359-03242b7a0e50
DTSTART;VALUE=DATE:20260501
DTEND;VALUE=DATE:20260502
DESCRIPTION:
LOCATION:
SUMMARY:Plant Sale
END:VEVENT
BEGIN:VEVENT
DTSTAMP:20260424T075438Z
UID:7ee9adc0-15f6-4f83-a417-49d5fd7997d8
DTSTART;VALUE=DATE:20260502
DTEND;VALUE=DATE:20260503
DESCRIPTION:
LOCATION:
SUMMARY:State Forensics
END:VEVENT
BEGIN:VEVENT
DTSTAMP:20260424T075438Z
UID:a2334eb5-49c9-4be9-a710-4140fdca3852
DTSTART:20260504T150000
DTEND:20260504T200000
DESCRIPTION:
LOCATION:
SUMMARY:Boys JV Golf @ Eureka
END:VEVENT
BEGIN:VEVENT
DTSTAMP:20260424T075438Z
UID:272865b1-eb36-44d1-9cbc-4d6b269ceb6a
DTSTART:20260504T150000
DTEND:20260504T160000
DESCRIPTION:
LOCATION:
SUMMARY:JH Track League Meet @ Altamont
END:VEVENT
BEGIN:VEVENT
DTSTAMP:20260424T075438Z
UID:772798f0-1fdf-419e-a17a-08c611268f79
DTSTART:20260505T153000
DTEND:20260505T163000
DESCRIPTION:
LOCATION:Northeast Highway 400\, NE Hwy 400\, Cherokee\, KS\, USA
SUMMARY:HS Track @ Northeast
END:VEVENT
BEGIN:VEVENT
DTSTAMP:20260424T075438Z
UID:985ee0f2-86c2-4260-b0bf-739ee74aab0c
DTSTART:20260505T163000
DTEND:20260505T193000
DESCRIPTION:
LOCATION:
SUMMARY:Softball V/JV @ Coffeyville
END:VEVENT
BEGIN:VEVENT
DTSTAMP:20260424T075438Z
UID:2928d7e8-9540-4ded-835e-bee7e0edc441
DTSTART;VALUE=DATE:20260507
DTEND;VALUE=DATE:20260508
DESCRIPTION:
LOCATION:
SUMMARY:DARE Day 5th Grade
END:VEVENT
BEGIN:VEVENT
DTSTAMP:20260424T075438Z
UID:9a4c9e7f-401f-4544-b95c-af0d40027e68
DTSTART:20260507T130000
DTEND:20260507T180000
DESCRIPTION:
LOCATION:
SUMMARY:Boys Golf Vs Uniontown @ Fort Scott
END:VEVENT
BEGIN:VEVENT
DTSTAMP:20260424T075438Z
UID:bf178e6b-de06-4581-8a76-cc2b0d935a55
DTSTART:20260507T160000
DTEND:20260507T170000
DESCRIPTION:
LOCATION:Marais Des Cygnes Valley Middle/High School\, 508 Main St\, Melver
 n\, KS 66510\, USA
SUMMARY:HS Softball/Baseball @ Marais des Cygnes
END:VEVENT
BEGIN:VEVENT
DTSTAMP:20260424T075438Z
UID:e33694df-6c89-45a8-8beb-52817cabab17
DTSTART:20260508T163000
DTEND:20260508T200000
DESCRIPTION:
LOCATION:
SUMMARY:BsB/SfB @ St. Paul-Make up
END:VEVENT
BEGIN:VEVENT
DTSTAMP:20260424T075438Z
UID:acefd895-6ddf-4709-a7a0-dcb8e201034c
DTSTART:20260509T140000
DTEND:20260509T160000
DESCRIPTION:
LOCATION:
SUMMARY:HS Graduation
END:VEVENT
BEGIN:VEVENT
DTSTAMP:20260424T075438Z
UID:102e8b90-4c54-487f-8af8-29e4d00b5145
DTSTART;VALUE=DATE:20260511
DTEND;VALUE=DATE:20260512
DESCRIPTION:
LOCATION:
SUMMARY:8th Grade Trip
END:VEVENT
BEGIN:VEVENT
DTSTAMP:20260424T075438Z
UID:9a8501ed-2b1e-46b5-ad78-2b4fff26b6eb
DTSTART;VALUE=DATE:20260511
DTEND;VALUE=DATE:20260514
DESCRIPTION:
LOCATION:
SUMMARY:BsB/SfB Regionals
END:VEVENT
BEGIN:VEVENT
DTSTAMP:20260424T075438Z
UID:2efe105e-b169-4d3c-b108-dce6cc575379
DTSTART:20260511T130000
DTEND:20260511T170000
DESCRIPTION:
LOCATION:
SUMMARY:Golf League Meet TBA
END:VEVENT
BEGIN:VEVENT
DTSTAMP:20260424T075438Z
UID:f2329ea6-0707-4126-be95-1abed121f7e9
DTSTART:20260512T190000
DTEND:20260512T200000
DESCRIPTION:
LOCATION:
SUMMARY:8th Grade Promotion Ceremony
END:VEVENT
BEGIN:VEVENT
DTSTAMP:20260424T075438Z
UID:e3f8b603-514a-4d81-88e2-3c2c6a1273d6
DTSTART;VALUE=DATE:20260514
DTEND;VALUE=DATE:20260515
DESCRIPTION:
LOCATION:
SUMMARY:Baseball Regionals
END:VEVENT
BEGIN:VEVENT
DTSTAMP:20260424T075438Z
UID:928fbee9-0b23-4775-ad05-306119b4e33f
DTSTART;VALUE=DATE:20260514
DTEND;VALUE=DATE:20260515
DESCRIPTION:
LOCATION:
SUMMARY:End of 4th Qtr\; Dismiss @ Noon\; Teacher Workday
END:VEVENT
BEGIN:VEVENT
DTSTAMP:20260424T075438Z
UID:a664632d-cb7e-4659-85f1-5a180235fcfb
DTSTART:20260515T080000
DTEND:20260515T110000
DESCRIPTION:
LOCATION:
SUMMARY:HS Cheer Tryouts
END:VEVENT
BEGIN:VEVENT
DTSTAMP:20260424T075438Z
UID:ed55fea6-5727-445c-8dbf-41dee56b0a82
DTSTART:20260515T133000
DTEND:20260515T190000
DESCRIPTION:
LOCATION:Neosho Heights Elementary School\, 100 Oregon St\, Oswego\, KS 673
 56\, USA
SUMMARY:TRL Track Meet @ Oswego
END:VEVENT
BEGIN:VEVENT
DTSTAMP:20260424T075438Z
UID:2e066be7-1018-4cd2-b288-6868b0a7b233
DTSTART:20260516T110000
DTEND:20260516T150000
DESCRIPTION:
LOCATION:
SUMMARY:HS Cheer Tryouts
END:VEVENT
BEGIN:VEVENT
DTSTAMP:20260424T075438Z
UID:79ec13e8-f2ae-4d78-9ec7-e34121778f17
DTSTART;VALUE=DATE:20260518
DTEND;VALUE=DATE:20260519
DESCRIPTION:
LOCATION:
SUMMARY:Softball Regionals
END:VEVENT
BEGIN:VEVENT
DTSTAMP:20260424T075438Z
UID:c510e556-749d-4b7b-88ad-d6fd9d1c39fb
DTSTART;VALUE=DATE:20260519
DTEND;VALUE=DATE:20260520
DESCRIPTION:
LOCATION:
SUMMARY:Baseball Regionals
END:VEVENT
BEGIN:VEVENT
DTSTAMP:20260424T075438Z
UID:003628fc-fb75-4d2a-88ba-a35dffc8ec53
DTSTART;VALUE=DATE:20260519
DTEND;VALUE=DATE:20260521
DESCRIPTION:
LOCATION:
SUMMARY:Golf Regionals TBA
END:VEVENT
BEGIN:VEVENT
DTSTAMP:20260424T075438Z
UID:402c3290-5a84-412e-a92b-b50bdda13005
DTSTART;VALUE=DATE:20260520
DTEND;VALUE=DATE:20260521
DESCRIPTION:
LOCATION:
SUMMARY:Softball Regionals
END:VEVENT
BEGIN:VEVENT
DTSTAMP:20260424T075438Z
UID:2f1ab4fc-3ffd-4f12-a681-1c0c76a1f633
DTSTART;VALUE=DATE:20260521
DTEND;VALUE=DATE:20260523
DESCRIPTION:
LOCATION:
SUMMARY:HS Track Regionals / TBA
END:VEVENT
BEGIN:VEVENT
DTSTAMP:20260424T075438Z
UID:c86ac83f-e8d9-4753-bf41-5db1763f935a
DTSTART:20260521T120000
DTEND:20260521T123000
DESCRIPTION:Field Events: 12:00PM\nPrelims: 2:00PM
LOCATION:Humboldt\, KS 66748\, USA
SUMMARY:HS Track Regionals @ Humboldt
END:VEVENT
BEGIN:VEVENT
DTSTAMP:20260424T075438Z
UID:2cc69ec3-0819-41b2-a4f6-039b7751da2e
DTSTART;VALUE=DATE:20260525
DTEND;VALUE=DATE:20260527
DESCRIPTION:
LOCATION:
SUMMARY:Golf State TBA
END:VEVENT
BEGIN:VEVENT
DTSTAMP:20260424T075438Z
UID:58e82974-6d2c-472b-982e-d86abb52491d
DTSTART;VALUE=DATE:20260529
DTEND;VALUE=DATE:20260531
DESCRIPTION:
LOCATION:
SUMMARY:State Track
END:VEVENT
BEGIN:VEVENT
DTSTAMP:20260424T075438Z
UID:007f44f6-a61f-4266-b1f5-295fa324eea6
DTSTART;VALUE=DATE:20260811
DTEND;VALUE=DATE:20260812
DESCRIPTION:
LOCATION:
SUMMARY:Faculty Pictures
END:VEVENT
BEGIN:VEVENT
DTSTAMP:20260424T075438Z
UID:6442a641-7238-4bcb-9318-ae8de52a77cf
DTSTART:20260825T170000
DTEND:20260825T200000
DESCRIPTION:
LOCATION:Parsons\, KS\, USA
SUMMARY:HS VB Jamboree (Parsons/Fredonia)
END:VEVENT
BEGIN:VEVENT
DTSTAMP:20260424T075438Z
UID:c2392214-aaae-42cd-9c01-75f42ef4d7af
DTSTART:20260828T180000
DTEND:20260828T210000
DESCRIPTION:
LOCATION:Madison\, KS 66860\, USA
SUMMARY:HS Football Jamboree @ Madison 
END:VEVENT
BEGIN:VEVENT
DTSTAMP:20260424T075438Z
UID:91d2eab0-6bba-4c69-8d65-05c44822d262
DTSTART:20260901T170000
DTEND:20260901T193000
DESCRIPTION:
LOCATION:Baxter Springs\, KS 66713\, USA
SUMMARY:V/JV Volleyball Tri @ Baxter w/Liberal
END:VEVENT
BEGIN:VEVENT
DTSTAMP:20260424T075438Z
UID:63921850-f79a-4295-894c-f613aeb5e833
DTSTART:20260903T170000
DTEND:20260903T200000
DESCRIPTION:
LOCATION:Fort Scott\, KS 66701\, USA
SUMMARY:HS VB V/JV @ Ft. Scott
END:VEVENT
BEGIN:VEVENT
DTSTAMP:20260424T075438Z
UID:ccb4446f-94b6-4773-9064-681d1ed1bdd0
DTSTART:20260904T190000
DTEND:20260904T213000
DESCRIPTION:
LOCATION:Oswego\, KS\, USA
SUMMARY:HS Football vs Marmaton Valley (MS Fall Activities Recognition Half
 time) 
END:VEVENT
BEGIN:VEVENT
DTSTAMP:20260424T075438Z
UID:43b569a8-e0f9-4265-a753-d72edfed4c71
DTSTART:20260908T170000
DTEND:20260908T180000
DESCRIPTION:
LOCATION:Southeast Kansas\, KS\, USA
SUMMARY:VB V/JV @ Southeast w/ Altoona
END:VEVENT
BEGIN:VEVENT
DTSTAMP:20260424T075438Z
UID:40c5bec0-1132-4833-8752-24554ae66972
DTSTART:20260910T170000
DTEND:20260910T203000
DESCRIPTION:
LOCATION:Oswego Junior Senior High School\, 1501 Tomahawk Trail\, Oswego\, 
 KS 67356\, USA
SUMMARY:VB V/JV vs Caney Valley
END:VEVENT
BEGIN:VEVENT
DTSTAMP:20260424T075438Z
UID:255ca4d6-80b0-4e37-800e-0acd57290f95
DTSTART:20260911T190000
DTEND:20260911T213000
DESCRIPTION:
LOCATION:Saint Paul\, St Paul\, KS 66771\, USA
SUMMARY:HS Football @ St. Paul 
END:VEVENT
BEGIN:VEVENT
DTSTAMP:20260424T075438Z
UID:18ddd56c-00ee-4133-b1e0-46929512a198
DTSTART:20260912T083000
DTEND:20260912T150000
DESCRIPTION:
LOCATION:Humboldt\, KS 66748\, USA
SUMMARY:HS VB JV @ Humboldt Tournament
END:VEVENT
BEGIN:VEVENT
DTSTAMP:20260424T075438Z
UID:5d899f82-428c-49e2-a94b-0768f6ff02a5
DTSTART:20260914T180000
DTEND:20260914T210000
DESCRIPTION:
LOCATION:Oswego\, KS\, USA
SUMMARY:HS JV Football vs Southeast 
END:VEVENT
BEGIN:VEVENT
DTSTAMP:20260424T075438Z
UID:dd7078b8-591d-4838-8f81-ba99c4a3bde3
DTSTART:20260915T170000
DTEND:20260915T180000
DESCRIPTION:
LOCATION:Uniontown\, KS 66779\, USA
SUMMARY:HS VB @ Uniontown w/ Marmaton
END:VEVENT
BEGIN:VEVENT
DTSTAMP:20260424T075438Z
UID:99235443-fd36-4171-a82f-f99452fceee9
DTSTART:20260917T170000
DTEND:20260917T213000
DESCRIPTION:
LOCATION:Oswego Junior Senior High School\, 1501 Tomahawk Trail\, Oswego\, 
 KS 67356\, USA
SUMMARY:HS VB vs Parsons/Columbus
END:VEVENT
BEGIN:VEVENT
DTSTAMP:20260424T075438Z
UID:4f054709-234a-4ae4-90f6-db53d45f49f5
DTSTART:20260918T190000
DTEND:20260918T213000
DESCRIPTION:
LOCATION:Colony\, KS 66015\, USA
SUMMARY:HS Football @ Colony-Crest
END:VEVENT
BEGIN:VEVENT
DTSTAMP:20260424T075438Z
UID:c04caa86-66f9-42ca-a768-91d1928bbd2e
DTSTART:20260919T080000
DTEND:20260919T090000
DESCRIPTION:
LOCATION:Oswego\, KS\, USA
SUMMARY:HS VB Oswego Tournament 
END:VEVENT
BEGIN:VEVENT
DTSTAMP:20260424T075438Z
UID:5e88e7a8-3b5b-4f1f-b3b8-5b5a24951a85
DTSTART:20260922T170000
DTEND:20260922T213000
DESCRIPTION:
LOCATION:Crest Unified School District 479\, KS\, USA
SUMMARY:HS VB @ Crest w/ Erie
END:VEVENT
BEGIN:VEVENT
DTSTAMP:20260424T075438Z
UID:59a58bdf-45bf-459d-8011-f7867ff156e8
DTSTART:20260924T170000
DTEND:20260924T213000
DESCRIPTION:
LOCATION:Oswego Junior Senior High School\, 1501 Tomahawk Trail\, Oswego\, 
 KS 67356\, USA
SUMMARY:HS VB vs Sedan/Caney
END:VEVENT
BEGIN:VEVENT
DTSTAMP:20260424T075438Z
UID:402fce0b-0c38-4ed5-9055-3438bbb00cb1
DTSTART;VALUE=DATE:20260925
DTEND;VALUE=DATE:20260926
DESCRIPTION:
LOCATION:
SUMMARY:OJSHS Picture Day
END:VEVENT
BEGIN:VEVENT
DTSTAMP:20260424T075438Z
UID:3d030ba1-c510-4cfd-b174-80de477d64e1
DTSTART:20260925T190000
DTEND:20260925T213000
DESCRIPTION:
LOCATION:Oswego\, KS\, USA
SUMMARY:HS Football @ Yates Center (Little Indians Cheer)
END:VEVENT
BEGIN:VEVENT
DTSTAMP:20260424T075438Z
UID:a82267b8-5a2e-4341-b093-83c2661c83a4
DTSTART:20260926T080000
DTEND:20260926T180000
DESCRIPTION:
LOCATION:Burlington\, KS 66839\, USA
SUMMARY:HS VB @ Burlington Tournament 
END:VEVENT
BEGIN:VEVENT
DTSTAMP:20260424T075438Z
UID:fb8e326b-54be-4f98-a764-b139f07e1e8b
DTSTART:20260928T180000
DTEND:20260928T203000
DESCRIPTION:
LOCATION:Yates Center\, KS 66783\, USA
SUMMARY:HS JV Football @ Yates Center
END:VEVENT
BEGIN:VEVENT
DTSTAMP:20260424T075438Z
UID:3be47853-a221-4c17-808f-4bc618154ee8
DTSTART:20260929T170000
DTEND:20260929T180000
DESCRIPTION:
LOCATION:Oswego Junior Senior High School\, 1501 Tomahawk Trail\, Oswego\, 
 KS 67356\, USA
SUMMARY:HS VB vs Yates Center/St Paul
END:VEVENT
BEGIN:VEVENT
DTSTAMP:20260424T075438Z
UID:cdb19901-042b-4192-96d7-4a8228191fe8
DTSTART;VALUE=DATE:20261001
DTEND;VALUE=DATE:20261002
DESCRIPTION:
LOCATION:
SUMMARY:LB CO Using Board Room 8 to 11:30 am
END:VEVENT
BEGIN:VEVENT
DTSTAMP:20260424T075438Z
UID:81a7c22b-cae6-4965-82e4-df591902d8fb
DTSTART:20261001T170000
DTEND:20261001T213000
DESCRIPTION:
LOCATION:Oswego Junior Senior High School\, 1501 Tomahawk Trail\, Oswego\, 
 KS 67356\, USA
SUMMARY:HS VB vs Jayhawk/Chetopa
END:VEVENT
BEGIN:VEVENT
DTSTAMP:20260424T075438Z
UID:195df211-aab6-4fa3-9f26-d649ca591cca
DTSTART:20261002T190000
DTEND:20261002T213000
DESCRIPTION:
LOCATION:Howard\, KS 67349\, USA
SUMMARY:HS Football @ West Elk 
END:VEVENT
BEGIN:VEVENT
DTSTAMP:20260424T075438Z
UID:6d4ed696-e758-468b-8e5c-b3cb6a0ee8c7
DTSTART:20261005T180000
DTEND:20261005T203000
DESCRIPTION:
LOCATION:Oswego\, KS\, USA
SUMMARY:HS JV Football Vs West Elk
END:VEVENT
BEGIN:VEVENT
DTSTAMP:20260424T075438Z
UID:0cd83d57-987a-41fd-8d2f-49bb74629d42
DTSTART:20261006T170000
DTEND:20261006T203000
DESCRIPTION:
LOCATION:LeRoy\, KS 66857\, USA
SUMMARY:HS VB @ SCC w/ Northeast
END:VEVENT
BEGIN:VEVENT
DTSTAMP:20260424T075438Z
UID:720d65f9-b8d9-423c-9462-716a43cc531e
DTSTART:20261009T140000
DTEND:20261009T150000
DESCRIPTION:
LOCATION:Downtown 
SUMMARY:Homecoming Downtown Parade 
END:VEVENT
BEGIN:VEVENT
DTSTAMP:20260424T075438Z
UID:103a4f83-d68d-436d-81c5-c78b3115d0ad
DTSTART:20261009T190000
DTEND:20261009T213000
DESCRIPTION:
LOCATION:Oswego\, KS\, USA
SUMMARY:HS Football Vs Erie (HOMECOMING)
END:VEVENT
BEGIN:VEVENT
DTSTAMP:20260424T075438Z
UID:0958117c-e63f-4fb5-92c7-c0d3ff2c3052
DTSTART:20261010T080000
DTEND:20261010T170000
DESCRIPTION:
LOCATION:Pittsburg\, KS 66762\, USA
SUMMARY:HS VB @ Colgan Tournament 
END:VEVENT
BEGIN:VEVENT
DTSTAMP:20260424T075438Z
UID:3a246fe1-5a42-4118-9700-1bf17721b18f
DTSTART:20261012T180000
DTEND:20261012T203000
DESCRIPTION:
LOCATION:Erie\, KS 66733\, USA
SUMMARY:HS JV Football @ Erie
END:VEVENT
BEGIN:VEVENT
DTSTAMP:20260424T075438Z
UID:49609eee-4690-49a7-ab93-80de0709cb5b
DTSTART:20261013T170000
DTEND:20261013T213000
DESCRIPTION:
LOCATION:Oswego Junior Senior High School\, 1501 Tomahawk Trail\, Oswego\, 
 KS 67356\, USA
SUMMARY:HS VB vs Pleasanton/Central Heights
END:VEVENT
BEGIN:VEVENT
DTSTAMP:20260424T075438Z
UID:fc5c6ee4-241d-4989-9c23-f04dde81bbab
DTSTART:20261016T190000
DTEND:20261016T213000
DESCRIPTION:
LOCATION:Southeast High School\, 126 W 400 Hwy\, Cherokee\, KS 66724\, USA
SUMMARY:HS Football @ Southeast
END:VEVENT
BEGIN:VEVENT
DTSTAMP:20260424T075438Z
UID:6f55bd8d-1ee7-40b1-b8a1-768c1d981b42
DTSTART:20261023T190000
DTEND:20261023T213000
DESCRIPTION:
LOCATION:Oswego\, KS\, USA
SUMMARY:HS Football Vs Central Burden (Sr Night)
END:VEVENT
BEGIN:VEVENT
DTSTAMP:20260424T075438Z
UID:ad7e55f2-0853-475b-aced-a7bed30d9acb
DTSTART:20261029T190000
DTEND:20261029T213000
DESCRIPTION:
LOCATION:TBD
SUMMARY:HS Football Bracket Play TBD
END:VEVENT
BEGIN:VEVENT
DTSTAMP:20260424T075438Z
UID:a1d4ea95-176b-4b4b-9521-7d1bd1a9793a
DTSTART;VALUE=DATE:20261104
DTEND;VALUE=DATE:20261105
DESCRIPTION:
LOCATION:
SUMMARY:OJSHS Picture Retakes
END:VEVENT
BEGIN:VEVENT
DTSTAMP:20260424T075438Z
UID:ab756d3f-c2d9-45a1-8ba0-4a26d174b1c5
DTSTART;VALUE=DATE:20261111
DTEND;VALUE=DATE:20261112
DESCRIPTION:
LOCATION:
SUMMARY:Career  Fair
END:VEVENT
BEGIN:VEVENT
DTSTAMP:20260424T075438Z
UID:1e3cfc10-bdaf-4904-9098-cffb9ffca573
DTSTART:20261111T073000
DTEND:20261111T083000
DESCRIPTION:
LOCATION:
SUMMARY:SVCA Veteran's Breakfast
END:VEVENT
BEGIN:VEVENT
DTSTAMP:20260424T075438Z
UID:c1bc7205-bbed-4279-bc22-aea15613dd9d
DTSTART;VALUE=DATE:20261120
DTEND;VALUE=DATE:20261121
DESCRIPTION:
LOCATION:
SUMMARY:SVCA Thanksgiving Dinner
END:VEVENT
BEGIN:VEVENT
DTSTAMP:20260424T075438Z
UID:52210db6-7918-41d0-b1bf-78e5e8055dd8
DTSTART;VALUE=DATE:20270210
DTEND;VALUE=DATE:20270211
DESCRIPTION:
LOCATION:
SUMMARY:OJH Spring Picture Day
END:VEVENT
END:VCALENDAR
