BEGIN:VCALENDAR
VERSION:2.0
PRODID:icalendar-ruby
CALSCALE:GREGORIAN
BEGIN:VTIMEZONE
TZID:America/New_York
BEGIN:DAYLIGHT
DTSTART:20260308T030000
TZOFFSETFROM:-0500
TZOFFSETTO:-0400
RRULE:FREQ=YEARLY;BYDAY=2SU;BYMONTH=3
TZNAME:EDT
END:DAYLIGHT
BEGIN:STANDARD
DTSTART:20261101T010000
TZOFFSETFROM:-0400
TZOFFSETTO:-0500
RRULE:FREQ=YEARLY;BYDAY=1SU;BYMONTH=11
TZNAME:EST
END:STANDARD
END:VTIMEZONE
BEGIN:VEVENT
DTSTAMP:20260419T131929Z
UID:b056c7d6-af5f-47b2-a248-cdf7a8f46d51
DTSTART;VALUE=DATE:20260421
DTEND;VALUE=DATE:20260423
DESCRIPTION:
LOCATION:
SUMMARY:Ohio State Test (Math): 3rd-5th Grade
END:VEVENT
BEGIN:VEVENT
DTSTAMP:20260419T131929Z
UID:197bdbfb-2931-49f8-bb7d-887cfd1e2552
DTSTART;VALUE=DATE:20260422
DTEND;VALUE=DATE:20260423
DESCRIPTION:
LOCATION:
SUMMARY:End of Course (Biology)
END:VEVENT
BEGIN:VEVENT
DTSTAMP:20260419T131929Z
UID:463e9b99-0997-4775-825e-6392223556d1
DTSTART;VALUE=DATE:20260422
DTEND;VALUE=DATE:20260424
DESCRIPTION:
LOCATION:
SUMMARY:Ohio State Test (Science): 8th Grade
END:VEVENT
BEGIN:VEVENT
DTSTAMP:20260419T131929Z
UID:ee217cf9-db88-4932-9eb5-69936e534d79
DTSTART:20260422T160000
DTEND:20260422T190000
DESCRIPTION:
LOCATION:
SUMMARY:High School / Middle School Parent Teacher Conference
END:VEVENT
BEGIN:VEVENT
DTSTAMP:20260419T131929Z
UID:7bb26d4c-9747-493c-b62b-5c277b87288d
DTSTART;VALUE=DATE:20260423
DTEND;VALUE=DATE:20260424
DESCRIPTION:
LOCATION:
SUMMARY:End of Course (US History + Gov't)
END:VEVENT
BEGIN:VEVENT
DTSTAMP:20260419T131929Z
UID:ae819929-c9cb-40cd-9577-f759d2bc52b1
DTSTART:20260423T160000
DTEND:20260423T210000
DESCRIPTION:
LOCATION:
SUMMARY:HS Track and Field Meet @ CNE
END:VEVENT
BEGIN:VEVENT
DTSTAMP:20260419T131929Z
UID:9c688689-c035-40fc-87ee-3a9aee9f6893
DTSTART:20260427T160000
DTEND:20260427T203000
DESCRIPTION:
LOCATION:
SUMMARY:HS Track and Field Meet @ Lynchburg
END:VEVENT
BEGIN:VEVENT
DTSTAMP:20260419T131929Z
UID:f0593502-f36d-412c-a23c-27e49777815b
DTSTART;VALUE=DATE:20260428
DTEND;VALUE=DATE:20260430
DESCRIPTION:
LOCATION:
SUMMARY:Ohio State Tests (Science): 5th Grade
END:VEVENT
BEGIN:VEVENT
DTSTAMP:20260419T131929Z
UID:6edeac10-6d23-4234-89d6-983c312324b2
DTSTART;VALUE=DATE:20260429
DTEND;VALUE=DATE:20260430
DESCRIPTION:
LOCATION:
SUMMARY:End of Course Exams (Algebra + Geometry Part 1)
END:VEVENT
BEGIN:VEVENT
DTSTAMP:20260419T131929Z
UID:944baf7a-1e7d-4e63-9477-cb043c334bd1
DTSTART;VALUE=DATE:20260429
DTEND;VALUE=DATE:20260502
DESCRIPTION:
LOCATION:
SUMMARY:Ohio FFA Convention 
END:VEVENT
BEGIN:VEVENT
DTSTAMP:20260419T131929Z
UID:6fe93db2-0799-4eea-84c3-3a965e4d7933
DTSTART;VALUE=DATE:20260429
DTEND;VALUE=DATE:20260501
DESCRIPTION:
LOCATION:
SUMMARY:Ohio State Tests (Math): 6th-8th Grade
END:VEVENT
BEGIN:VEVENT
DTSTAMP:20260419T131929Z
UID:aae8eda2-7f0b-49f7-9c60-a4788541c04d
DTSTART:20260429T160000
DTEND:20260429T203000
DESCRIPTION:
LOCATION:
SUMMARY:HS Track and Field Meet @ North Adams
END:VEVENT
BEGIN:VEVENT
DTSTAMP:20260419T131929Z
UID:3b10d799-d94a-4b53-b012-1778955231b5
DTSTART;VALUE=DATE:20260430
DTEND;VALUE=DATE:20260501
DESCRIPTION:
LOCATION:
SUMMARY:End of Course Exams (Algebra + Geometry Part 2)
END:VEVENT
BEGIN:VEVENT
DTSTAMP:20260419T131929Z
UID:6e3786dd-0a45-4139-8ee8-34e08b22c36f
DTSTART:20260501T163000
DTEND:20260501T210000
DESCRIPTION:
LOCATION:
SUMMARY:HS Track and Field Meet @ Blanchester
END:VEVENT
BEGIN:VEVENT
DTSTAMP:20260419T131929Z
UID:f4b7dd8b-51c4-46c5-bccb-8c6c61e5ffc4
DTSTART:20260503T133000
DTEND:20260503T153000
DESCRIPTION:Art Fair will be held in the HS/MS Cafeteria
LOCATION:
SUMMARY:Spring Art Fair
END:VEVENT
BEGIN:VEVENT
DTSTAMP:20260419T131929Z
UID:ce48292e-cd02-4a5f-9e32-629b52ec7526
DTSTART:20260503T140000
DTEND:20260503T170000
DESCRIPTION:Concerts for 6th Grade\, MS and HS Bands will be held in the HS
  Gym.
LOCATION:
SUMMARY:Band Concerts - HS and Middle School
END:VEVENT
BEGIN:VEVENT
DTSTAMP:20260419T131929Z
UID:5050d5c5-0dc3-4aeb-972b-db3a0d9394a7
DTSTART:20260507T160000
DTEND:20260507T210000
DESCRIPTION:
LOCATION:
SUMMARY:HS Track and Field Meet @ Leesburg/Fairfield
END:VEVENT
BEGIN:VEVENT
DTSTAMP:20260419T131929Z
UID:b68f4bf6-df30-4968-b1a4-01a8131c1836
DTSTART;VALUE=DATE:20260511
DTEND;VALUE=DATE:20260512
DESCRIPTION:
LOCATION:
SUMMARY:1 Hour Late Start for Students
END:VEVENT
BEGIN:VEVENT
DTSTAMP:20260419T131929Z
UID:1f40d135-11e1-4c93-9d3e-30e3163c9183
DTSTART:20260512T160000
DTEND:20260512T213000
DESCRIPTION:
LOCATION:
SUMMARY:HS Track and Field Meet - SHAC League Meet @ Manchester
END:VEVENT
BEGIN:VEVENT
DTSTAMP:20260419T131929Z
UID:db3cd50a-494d-4d33-b1fa-edee1ca57e21
DTSTART:20260513T190000
DTEND:20260513T200000
DESCRIPTION:
LOCATION:
SUMMARY:Southern Hills Career Tech Completion Ceremony 
END:VEVENT
BEGIN:VEVENT
DTSTAMP:20260419T131929Z
UID:e8968102-b913-4f85-9d96-8b3dae139a96
DTSTART:20260515T190000
DTEND:20260515T200000
DESCRIPTION:
LOCATION:
SUMMARY:Fayetteville-Perry High School - Graduation
END:VEVENT
BEGIN:VEVENT
DTSTAMP:20260419T131929Z
UID:2095c0ab-3e1d-499a-95b1-171d8a4bd723
DTSTART:20260520T080000
DTEND:20260520T140000
DESCRIPTION:
LOCATION:
SUMMARY:Last Day for Students - Early Dismissal
END:VEVENT
BEGIN:VEVENT
DTSTAMP:20260419T131929Z
UID:8365495f-d44b-4173-b806-161a801c4e5a
DTSTART;VALUE=DATE:20260521
DTEND;VALUE=DATE:20260522
DESCRIPTION:
LOCATION:
SUMMARY:Teacher Work Day 
END:VEVENT
BEGIN:VEVENT
DTSTAMP:20260419T131929Z
UID:5a88c6e3-d14e-468e-9228-f18bbf0b3e84
DTSTART;VALUE=DATE:20260522
DTEND;VALUE=DATE:20260523
DESCRIPTION:
LOCATION:
SUMMARY:District In-Service
END:VEVENT
BEGIN:VEVENT
DTSTAMP:20260419T131929Z
UID:792127f5-b15f-43df-8584-69def1e2b1c9
DTSTART;VALUE=DATE:20260525
DTEND;VALUE=DATE:20260526
DESCRIPTION:
LOCATION:
SUMMARY:4th Quarter Report Cards Posted
END:VEVENT
END:VCALENDAR
